Workbook

Sheet Norme
B2: Norme
A4: 1 | B4: ="+CK01A2 [10]" | C4: ="Ferestre performante energetic din PVC cu geam termoizolant cu coeficient de transfer termic de max. 1,1 W/m2K, deschideri oscilobatante, dotate cu fante de circulatie controlata a aerului" | D4: ="mp"
A5: 1.L | B5: =" 0002447" | C5: ="Fereastra performanta energetic din PVC cu geam termoizolant cu coeficient de transfer termic maxim 1,1 W/m2K, deschideri oscilobatante, dotata cu fante pentru aerisirea controlata a spatiilor" | D5: ="mp"
A6: 2 | B6: ="+CK02A1 [18]" | C6: ="Usi performante energetic din PVC cu geam termoizolant cu coeficient de transfer termic de max. 1,1 W/m2K, dotate cu fante de circulatie controlata a aerului" | D6: ="mp"
A7: 2.L | B7: =" 0002488" | C7: ="Usa performanta energetic din PVC cu geam termoizolant cu coeficient de transfer termic maxim 1,1 W/m2K, dotata cu fante pentru aerisirea controlata a spatiilor" | D7: ="mp"
A8: 3 | B8: ="+CK01A2 [11]" | C8: ="Ferestre performante energetic din aluminiu cu geam termoizolant cu coeficient de transfer termic de max. 1,1 W/m2K, deschideri oscilobatante, dotate cu fante de circulatie controlata a aerului" | D8: ="mp"
A9: 3.L | B9: =" 0002448" | C9: ="Fereastra performanta energetic din aluminiu cu geam termoizolant cu coeficient de transfer termic maxim 1,1 W/m2K, deschideri oscilobatante, dotata cu fante pentru aerisirea controlata a spatiilor" | D9: ="mp"
A10: 4 | B10: ="+CK02A1 [19]" | C10: ="Usi performante energetic din aluminiu cu geam termoizolant cu coeficient de transfer termic de max. 1,1 W/m2K, dotate cu fante de circulatie controlata a aerului" | D10: ="mp"
A11: 4.l | B11: =" 0002489" | C11: ="Usa performanta energetic din aluminiu cu geam termoizolant cu coeficient de transfer termic maxim 1,1 W/m2K, dotata cu fante pentru aerisirea controlata a spatiilor" | D11: ="mp"
A12: 5 | B12: IZF35D+[ 20 ] | C12: Sistem termoizolant pentru elemente de fatadarealizat cu polistiren expandat de 15 cm grosime (agrementat in Romania, cu o durabilitate garantata de min 10 ani) pentru zona de camp, strat finisaj exterior realizat cu tencuiala decorativa. | D12: mp
A13: 6 | B13: IZF35D+[ 57 ] | C13: Sistem termoizolant pentru elemente de fatada realizat cu vata minerala bazaltica de 15 cm grosime (agrementat in Romania, cu o durabilitate garantata de min 10 ani), strat finisaj exterior realizat cu tencuiala decorativa. | D13: mp
A14: 7 | B14: +IZF01O4 [13] | C14: Sistem termoizolant realizat cu placi termoizolante de 15 cm grosime cu coeficient de transfer termic de maxim 0,038 W/mK la tavane exterioare, strat finisaj vopsea lavabila | D14: mp
A15: 8 | B15: +IZF01O4 [22] | C15: Sistem termoizolant realizat cu polistiren expandat de 15 cm grosime la interior la tavane strat finisaj vopsea lavabila | D15: mp
A16: 9 | B16: IZF35D+ [28] | C16: Sistem termoizolant pentru elemente de fatada realizat cu polistiren extrudat de 3 cm grosime (agrementat in Romania, cu o durabilitate garantata de min 10 ani) pentru zona spaletilor, strat finisaj exterior realizat cu tencuiala decorativa | D16: mp
A17: 10 | B17: IZF35D+ [32] | C17: Sistem termoizolant pentru elemente de fatadarealizat cu polistiren extrudat de 3 cm grosime (agrementat in Romania, cu o durabilitate garantata de min 10 ani) la spaleti, pentru zona de glaf exterior | D17: mp
A18: 11 | B18: IZF34B+ [3] | C18: Sistem termoizolant pentru elemente de soclu si pereti de subsol realizat cu polistiren extrudat de 10 cm (agrem. in Romania, durabilitate garantata de min 10 ani ), la partea supraterana a soclului, strat finisaj tencuiala mozaicata pentru soclu. | D18: mp
A19: 12 | B19: IZF35D+ [29] | C19: Sistem termoizolant pentru elemente de fatada realizat cu polistiren expandat de 15 cm grosime (agrem. in Romania, cu o durabilitate garantata de min 10 ani) pentru zona de camp fixat cu adeziv poliuretanic, strat finisaj exterior realizat cu tencuiala decorativa. | D19: mp
A20: 13 | B20: IZF35D+ [79] | C20: Sistem termoizolant pentru fatada realizat cu vata minerala bazaltica de 15 cm fixata cu adeziv poliuretanic(agrementat in Romania, cu o durabilitate garantata de min 10 ani), strat finisaj exterior realizat cu tencuiala decorativa | D20: mp
A21: 14 | B21: IZF35D+ [78] | C21: Sistem termoizolant pentru elemente de fatada realizat cu vata minerala bazaltica de 15 cm grosime (agrementat in Romania, cu o durabilitate garantata de min 10 ani), strat finisaj exterior masa de spaclu sub sarpante false | D21: mp
A22: 15 | B22: NMB012391 [2] | C22: Spor manopera - pentru lucrari de termoizolare pereti exteriori cu alpinisti utilitari | D22: mp
A23: 16 | B23: CK26A# [38] | C23: Glafuri interioare din PVC montate la ferestre | D23: m | F23: aceeasi norma si la spatii comune si al individuale
A24: 17 | B24: CL20A1 [4] | C24: Confectii metalice diverse din profile metalice, otel beton, montate la parapetii balcoanelor pentru sustineri si consolidari | D24: kg
A25: 17.L | B25: 20027713 | C25: Confectii metalice diverse din profile laminate, tevi rectangulare, tabla, etc confectionate conform detaliu | D25: kg
A26: 18 | B26: CD18A% [5] | C26: Placare cu placi de ciment armate cu plasa din fibra de sticla tip placocem, 1 strat, la parapetii balcoanelor si logiilor | D26: mp
A27: 19 | B27: VB13A1[ 5 ] | C27: Rama cu jaluzele fixe cu plasa avand perimetrul de 700-1400 mm pentru aerisire | D27: buc
A28: 19.L | B28: 20027736 | C28: Grila de ventilare cu plasa dimensiunea 20x20cm | D28: buc
A29: 20 | B29: CC09A1 [19] | C29: Ancorarea chimica a armaturilor FI 12mm L= 150mm | D29: buc
A30: 21 | B30: CE15C1 [4] | C30: Glaf pentru colturi din tabla zincata de 0,5 mm grosime | D30: m
A31: 22 | B31: RPCXA01A | C31: Sapatura manuala pamant spatii limitate <1m. sub...1. 5m. adinc la sant canale etc. | D31: mc
A32: 23 | B32: CA01A1 | C32: Turnarea betonului simplu în fundatii continue, izolate si socluri cu volum pâna la 3 mc, inclusiv | D32: mc
A33: 23.L | B33: 2100971 | C33: Beton de ciment B 300 stas 3622 | D33: mc
A34: 24 | B34: CE18A1 | C34: Astereala la învelitori sau la doliile invelitorilor din tigla si azbociment scinduri din rasinoase | D34: mp
A35: 25 | B35: IZF10C1 [22] | C35: Termoizolatie realizata cu polistiren expandat ignifugat EPS 120 de 20 cm la terase | D35: mp
A36: 26 | B36: IZF10C1 [23] | C36: Termoizolatie realizata cu polistiren expandat ignifugat EPS 120 de 5 cm la aticul de la terase | D36: mp
A37: 27 | B37: IZF10C1 [24] | C37: Termoizolatie realizata cu polistiren expandat ignifugat EPS 120 de 5 cm la gurile de aerisire de la terase | D37: mp
A38: 28 | B38: CG01D1 [14] | C38: Strat de sapa turnata la terase grosime medie 6 cm supratata fin driscuita | D38: mp
A39: 28.L | B39: 2101200 | C39: Mortar tencuiala M 100 (var pasta) s 1030 | D39: mc
A40: 29 | B40: CG01D1 [3] | C40: Strat de protectie a polistirenului executat din mortar de ciment marca M 100-T de 6 cm grosime medie, cu suprafata driscuita la planseul peste ultimul nivel, in pod | D40: mp
A41: 29.L | B41: 2101200 | C41: Mortar tencuiala M 100 (var pasta) s 1030 | D41: mc
A42: 30 | B42: IZF28A+ [1] | C42: Strat de separatie din folie PVC | D42: mp
...

Sheet Structura Investitie
A1: ="NrCrt" | B1: ="Tip" | C1: Denumire | D1: ="Foaie" | E1: ="NrCrt Parinte"
A2: ="2" | B2: ="I" | C2: [0004]-Nasaud 29.07.2022 - Sablon Operatiunea A3 - Renovarea energetica moderasa sau aprofundata a cladirilor rezidentiale multifamiliale
A3: ="3" | B3: ="O" | C3: [1]-Asigurare utilitati | E3: ="2"
A4: ="4" | B4: ="D" | C4: [1.1]-Racorduri pentru statia de incarcare masini electrice | D4: ="D_001" | E4: ="3"
A5: ="5" | B5: ="O" | C5: [2]-Reabilitare termica a elementelor de anvelopa a cladirii | E5: ="2"
A6: ="6" | B6: ="D" | C6: [2.1]-Inlocuirea tamplariei exterioare existente - spatii comune | D6: ="D_002" | E6: ="5"
A7: ="7" | B7: ="D" | C7: [2.2]-Inlocuirea tamplariei interioare catre spatii neincalzite - spatii comune | D7: ="D_003" | E7: ="5"
A8: ="8" | B8: ="D" | C8: [2.3]-Inlocuirea tamplariei exterioare existente - spatii individuale | D8: ="D_004" | E8: ="5"
A9: ="9" | B9: ="D" | C9: [2.4]-Inlocuirea tamplariei exterioare existente - spatii individuale cu alte destinatii diverse | D9: ="D_005" | E9: ="5"
A10: ="10" | B10: ="D" | C10: [2.5]-Izolarea termica a peretilor exteriori | D10: ="D_006" | E10: ="5"
A11: ="11" | B11: ="D" | C11: [2.6]-Termohidroizolarea planseului peste ultimul nivel pe terasa | D11: ="D_007" | E11: ="5"
A12: ="12" | B12: ="D" | C12: [2.7]-Termoizolarea planseului peste ultimul nivel in pod | D12: ="D_008" | E12: ="5"
A13: ="13" | B13: ="D" | C13: [2.8]-Inlocuirea invelitorii | D13: ="D_009" | E13: ="5"
A14: ="14" | B14: ="D" | C14: [2.9]-Inchiderea balcoanelor/logiilor - tamplarie si parapet | D14: ="D_010" | E14: ="5"
A15: ="15" | B15: ="D" | C15: [2.10]-Izolarea termica a planseului peste subsol | D15: ="D_011" | E15: ="5"
A16: ="16" | B16: ="D" | C16: [2.11]-Izolarea termica a peretilor catre spatii comune neincalzite | D16: ="D_012" | E16: ="5"
A17: ="17" | B17: ="O" | C17: [3]-Instalare/reabilitare/ modernizare sisteme climatizare/ventilare | E17: ="2"
A18: ="18" | B18: ="D" | C18: [3.1]-Ventilare naturala sau mecanica prin dispozitive, fante, grile aerisire | D18: ="D_013" | E18: ="17"
A19: ="19" | B19: ="O" | C19: [4]-Reabilitare/modernizare a a instalatiilor de iluminat in cladiri | E19: ="2"
A20: ="20" | B20: ="D" | C20: [4.1]-Inlocuirea instalatiei de iluminat la spatiile comune | D20: ="D_014" | E20: ="19"
A21: ="21" | B21: ="D" | C21: [4.2]-Instalarea de corpuri de iluminat | D21: ="D_015" | E21: ="19"
A22: ="22" | B22: ="O" | C22: [5]-Sisteme alternative de producere a energiei electrice | E22: ="2"
A23: ="23" | B23: ="D" | C23: [5.1]-Instalatie electrica panouri fotovoltaice | D23: ="D_016" | E23: ="22"
A24: ="24" | B24: ="D" | C24: [5.2]-Montaj echipamente - sistem fotovoltaic | D24: ="D_017" | E24: ="22"
A25: ="25" | B25: ="O" | C25: [6]-Echiparea cladirilor cu statii de incarcare pentru masini electrice | E25: ="2"
A26: ="26" | B26: ="D" | C26: [6.1]-Pregatire puncte de reîncarcare pentru vehicule electrice | D26: ="D_018" | E26: ="25"
A27: ="27" | B27: ="D" | C27: [6.2]-Amenajare statie de incarcare masini electrice | D27: ="D_019" | E27: ="25"
A28: ="28" | B28: ="D" | C28: [6.3]-Montaj utilaj - statie de incarcare masini electrice | D28: ="D_020" | E28: ="25"
A29: ="29" | B29: ="O" | C29: [7]-Alte tipuri de lucrari | E29: ="2"
A30: ="30" | B30: ="D" | C30: [7.1]-Repararea trotuarelor de protectie | D30: ="D_021" | E30: ="29"
A31: ="31" | B31: ="D" | C31: [7.2]-Repararea acoperisului tip terasa/sarpanta inclusiv inlocuirea sistemului de colectare/evacuare a apelor meteorice | D31: ="D_022" | E31: ="29"
A32: ="32" | B32: ="D" | C32: [7.3]-Construirea acoperisului tip sarpanta cu invelitoare tigla metalica | D32: ="D_023" | E32: ="29"
A33: ="33" | B33: ="D" | C33: [7.4]-Demontarea si remontarea instalatiilor si echipamentelor de pe fatada si terasa | D33: ="D_024" | E33: ="29"
A34: ="34" | B34: ="D" | C34: [7.5]-Repararea elementelor de constructii care prezinta pericol de desprindere sau afecteaza functionalitatea cladirii | D34: ="D_025" | E34: ="29"
A35: ="35" | B35: ="D" | C35: [7.6]-Refacerea finisajelor interioare in zonele de interventie - la spatii comune | D35: ="D_026" | E35: ="29"
A36: ="36" | B36: ="D" | C36: [7.7]-Refacerea finisajelor interioare in zonele de interventie - la spatii individuale | D36: ="D_027" | E36: ="29"
A37: ="37" | B37: ="D" | C37: [7.8]-Refacerea finisajelor interioare in zonele de interventie - la spatii individuale cu destinatii diverse | D37: ="D_028" | E37: ="29"
A38: ="38" | B38: ="D" | C38: [7.9]-Instalatia de paratraznet si priza de pamant | D38: ="D_029" | E38: ="29"
A39: ="39" | B39: ="D" | C39: [7.10]-Montaj utilaj PDA | D39: ="D_030" | E39: ="29"
A40: ="40" | B40: ="O" | C40: [8]-Organizare de santier | E40: ="2"
...

Sheet Date cladire
A2: Adresa bloc
A3: Cladire vecina | B3: 88.62 | C3: SCRIE: CLADIRE VECINA
A4: Perimetru parter (fara usi acces in bloc) | B4: 350.84 | C4: CALCULEAZA: PERIMETRU PLAN PARTER - SUMA(LATIME USA SC) - CLADIRE VECINA
A5: Perimetru parter | B5: 2.65 | C5: SCRIE: PERIMETRU PLAN PARTER
A6: Perimetru etaj | B6: 1754.2 | C6: SCRIE: PERIMETRU PLAN ETAJ CURENT
A7: Perimetru atic | B7: 1691.33 | C7: SCRIE: PERIMETRU PLAN TERASA
A8: Petrimetru invelitoare | B8: 1261.67 | C8: SCRIE: PERIMETRU PLAN INVELITOARE
A9: Perimetru etaj tehnic | B9: 316.65 | C9: SCRIE: PERIMETRU PLAN ETAJ TEHNIC
A10: H parter | B10: 79.76 | C10: SCRIE: INALTIME PARTER
A11: H cladire de la pardoseala etaj I pana la partea superioara atic | B11: 0 | C11: SCRIE: H CLAD DE LA E1 PANA LA ATIC EXISTENT
A12: Inaltime cladire (de la cota 0.00, pana la cota superioara a aticului dupa suprainaltare) | B12: 0 | C12: SCRIE: HCLAD DE LA 0.00 PANA LA ATIC SUPRAINALTAT
A13: Inaltime atic (la interior, dupa suprainaltare) | B13: 0 | C13: SCRIE: INALTIME ATIC DUPA SUPRAINALTARE
A14: Inaltime sarpanta | B14: 0 | C14: SCRIE: valoarea INALTIME SARPANTA iar daca nu exista scrie 0
... A29: Balcoane - 3 laturi (latime + 2 x inaltime) | B29: 0 | C29: CALCULEAZA: SUMA(LATIME BALCON SI) + SUMA(LATIME BALCON SC) + 2*SUMA(INALTIME BALCON SI) + 2*SUMA(INALTIME BALCON SC)
A30: Nr guri de aerisire pod/terasa
A31: Nr de ap in bloc
A32: Cantitate ferestre spatii comune care se inlocuieste | B32: 0 | C32: CALCULEAZA: SUMA(F SC INLOC)
A33: Cantitate usi spatii comune care se inlocuieste | B33: 0 | C33: CALCULEAZA: SUMA(U SC INLOC)
A34: Cantitate balcoane spatii comune care se inlocuiesc (fara G->PVC) | B34: 0 | C34: CALCULEAZA: SUMA(F SC BALCON INLOCUIT)
A35: Cantitate balcone spatii comune care se propun noi (G->PVC) | B35: 0 | C35: CALCULEAZA: SUMA(F SC BALCON INLOCUIT)
A36: Cantitate balcone spatii comune care se demonteaza si ramane gol(B.E->G) | B36: 0 | C36: CALCULEAZA: SUMA(B SC DEMONTAT)
A37: Spaleti spatii comune (perimetru ferestre + balcone + usi pe 3 laturi) - tamplarie la care se intervine | B37: 0 | C37: CALCULEAZA: (SUMA(LATIME USA SC) + 2*SUMA(INALTIME USA SC)) + (2*SUMA(LATIME FERESTRE SC) + 2*SUMA(INALTIME FERESTRE SC))
A38: Cantitate ferestre spatii individuale care se inlocuieste | B38: 0 | C38: CALCULEAZA: SUMA(F SI INLOC)
A39: Cantitate usi spatii individuale care se inlocuieste | B39: 0 | C39: CALCULEAZA: SUMA(U SI INLOC)
A40: Cantitate balcoane spatii individuale care se inlocuiesc (fara G->PVC) | B40: 0 | C40: CALCULEAZA: SUMA(FI BALCON INLOCUIT)/2
A41: Cantitate balcone spatii individuale care se propun noi (G->PVC) | B41: 0 | C41: CALCULEAZA: SUMA(FI BALCON INLOCUIT)/2
A42: Cantitate panel despartitor
A43: Cantitate balcone spatii individuale care se demonteaza si ramane gol (B.E->G)
A44: Spaleti spatii individuale (perimetru ferestre + balcone + usi pe 3 laturi) - tamplarie la care se intervine | B44: 0 | C44: CALCULEAZA: (2*SUMA(LATIME FERESTRE SI) + 2*SUMA(INALTIME FERESTRE SI)) + (2*SUMA(LATIME BALCON SI) + 2*SUMA(INALTIME BALCON SI))
A45: Cantitate ferestre SAD care se inlocuiesc | B45: 0 | C45: scrie:0
A46: Cantitate usi SAD care se inlocuiesc | B46: 0 | C46: scrie:0
A47: Spaleti SAD (perimetru ferestre + usi pe 3 laturi) - tamplarie la care se intervine | B47: 0 | C47: scrie:0
A48: Numar panouri fotovoltaice (de pe docs)
A49: Numar statii incarcare (de pe docs)
A50: Chepeng acces pod (buc)
A51: Chepeng acces terasa (buc)
A52: Supafata laterala parter pentru schela | B52: 0 | C52: CALCULEAZA: SUMA(FATADA) + SUMA(SUPRAFATA SOCLU)
A53: Supratafa laterala etaj pentru schela | B53: 0 | C53: scrie 0
A54: Suprafata laterala etaj tehnic pentr schela | B54: 0 | C54: scie 0
A55: Suprafata laterala parter pentru termosistem | B55: 0 | C55: CALCULEAZA: SUMA(FATADA) - SUMA(F SI) - SUMA(F BALCON) - SUMA(U SC) - SUMA(F SC)
...

Sheet D_001
B1: ='Structura Investitie'!D4 | C1: ='Structura Investitie'!C4
A3: ="NrCrt" | B3: ="Simbol" | C3: Denumire | D3: ="UM" | E3: ="Consum" | F3: ="Cantitate" | G3: ='Date cladire'!B2 | H3: ='Date cladire'!D2
A4: ="2" | B4: ="0001745" | C4: Racord electric pentru statie de incarcare masini electrice de min 22kw | D4: ="buc" | E4: 1.0 | F4: =E4 | G4: ='Date cladire'!B49 | H4: ='Date cladire'!D49
A5: ="3" | B5: ="0001746" | C5: Racord date pentru statia de incarcare electrica masini | D5: ="buc" | E5: 1.0 | F5: =E5 | G5: ='Date cladire'!B49 | H5: ='Date cladire'!D49
C7: (nu prindem statii chiar daca sunt, se prind separat)

Sheet D_002
B1: ='Structura Investitie'!D6 | C1: ='Structura Investitie'!C6
D2: ='Date cladire'!A83 | E2: ='Date cladire'!B83
A3: ="NrCrt" | B3: ="Simbol" | C3: Denumire | D3: ="UM" | E3: ="Consum" | F3: ="Cantitate" | G3: ='Date cladire'!B2 | H3: ='Date cladire'!D2
A4: ="1" | B4: ="RPCT33A1 [18]" | C4: Demontarea usilor si ferestrelor din lemn, metal sau PVC | D4: ="mp" | E4: 1.0 | F4: =E4 | G4: =$E$2*('Date cladire'!B32+'Date cladire'!B33) | H4: =$E$2*('Date cladire'!D32+'Date cladire'!D33)
A5: ="2" | B5: +CK01A2 [10] | C5: Ferestre performante energetic din PVC cu geam termoizolant cu coeficient de transfer termic de max. 1,1 W/m2K, deschideri oscilobatante, dotate cu fante de circulatie controlata a aerului - 0002447 Fereastra performanta energetic din PVC cu geam termoizolant cu coeficient de transfer termic maxim 1,1 W/m2K, deschideri oscilobatante, dotata cu fante pentru aerisirea controlata a spatiilor | D5: ="mp" | E5: 1.0 | F5: =E5 | G5: =$E$2*('Date cladire'!B32) | H5: =$E$2*('Date cladire'!D32)
A6: ="3" | B6: +CK02A1 [18] | C6: Usi performante energetic din PVC cu geam termoizolant cu coeficient de transfer termic de max. 1,1 W/m2K, dotate cu fante de circulatie controlata a aerului -0002488 - Usa performanta energetic din PVC cu geam termoizolant cu coeficient de transfer termic maxim 1,1 W/m2K, dotata cu fante pentru aerisirea controlata a spatiilor | D6: ="mp" | E6: 1.0 | F6: =E6 | G6: =$E$2*'Date cladire'!B33 | H6: =$E$2*'Date cladire'!D33
A7: 4 | B7: CK19A# [1] | C7: Ferestre aluminiu cu unul sau mai multe canaturi, cu un rand de sticla suprafata tocului...<= 3,00 mp,la constructii cu h<= 35 m - 2500381 - Fereastra cu deschidere spre interior din profile de aluminiu cu un rand sticla | D7: ="mp" | G7: =$E$2*0
A8: 5 | B8: ="RPCT33A1 [17]" | C8: Demontarea chepeng acces in pod sau pe terasa | D8: ="mp" | E8: 1.0 | F8: =E8 | G8: 1
A9: 6 | B9: ="CO14A# [4]" | C9: Chepeng pentru acces pe terasa - montare - 0001227 Chepeng acces terasa suprafata de min 1mp | D9: ="buc" | E9: 1.0 | F9: =E9 | G9: 1
A10: 7 | B10: ="CO14A# [1]" | C10: Chepeng cu rezistenta la foc min 60 minute dimensiunea 1x1m montat pentru acces in pod - 6312122 Chepeng acces pod cu rezistenta la foc min 60 minute dimensiunea 1x1m | D10: ="buc" | E10: 1.0 | F10: =E10 | G10: =1.1*'Date cladire'!B50 | H10: =1.1*'Date cladire'!D50
A11: 8 | B11: ="CK22XC [1]" | C11: Montare dispozitiv autoinchidere la usi - 4203897 Dispozitiv de autoinchidere pentru usi | D11: ="buc" | E11: 1.0 | F11: =E11 | G11: 0 | N11: si la subsol punem
A12: 9 | B12: ="TRA02A10" | C12: Transportul rutier al materialelor,semifabricatelor cu autocamionul pe dist.= ...10 km. | D12: ="tona" | E12: 1.0 | F12: =E12 | G12: =(G4*30+G5*60+G6*60+G7*50+G8*75+G9*90+G10*90)/1000
A13: 10 | B13: ="TRI1AC13E1" | C13: Descarcare...materiale gr.c-ambalate,10-50 kg deplas.prin purtare pina la 10m,asez..auto-rampa,teren ctg | D13: ="tona" | E13: 1.0 | F13: =E13 | G13: =G12
A14: ="10" | B14: ="TRB05A22" | C14: Transportul materialelor prin purtat direct.materiale...incomode sub 25 kg distanta 20m | D14: ="tona" | E14: 1.0 | F14: =E14 | G14: =G12

Sheet D_003
B1: ='Structura Investitie'!D7 | C1: ='Structura Investitie'!C7
D2: ='Date cladire'!A83 | E2: ='Date cladire'!B83
A3: ="NrCrt" | B3: ="Simbol" | C3: Denumire | D3: ="UM" | E3: ="Consum" | F3: ="Cantitate" | G3: ='Date cladire'!B2 | H3: ='Date cladire'!D2
A4: ="1" | B4: ="RPCT33A1 [18]" | C4: Demontarea usilor si ferestrelor din lemn, metal sau PVC | D4: ="mp" | E4: 1.0 | F4: =E4 | G4: =$E$2*'Date cladire'!B72 | H4: =$E$2*'Date cladire'!D72
A5: ="2" | B5: +CK02A1 [18] | C5: Usi performante energetic din PVC cu geam termoizolant cu coeficient de transfer termic de max. 1,1 W/m2K, dotate cu fante de circulatie controlata a aerului -0002488 - Usa performanta energetic din PVC cu geam termoizolant cu coeficient de transfer termic maxim 1,1 W/m2K, dotata cu fante pentru aerisirea controlata a spatiilor | D5: ="mp" | E5: 1.0 | F5: =E5 | G5: =G4
A6: 3 | B6: ="TRA02A10" | C6: Transportul rutier al materialelor,semifabricatelor cu autocamionul pe dist.= ...10 km. | D6: ="tona" | E6: 1.0 | F6: =E6 | G6: =(G4*30+G5*60)/1000
A7: 4 | B7: ="TRI1AC13E1" | C7: Descarcare...materiale gr.c-ambalate,10-50 kg deplas.prin purtare pina la 10m,asez..auto-rampa,teren ctg | D7: ="tona" | E7: 1.0 | F7: =E7 | G7: =G6
A8: 5 | B8: ="TRB05A22" | C8: Transportul materialelor prin purtat direct.materiale...incomode sub 25 kg distanta 20m | D8: ="tona" | E8: 1.0 | F8: =E8 | G8: =G6

Sheet D_004
B1: ='Structura Investitie'!D8 | C1: ='Structura Investitie'!C8
D2: ='Date cladire'!A83 | E2: ='Date cladire'!B83
A3: ="NrCrt" | B3: ="Simbol" | C3: Denumire | D3: ="UM" | E3: ="Consum" | F3: ="Cantitate" | G3: ='Date cladire'!B2 | H3: ='Date cladire'!D2
A4: ="1" | B4: ="RPCT33A1 [18]" | C4: Demontarea usilor si ferestrelor din lemn, metal sau PVC | D4: ="mp" | E4: 1.0 | F4: =E4 | G4: =$E$2*'Date cladire'!B38+'Date cladire'!B39 | H4: =$E$2*'Date cladire'!D38+'Date cladire'!D39
A5: ="2" | B5: +CK01A2 [10] | C5: Ferestre performante energetic din PVC cu geam termoizolant cu coeficient de transfer termic de max. 1,1 W/m2K, deschideri oscilobatante, dotate cu fante de circulatie controlata a aerului - 0002447 Fereastra performanta energetic din PVC cu geam termoizolant cu coeficient de transfer termic maxim 1,1 W/m2K, deschideri oscilobatante, dotata cu fante pentru aerisirea controlata a spatiilor | D5: ="mp" | E5: 1.0 | F5: =E5 | G5: =$E$2*'Date cladire'!B38 | H5: =$E$2*'Date cladire'!D38
A6: ="3" | B6: +CK02A1 [18] | C6: Usi performante energetic din PVC cu geam termoizolant cu coeficient de transfer termic de max. 1,1 W/m2K, dotate cu fante de circulatie controlata a aerului -0002488 - Usa performanta energetic din PVC cu geam termoizolant cu coeficient de transfer termic maxim 1,1 W/m2K, dotata cu fante pentru aerisirea controlata a spatiilor | D6: ="mp" | E6: 1.0 | F6: =E6 | G6: =$E$2*'Date cladire'!B39 | H6: =$E$2*'Date cladire'!D39
A7: 4 | B7: ="TRA02A10" | C7: Transportul rutier al materialelor,semifabricatelor cu autocamionul pe dist.= ...10 km. | D7: ="tona" | E7: 1.0 | F7: =E7 | G7: =(G4*30+G5*60+G6*60)/1000
A8: 5 | B8: ="TRI1AC13E1" | C8: Descarcare...materiale gr.c-ambalate,10-50 kg deplas.prin purtare pina la 10m,asez..auto-rampa,teren ctg | D8: ="tona" | E8: 1.0 | F8: =E8 | G8: =G7
A9: 6 | B9: ="TRB05A22" | C9: Transportul materialelor prin purtat direct.materiale...incomode sub 25 kg distanta 20m | D9: ="tona" | E9: 1.0 | F9: =E9 | G9: =G7

Sheet D_005
B1: ='Structura Investitie'!D9 | C1: ='Structura Investitie'!C9
D2: ='Date cladire'!A83 | E2: ='Date cladire'!B83
A3: ="NrCrt" | B3: ="Simbol" | C3: Denumire | D3: ="UM" | E3: ="Consum" | F3: ="Cantitate" | G3: ='Date cladire'!B2 | H3: ='Date cladire'!D2
A4: ="1" | B4: ="RPCT33A1 [18]" | C4: Demontarea usilor si ferestrelor din lemn, metal sau PVC | D4: ="mp" | E4: 1.0 | F4: =E4 | G4: =$E$2*('Date cladire'!B45+'Date cladire'!B46) | H4: =$E$2*('Date cladire'!D45+'Date cladire'!D46)
A5: ="2" | B5: +CK01A2 [10] | C5: Ferestre performante energetic din PVC cu geam termoizolant cu coeficient de transfer termic de max. 1,1 W/m2K, deschideri oscilobatante, dotate cu fante de circulatie controlata a aerului - 0002447 Fereastra performanta energetic din PVC cu geam termoizolant cu coeficient de transfer termic maxim 1,1 W/m2K, deschideri oscilobatante, dotata cu fante pentru aerisirea controlata a spatiilor | D5: ="mp" | E5: 1.0 | F5: =E5 | G5: =$E$2*'Date cladire'!B45 | H5: =$E$2*'Date cladire'!D45
A6: ="3" | B6: +CK02A1 [18] | C6: Usi performante energetic din PVC cu geam termoizolant cu coeficient de transfer termic de max. 1,1 W/m2K, dotate cu fante de circulatie controlata a aerului -0002488 - Usa performanta energetic din PVC cu geam termoizolant cu coeficient de transfer termic maxim 1,1 W/m2K, dotata cu fante pentru aerisirea controlata a spatiilor | D6: ="mp" | E6: 1.0 | F6: =E6 | G6: =$E$2*'Date cladire'!B46 | H6: =$E$2*'Date cladire'!D46
A7: ="6" | B7: IZF35D+[ 20 ] | C7: Sistem termoizolant pentru elemente de fatada realizat cu polistiren expandat de 15 cm grosime (agrementat in Romania, cu o durabilitate garantata de min 10 ani) pentru zona de camp, strat finisaj exterior realizat cu tencuiala decorativa. | D7: ="mp" | E7: 1.0 | F7: =E7 | G7: =$E$2*0
A8: ="6" | B8: IZF35D+[ 57 ] | C8: Sistem termoizolant pentru elemente de fatada realizat cu vata minerala bazaltica de 15 cm grosime (agrementat in Romania, cu o durabilitate garantata de min 10 ani), strat finisaj exterior realizat cu tencuiala decorativa. | D8: ="mp" | E8: 1.0 | F8: =E8 | G8: =$E$2*0
A9: ="4" | B9: ="TRA02A10" | C9: Transportul rutier al materialelor,semifabricatelor cu autocamionul pe dist.= ...10 km. | D9: ="tona" | E9: 1.0 | F9: =E9 | G9: =(G4*30+G5*60+G6*60)/1000+(G7+G8)*20/1000
A10: ="5" | B10: ="TRI1AC13E1" | C10: Descarcare...materiale gr.c-ambalate,10-50 kg deplas.prin purtare pina la 10m,asez..auto-rampa,teren ctg | D10: ="tona" | E10: 1.0 | F10: =E10 | G10: =G9
A11: ="6" | B11: ="TRB05A22" | C11: Transportul materialelor prin purtat direct.materiale...incomode sub 25 kg distanta 20m | D11: ="tona" | E11: 1.0 | F11: =E11 | G11: =G9
C14: In cazul in care s-au prins separat spatiile cu alta destinatie in Devizele de la DALI

Sheet D_006
B1: ='Structura Investitie'!D10 | C1: ='Structura Investitie'!C10
D2: ='Date cladire'!A83 | E2: ='Date cladire'!B83
A3: ="NrCrt" | B3: ="Simbol" | C3: Denumire | D3: ="UM" | E3: ="Consum" | F3: ="Cantitate" | G3: ='Date cladire'!B2 | H3: ='Date cladire'!D2
A4: ="1" | B4: ="CB47A1" | C4: Schela metalica tubulara lucrari pe suprafete verticale pîna la 30 m înaltime inclusiv ; | D4: ="mp" | E4: 1.0 | F4: =E4 | G4: =$E$2*1.1*('Date cladire'!B52+'Date cladire'!B60*'Date cladire'!B53+'Date cladire'!B54+'Date cladire'!B58+'Date cladire'!B59) | H4: =$E$2*1.1*('Date cladire'!D52+'Date cladire'!D60*'Date cladire'!D53+'Date cladire'!D54+'Date cladire'!D58+'Date cladire'!D59)
A5: ="2" | B5: ="AUT7606A1[ 1 ]" | C5: Schela metalica tubulara de exterior 11-13,5t | D5: ="mp" | E5: 1.0 | F5: =E5 | G5: =G4
A6: ="3" | B6: ="2601252" | C6: Plasa protectie-mascare santier | D6: ="mp" | E6: 1.0 | F6: =E6 | G6: =G4
A7: ="4" | B7: ="CB48A1 [1]" | C7: Schela metalica autoridicatoare pentru lucrari la fatade in zonele fara acces - nacela suspendata autoridicatoare montare demontare - asimilat | D7: ="mp" | E7: 1.0 | F7: =E7 | G7: 0
A8: ="5" | B8: ="AUT7101 [1]" | C8: Nacela electrica autoridicatoare, actionata electric, pe cabluri pentru lucrari la fatade in zone fara acces (ansamblu complet, platforma de lucru, mecanism de ridicare, mecanism de suspendare, sistem de siguranta) | D8: ="mp" | E8: 1.0 | F8: =E8 | G8: 0
A9: ="6" | B9: ="MDTC5517010 [1]" | C9: Transport utilaj...10 km nacela autoridicatoare | D9: ="buc" | E9: 1.0 | F9: =E9 | G9: 0
B10: NMB012391 [2] | C10: Spor manopera - pentru lucrari de termoizolare pereti exteriori cu alpinisti utilitari | D10: mp | G10: 0
A11: ="7" | B11: ="H1C13A [2]" | C11: Esafodaje diverse din lemn la lucrari de constructii | D11: ="mp" | E11: 1.0 | F11: =E11 | G11: =$E$2*1.2*('Date cladire'!B10*'Date cladire'!B26) | H11: =$E$2*1.2*('Date cladire'!D10*'Date cladire'!D26)
A12: ="8" | B12: IZF35D+[ 20 ] | C12: Sistem termoizolant pentru elemente de fatada realizat cu polistiren expandat de 15 cm grosime (agrementat in Romania, cu o durabilitate garantata de min 10 ani) pentru zona de camp, strat finisaj exterior realizat cu tencuiala decorativa. | D12: ="mp" | E12: 1.0 | F12: =E12 | G12: =$E$2*(('Date cladire'!B55+'Date cladire'!B60*'Date cladire'!B56+'Date cladire'!B57+'Date cladire'!B59-(G13/E2))-D_005!G7) | H12: =$E$2*(('Date cladire'!D55+'Date cladire'!D60*'Date cladire'!D56+'Date cladire'!D57+'Date cladire'!D59-(G13/E2))-D_005!G7)
A13: ="9" | B13: IZF35D+[ 57 ] | C13: Sistem termoizolant pentru elemente de fatada realizat cu vata minerala bazaltica de 15 cm grosime (agrementat in Romania, cu o durabilitate garantata de min 10 ani), strat finisaj exterior realizat cu tencuiala decorativa. | D13: ="mp" | E13: 1.0 | F13: =E13 | G13: =$E$2*0.6*(('Date cladire'!B5+'Date cladire'!B60*'Date cladire'!B6)-D_005!G8) | H13: =$E$2*0.6*(('Date cladire'!D5+'Date cladire'!D60*'Date cladire'!D6)-D_005!G8)
A14: ="10" | B14: +IZF01O4 [ 1] | C14: Sistem termoizolant realizat cu polistiren expandat de 15 cm grosime la tavane exterioare (agrementat in Romania cu o durabilitate garantata de min 10 ani), strat finisaj vopsea lavabila | D14: ="mp" | E14: 1.0 | F14: =E14 | G14: =$E$2*4.72*4
A15: ="11" | B15: ="+IZF01O4 [14]" | C15: Sistem termoizolant realizat cu polistiren expandat de 15 cm grosime la interior la tavane strat finisaj vopsea lavabila | D15: ="mp" | E15: 1.0 | F15: =E15 | G15: =$E$2*0
A16: ="12" | B16: IZF35D+ [28] | C16: Sistem termoizolant pentru elemente de fatada realizat cu polistiren extrudat de 3 cm grosime (agrementat in Romania, cu o durabilitate garantata de min 10 ani) pentru zona spaletilor, strat finisaj exterior realizat cu tencuiala decorativa | D16: ="mp" | E16: 1.0 | F16: =E16 | G16: =$E$2*0.3*('Date cladire'!B25+'Date cladire'!B27)+$E$2*0.3*'Date cladire'!B29 | H16: =$E$2*0.3*('Date cladire'!D25+'Date cladire'!D27)+$E$2*0.3*'Date cladire'!D29
A17: ="13" | B17: IZF35D+ [32] | C17: Sistem termoizolant pentru elemente de fatadarealizat cu polistiren extrudat de 3 cm grosime (agrementat in Romania, cu o durabilitate garantata de min 10 ani) la spaleti, pentru zona de glaf exterior | D17: ="mp" | E17: 1.0 | F17: =E17 | G17: =$E$2*0.3*'Date cladire'!B24+$E$2*0.15*'Date cladire'!B28 | H17: =$E$2*0.3*'Date cladire'!D24+$E$2*0.15*'Date cladire'!D28
A18: ="14" | B18: ="CP37J1 [9]" | C18: Etansarea rosturilor verticale la fatade cu fâsii din placi termoizolante de 5 cm grosime cu coeficient de transfer termic de maxim 0,038 W/mK si profil de rost | D18: ="m" | E18: 1.0 | F18: =E18 | G18: =$E$2*0*'Date cladire'!B16 | H18: =$E$2*0*'Date cladire'!D16 | O18: Rostul de dilatatie sau tasare intre 2 scari: suma inaltimea cladirii x 2 (masurat din fatade existente poate sunt diferite inaltimile). De verificat cu pozele sa fie reprezentate.
A19: ="15" | B19: ="IZF33B+[ 9 ]" | C19: Montare profile de protectie a stratului termoizolant aferent sistemului de izolare termica Profil metalic cu picurator, montat la partea superioara a spaletilor exteriori | D19: ="ml" | E19: 1.0 | F19: =E19 | G19: =$E$2*('Date cladire'!B24+'Date cladire'!B26+'Date cladire'!B28) | H19: =$E$2*('Date cladire'!D24+'Date cladire'!D26+'Date cladire'!D28)
A20: ="16" | B20: ="IZF33B+[ 10 ]" | C20: Montare profile de protectie a stratului termoizolant aferent sistemului de izolare termica Profil metalic pentru colturi. | D20: ="ml" | E20: 1.0 | F20: =E20 | G20: =$E$2*('Date cladire'!B61*'Date cladire'!B16+'Date cladire'!B63*'Date cladire'!B17+1.05*'Date cladire'!B60*'Date cladire'!B62+'Date cladire'!B25+'Date cladire'!B27+'Date cladire'!B29) | H20: =$E$2*('Date cladire'!D61*'Date cladire'!D16+'Date cladire'!D63*'Date cladire'!D17+1.05*'Date cladire'!D60*'Date cladire'!D62+'Date cladire'!D25+'Date cladire'!D27+'Date cladire'!D29)
A21: ="17" | B21: ="IZF33A+ [4]" | C21: Montare profile de protectie a stratului termoizolant aferent sistemului de izolare termica ... Profil metalic pentru soclu latime 15cm | D21: ="ml" | E21: 1.0 | F21: =E21 | G21: =$E$2*'Date cladire'!B4 | H21: =$E$2*'Date cladire'!D4
A22: ="18" | B22: IZF34B+ [3] | C22: Sistem termoizolant pentru elemente de soclu si pereti de subsol realizat cu polistiren extrudat de 10 cm (agrem. in Romania, durabilitate garantata de min 10 ani ), la partea supraterana a soclului, strat finisaj tencuiala mozaicata pentru soclu. | D22: ="mp" | E22: 1.0 | F22: =E22 | G22: =$E$2*'Date cladire'!B58 | H22: =$E$2*'Date cladire'!D58
A23: ="19" | B23: ="CK26A# [29]" | C23: Glafuri, pervaze gata confectionate din tabla zincata vopsita in camp electrostatic grosime 0,7mm, latime medie 45cm, montate la ferestre la exterior, fara imbinare pe lungime. | D23: ="m" | E23: 1.0 | F23: =E23 | G23: =$E$2*'Date cladire'!B24 | H23: =$E$2*'Date cladire'!D24
A24: ="20" | B24: ="CK26A# [30]" | C24: Glafuri, pervaze gata confectionate din tabla zincata vopsita in camp electrostatic grosime 0,7mm, latime medie 35cm, montate la ferestre la exterior, fara imbinare pe lungime. | D24: ="m" | E24: 1.0 | F24: =E24 | G24: =$E$2*'Date cladire'!B28 | H24: =$E$2*'Date cladire'!D28
A25: ="21" | B25: ="TRA02A10" | C25: Transportul rutier al materialelor,semifabricatelor cu autocamionul pe dist.= ...10 km. | D25: ="tona" | E25: 1.0 | F25: =E25 | G25: =(G12+G13+G14+G15+G16+G17+G22+G29+G43+G44+G45)*20/1000+(G19*1+G20*1+G21*1.5+G23*1+G24*0.8)/1000
A26: ="22" | B26: ="TRI1AC13E1" | C26: Descarcare...materiale gr.c-ambalate,10-50 kg deplas.prin purtare pina la 10m,asez..auto-rampa,teren ctg | D26: ="tona" | E26: 1.0 | F26: =E26 | G26: =G25
A27: ="23" | B27: ="TRB05A22" | C27: Transportul materialelor prin purtat direct.materiale...incomode sub 25 kg distanta 20m | D27: ="tona" | E27: 1.0 | F27: =E27 | G27: =G26
A28: ="24" | B28: ="MDTC5506010" | C28: Transport utilaj...10 km 90100011 schela metalica tubulara de exterior cu s=640mp g=11-13,5t | D28: ="buc" | E28: 1.0 | F28: =E28 | G28: =ROUND(G4/640,0)
A29: 25 | B29: IZF35D+ [29] | C29: Sistem termoizolant pentru elemente de fatada realizat cu polistiren expandat de 15 cm grosime (agrem. in Romania, cu o durabilitate garantata de min 10 ani) pentru zona de camp fixat cu adeziv poliuretanic, strat finisaj exterior realizat cu tencuiala decorativa. | D29: ="mp" | E29: 1.0 | F29: =E29 | G29: 0 | O29: folosim cand e cu adeziv poliuretanic Bl cu sarpanta si calcanul din lemn
A30: 26 | B30: IZF35D+ [78] | C30: Sistem termoizolant pentru elemente de fatada realizat cu vata minerala bazaltica de 15 cm grosime (agrementat in Romania, cu o durabilitate garantata de min 10 ani), strat finisaj exterior masa de spaclu sub sarpante false | D30: mp
A31: 28 | B31: CK26A# [38] | C31: Glafuri interioare din PVC montate la ferestre - spatii comune | D31: m
A32: 29 | B32: CK26A# [38] | C32: Glafuri interioare din PVC montate la ferestre - spatii individuale | D32: m
A33: 30 | B33: CL20A1 [7] | C33: Confectii metalice diverse din profile metalice pentru sustineri si consolidari | D33: kg
A34: 31 | B34: CD18A% [13] | C34: Placare cu placi de ciment armate cu plasa din fibra de sticla tip placocem la diverse elemente de constructie | D34: mp
A35: 32 | B35: VB13A1[ 5 ] | C35: Rama cu jaluzele fixe cu plasa avand perimetrul de 700-1400 mm pentru aerisire | D35: buc
A36: 33 | B36: 20027736 | C36: Grila de ventilare cu plasa dimensiunea 20x20cm | D36: buc
A37: 34 | B37: CC09A1 [19] | C37: Ancorarea chimica a armaturilor FI 12mm L= 150mm | D37: buc
A38: 35 | B38: CE15C1 [4] | C38: Glaf pentru colturi din tabla zincata de 0,5 mm grosime | D38: m
A39: 36 | B39: RPCXA01A | C39: Sapatura manuala pamant spatii limitate <1m. sub...1. 5m. adinc la sant canale etc. | D39: mc
A40: 37 | B40: CA01A1 | C40: Turnarea betonului simplu în fundatii continue, izolate si socluri cu volum pâna la 3 mc, inclusiv | D40: mc
...

Sheet D_007
B1: ='Structura Investitie'!D11 | C1: ='Structura Investitie'!C11 | E1: terasa | G1: 1 | M1: 1 - exista terasa
D2: ='Date cladire'!A83 | E2: ='Date cladire'!B83 | M2: 0- nu exista terasa
A3: ="NrCrt" | B3: ="Simbol" | C3: Denumire | D3: ="UM" | E3: ="Consum" | F3: ="Cantitate" | G3: ='Date cladire'!B2 | H3: ='Date cladire'!D2
A4: ="1" | B4: ="+RPCA01C" | C4: Pregatirea suprafetelor de pe planseul peste ultimul nivel, din pod si de pe terasa , in vederea termoizolarii, curatare si evacuare deseuri | D4: ="mp" | E4: 1.0 | F4: =E4 | G4: =$E$2*'Date cladire'!B20*G1 | H4: =$E$2*'Date cladire'!D20*G1 | M4: Se studiaza solutia din docs si se lasa cantitate doar la articolele necesare blocului in lucru, restul articolul se pun cu 0,
A5: ="2" | B5: ="IZF01B1 [1]" | C5: Asimilat - Amorsarea suprafetelor orizontale cu amorsa bituminoasa, in vederea aplicarii stratului hidroizolant din membrana bituminoasa la terase | D5: ="mp" | E5: 1.0 | F5: =E5 | G5: =(G4+G12+G13)*G1
A6: ="3" | B6: ="IzHc03B [4]" | C6: Executarea stratului de bariera de vapori cu membrana bituminoasa termoadeziva | D6: ="mp" | E6: 1.0 | F6: =E6 | G6: =G5
A7: ="4" | B7: IZF10C1 [22] | C7: Termoizolatie realizata cu polistiren expandat ignifugat EPS 120 de 20 cm la terase | D7: ="mp" | E7: 1.0 | F7: =E7 | G7: =G4
A8: 5 | B8: ="+IZA02A10 [33]" | C8: Strat hidroizolant pentru terase realizat cu membrana din cauciuc sintetic tip EPDM aplicata prin lipire | D8: ="mp" | E8: 1.0 | F8: =E8 | G8: =G5
A9: 6 | B9: IZF03A1 [6] | C9: Montare folie textila pentru separare straturi tip geotextil | D9: mp | E9: 1.0 | F9: =E9 | G9: =G4
A10: 7 | B10: 2600517 | C10: Folie separare straturi tip geotextil 300g/mp | D10: mp | E10: 1.0 | F10: =E10 | G10: =G9
A11: 8 | B11: TsD16XB [8] | C11: Strat de lest din pietris cu granulatie de 16-32 mm aplicat peste membrana hidroizolanta la terasa grosime medie 5cm | D11: mp | E11: 1.0 | F11: =E11 | G11: =G9
A12: 9 | B12: IZF10C1 [23] | C12: Termoizolatie realizata cu polistiren expandat ignifugat EPS 120 de 5 cm la aticul de la terase | D12: ="mp" | E12: 1.0 | F12: =E12 | G12: =$E$2*(0.3+'Date cladire'!B13)*'Date cladire'!B7*G1 | H12: =$E$2*(0.3+'Date cladire'!D13)*'Date cladire'!D7*G1
A13: 10 | B13: IZF10C1 [24] | C13: Termoizolatie realizata cu polistiren expandat ignifugat EPS 120 de 5 cm la gurile de aerisire de la terase | D13: ="mp" | E13: 1.0 | F13: =E13 | G13: =$E$2*0.3*4*0.5*'Date cladire'!B30*G1 | H13: =$E$2*0.3*4*0.5*'Date cladire'!D30*G1
A14: 11 | B14: ="CP37J1 [10]" | C14: Etansarea rosturilor orizontale la atic terasa sau pod cu placi termoizolante de 5 cm grosime cu coeficient de transfer termic de maxim 0,038 W/mK si profil de rost; | D14: ="m" | E14: 1.0 | F14: =E14 | G14: =$E$2*'Date cladire'!B89
A15: 12 | B15: ="RPCE31A1" | C15: Inundarea terasei in vederea...receptionarii terasei inclusiv supravegherea | D15: ="mp" | E15: 1.0 | F15: =E15 | G15: =G4
A16: 13 | B16: ="VB35A1 [1]" | C16: Deflector gata confectionat cu perim. bazei 400-800 mm montat la sistem termohidroizolant realizat cu membrana EPDM - 2500244 Deflector cu diametrul FI 110mm | D16: ="buc" | E16: 1.0 | F16: =E16 | G16: =ROUND(G15/40,0)*G1
A17: 14 | B17: ="RPCXI05A [1]" | C17: Demontare...jghiaburi burlane glafuri sorturi pazii etc. la aticul de la terasa | D17: ="m" | E17: 1.0 | F17: =E17 | G17: =$E$2*'Date cladire'!B7*G1 | H17: =$E$2*'Date cladire'!D7*G1
A18: 15 | B18: ="CE15F1 [4]" | C18: Glaf din tabla zincata de 0,5mm grosime cu latimea intre 50-70 cm confectionat si montat pentru protectia aticului de la terase la partea superioara | D18: ="m" | E18: 1.0 | F18: =E18 | G18: =G17
A19: 18 | B19: CG01D1 [16] | C19: Strat de sapa turnata la terase grosime medie 6 cm supratata fin driscuita armata cu fibre din polipropilena | D19: ="mp" | E19: 1.0 | F19: =E19 | G19: =G4
A20: 18.L | B20: 2101200 | C20: Mortar tencuiala M 100 (var pasta) s 1030 | D20: mc | G20: =G19*0.06
A21: 19 | B21: ="+IZH03A1" | C21: Montare folie polietilena pentru acoperirea suprafetelor pe care se toarna beton sau sapa | D21: ="mp" | E21: 1.0 | F21: =E21 | G21: =G19
A22: 20 | B22: ="CG07A1 [1]" | C22: Scafe din mortar de ciment turnate pe conturul terasei 10x10cm inainte de hidroizolarea acesteia | D22: ="m" | E22: 1.0 | F22: =E22 | G22: =$E$2*'Date cladire'!B7*G1 | H22: =$E$2*'Date cladire'!D7*G1
A23: 21 | B23: ="TRA06A10" | C23: Transportul rutier al betonului-mortarului cu autobetoniera de...5,5mc dist. =10km | D23: ="tona" | E23: 1.0 | F23: =E23 | G23: =G19*0.06*2.5
A24: 22 | B24: ="AUT3343" | C24: Pompa pneumatica de beton PB250 4-6mc/ora | D24: ="ora" | E24: 1.0 | F24: =E24 | G24: =ROUNDUP(G20/4,0)*G1
A25: 23 | B25: ="TRA02A10" | C25: Transportul rutier al materialelor,semifabricatelor cu autocamionul pe dist.= ...10 km. | D25: ="tona" | E25: 1.0 | F25: =E25 | G25: =(G7*8+G8*1.25+G9*0.25+G12*15+G13*15)/1000+(G17*1.5+G18*1.5+G31*14)/1000
A26: 24 | B26: ="TRI1AC13E1" | C26: Descarcare...materiale gr.c-ambalate,10-50 kg deplas.prin purtare pina la 10m,asez..auto-rampa,teren ctg | D26: ="tona" | E26: 1.0 | F26: =E26 | G26: =G25
A27: 25 | B27: ="TRB05A22" | C27: Transportul materialelor prin purtat direct.materiale...incomode sub 25 kg distanta 20m | D27: ="tona" | E27: 1.0 | F27: =E27 | G27: =G25
A28: 26 | B28: TRA01A30 | C28: Transportul rutier al...materialelor,semifabricatelor cu autobasculanta pe dist.= 30 km. | D28: tona | G28: =G11*0.05*1600/1000
A29: 27 | B29: TRB22H2A3 | C29: Transportat materiale cu macara turn brat inclinabil pina la 40 tfm...sarcina <0,5t h=12-18m pozitie fix | D29: tona | G29: =G28
A30: 28 | B30: MDTC4627010 | C30: Transport utilaj...10 km-65121006-macara pe pneuri de 0,40-0,499 mn(40-49,9 tf) | D30: buc | G30: 2 | M30: 2 buc pe o scara; se adapteaza nr in functie de nr scarilor
A31: 90 | B31: CE17A% [4] | C31: Termoizolatie realizata cu panouri tristrat de 10 cm grosime montate la stresini din beton in consola - 2500259 Panou tristrat ( tabla + spuma + tabla) termoizolant tip sandwich pentru acoperis grosime 100mm | D31: mp | G31: 0 | M31: placa iesita in consola izolata cu panou tristrat

Sheet D_008
B1: ='Structura Investitie'!D12 | C1: ='Structura Investitie'!C12 | E1: pod | G1: 1 | M1: 1 - exista pod
D2: ='Date cladire'!A83 | E2: ='Date cladire'!B83 | M2: 0- nu exista pod
A3: ="NrCrt" | B3: ="Simbol" | C3: Denumire | D3: ="UM" | E3: ="Consum" | F3: ="Cantitate" | G3: ='Date cladire'!B2 | H3: ='Date cladire'!D2 | M3: Obs
A4: ="1" | B4: ="+RPCA01C" | C4: Pregatirea suprafetelor de pe planseul peste ultimul nivel, din pod si de pe terasa , in vederea termoizolarii, curatare si evacuare deseuri | D4: ="mp" | E4: 1.0 | F4: =E4 | G4: =$E$2*'Date cladire'!B20*G1 | H4: =$E$2*'Date cladire'!D20*G1
A5: 2 | B5: ="IZF01B1 [1]" | C5: Asimilat - Amorsarea suprafetelor orizontale cu amorsa bituminoasa, in vederea aplicarii stratului hidroizolant din membrana bituminoasa | D5: ="mp" | E5: 1.0 | F5: =E5 | G5: =G4
A6: 3 | B6: RPCE07B+ [2] | C6: Strat de bariera contra vaporilor la plansee termoizolate cu vata minerala | D6: mp | G6: =G4 | M6: atentie la solutia din docs - aici sunt cu VM daca solutia e cu polistiren inlocuim articolele din norme (pozitia 53-56 ) iar daca grosimea termosistemului e alta cerem norme la Mircea
A7: 4 | B7: +IZF01O6 [20] | C7: Sistem termoizolant realizat cu vata minerala de 20cm grosime, cu efort la compresiune de min 20 kPa (agrementat in Romania cu o durabilitate garantata de min 10 ani), la planseul peste ultimul nivel, in pod | D7: ="mp" | E7: 1.0 | F7: =E7 | G7: =G4
A8: 5 | B8: +IZF01A6 [5] | C8: Sistem termoizolant realizat cu vata minerala grosime 5 cm, cu efort la compresiune de min 20 kPa, la aticul din pod (agrementat in Romania cu o durabilitate garantata de min 10 ani), strat finisaj glet si lavabila de exterior | D8: ="mp" | E8: 1.0 | F8: =E8 | G8: =$E$2*'Date cladire'!B7*'Date cladire'!B13*G1 | H8: =$E$2*'Date cladire'!D7*'Date cladire'!D13*G1
A9: 6 | B9: +IZF01A8 [6] | C9: Sistem termoizolant realizat cu vata minerala bazaltica, grosime 5 cm , cu efort la compresiune de min 20 kPa, la gurile de aerisire din pod (agrementat in Romania cu o durabilitate garantata de min 10 ani), strat finisaj glet si lavabila de exterior, | D9: ="mp" | E9: 1.0 | F9: =E9 | G9: =$E$2*0.4*4*0.5*'Date cladire'!B30*G1 | H9: =$E$2*0.4*4*0.5*'Date cladire'!D30*G1
A10: 7 | B10: CP37J1 [5] | C10: Asimilat - Etansarea rosturilor orizontale la atic terasa sau pod cu fâsii vata minerala bazaltica de 5 cm grosime si profil de rost; | D10: ="m" | E10: 1.0 | F10: =E10 | G10: =$E$2*'Date cladire'!B89 | M10: Suma: Lungimea rosturilor din plan terasa. Nu tot timpul este rost intre 2 scari. De verificat cu pozele sa fie reprezentate. Ex la 2 scari poate fi 1 rost.
A11: 8 | B11: CO22A1 [4] | C11: Grinzi din lemn ecarisat folosite ca suport pentru dulapii din lemn care protejeaza vata minerala la planseul peste ultimul nivel | D11: mc | G11: =G4*0.025 | L11: se lasa cantitati doar la solutia din docs | M11: cand solutia e cu poste de lemn ignifugate la grinzi : cand VM e 20 cm : s*0,025 cand VM e 25 :s*0,029 cand VM e 30 : s*0,035
A12: 9 | B12: 2960632 | C12: Lemn ecarisat de rasinoase | D12: mc | G12: =G11
A13: 10 | B13: CD20A+ [18] | C13: Dulapi din lemn grosime 48mm utilizati pentru protectie vata minerala la termoizolarea planseului peste ultimul nivel | D13: mp | G13: =G4
A14: 11 | B14: CN54A+ [1] | C14: Ignifugare si protectie insecto-fungicida elementelor de constructii din lemn | D14: mp | G14: =G13*2+G12/0.2/0.05*0.5
A15: 12 | B15: CO22A1 [1] | C15: Grinzi din lemn ecarisat folosite ca suport pentru placi de OSB care protejeaza vata minerala la planseul peste ultimul nivel | D15: mc | G15: =G4*0.025 | M15: cand solutia e cu placi osb pe grinzi - punem cu 0 la cele de la sapa armata la osb : cand VM e 20 cm : s*0,025 cand VM e 25 :s*0,029 cand VM e 30 : s*0,035 | N15: ptr termoistem de 30 calcullul va fi x0,036
A16: 13 | B16: 2960632 | C16: Lemn ecarisat de rasinoase | D16: mc | G16: =G15
A17: 14 | B17: CD20A+ [11] | C17: Placi din OSB, grosime 12mm utilizate pentru protectie vata minerala la termoizolarea planseului peste ultimul nivel | D17: mp | G17: =G4 | N17: ignifugare pt term: 30 = =G17*2+G16/0,3/0,05*0,7
A18: 15 | B18: CN54A+ [1] | C18: Ignifugare si protectie insecto-fungicida elementelor de constructii din lemn | D18: mp | G18: =G17*2+G16/0.2/0.05*0.5
A19: 16 | B19: CG01D1 [3] | C19: Strat de protectie a polistirenului executat din mortar de ciment marca M 100-T de 6 cm grosime medie, cu suprafata driscuita la planseul peste ultimul nivel, in pod | D19: mp | G19: =G4 | M19: cand solutia e cu sapa armata
A20: 17 | B20: 2101200 | C20: Mortar tencuiala M 100 (var pasta) s 1030 | D20: mc | G20: =G19*0.06
A21: 18 | B21: IZF28A+ [1] | C21: Strat de separatie din folie PVC | D21: mp | G21: =G19
A22: 19 | B22: TE06C1 | C22: Plasa de armatura sudata tip stnb...d=6mm ochiurile 100x100mm | D22: mp | G22: =G21
A23: 20 | B23: ="TRA06A10" | C23: Transportul rutier al betonului-mortarului cu autobetoniera de...5,5mc dist. =10km | D23: ="tona" | E23: 1.0 | F23: =E23 | G23: =G20*2.5
A24: 21 | B24: ="AUT3343" | C24: Pompa pneumatica de beton PB250 4-6mc/ora | D24: ="ora" | E24: 1.0 | F24: =E24 | G24: =ROUNDUP(G20/4,0)*G1
A25: 22 | B25: ="TRA02A10" | C25: Transportul rutier al materialelor,semifabricatelor cu autocamionul pe dist.= ...10 km. | D25: ="tona" | E25: 1.0 | F25: =E25 | G25: =(G7*12+G8*15+G9*15)/1000+(G12*800+G13*0.048*800+G16*800+G17*7.68)/1000
A26: 23 | B26: ="TRB05A22" | C26: Transportul materialelor prin purtat direct.materiale...incomode sub 25 kg distanta 20m | D26: ="tona" | E26: 1.0 | F26: =E26 | G26: =G25
A27: 24 | B27: ="TRI1AC13E1" | C27: Descarcare...materiale gr.c-ambalate,10-50 kg deplas.prin purtare pina la 10m,asez..auto-rampa,teren ctg | D27: ="tona" | E27: 1.0 | F27: =E27 | G27: =G25

Sheet D_009
B1: ='Structura Investitie'!D13 | C1: ='Structura Investitie'!C13 | F1: Invelitoare | G1: 1 | O1: 0-nu
D2: ='Date cladire'!A83 | E2: ='Date cladire'!B83 | O2: 1-da
A3: ="NrCrt" | B3: ="Simbol" | C3: Denumire | D3: ="UM" | E3: ="Consum" | F3: ="Cantitate" | G3: ='Date cladire'!B2 | H3: ='Date cladire'!D2
A4: ="1" | B4: ="RPCT26XA" | C4: Desfacerea invelitorilor din tabla zn sau neagra 0,4-0,5 mm incl.reconditionarea materialului | D4: ="mp" | E4: 1.0 | F4: =E4 | G4: =$E$2*1.25*'Date cladire'!B21*G1*0 | H4: =$E$2*1.25*'Date cladire'!D21*G1*0
A5: ="2" | B5: ="RPCT26XC" | C5: Desfacerea invelitorilor din azbociment,eternit,materioal plastic colorat diferit,plane sau ondulate | D5: ="mp" | E5: 1.0 | F5: =E5 | G5: =$E$2*1.25*'Date cladire'!B21*G1*0 | H5: =$E$2*1.25*'Date cladire'!D21*G1*0
A6: ="3" | B6: ="RPCT26XB" | C6: Desfacerea invelitorilor din olane,tigle solzi sauprofilate cu jgheaburi asezate pe sipci batute | D6: ="mp" | E6: 1.0 | F6: =E6 | G6: =$E$2*1.25*'Date cladire'!B21*G1 | H6: =$E$2*1.25*'Date cladire'!D21*G1
B7: RPCT26XC [4] | C7: Desfacerea invelitorilor din placi ondulate bituminoase | D7: mp
A8: ="4" | B8: ="RPCXH13B" | C8: Desfacerea ...asterelei invelitorii din scindura sau pfl incl. sortare si stivuire materiale. | D8: ="mp" | E8: 1.0 | F8: =E8 | G8: =G4+G6+G5
A9: ="5" | B9: ="RPCH45A1 [4]" | C9: Jgheab din lemn...pentru evacuarea tigle demontate de pe acoperis | D9: ="m" | E9: 1.0 | F9: =E9 | G9: =$E$2*'Date cladire'!B12*G1 | H9: =$E$2*'Date cladire'!D12*G1
A10: ="6" | B10: ="TRB05A22" | C10: Transportul materialelor prin purtat direct.materiale...incomode sub 25 kg distanta 20m | D10: ="tona" | E10: 1.0 | F10: =E10 | G10: =(G6*16*2.9+G8*0.024*800+G7*3.4)/1000
A11: ="7" | B11: ="TRI1AA01F3" | C11: Incarcarea materialelor, grupa a-grele si...marunte,prin tran.pina la 10m rampa sau teren-auto cate | D11: ="tona" | E11: 1.0 | F11: =E11 | G11: =G10
A12: ="8" | B12: ="TRA01A10P" | C12: Transportul rutier al...pamantului sau molozului cu autobasculanta dist.=10 km | D12: ="tona" | E12: 1.0 | F12: =E12 | G12: =G10
A13: ="9" | B13: ="CE18A1" | C13: Astereala la învelitori sau la doliile invelitorilor din tigla si azbociment scinduri din rasinoase | D13: ="mp" | E13: 1.0 | F13: =E13 | G13: =$E$2*1.25*'Date cladire'!B21*G1 | H13: =$E$2*1.25*'Date cladire'!D21*G1
A14: ="10" | B14: ="CE20A1 [4]" | C14: Sipci din lemn montate la acoperisuri pentru sustinerea si fixarea invelitorilor din tigla metalica | D14: ="mp" | E14: 1.0 | F14: =E14 | G14: =G13 | O14: in functie de tipul invelitoarei alegem si tipul sipcilor
A15: ="11" | B15: ="CE05A1 [1]" | C15: Invelitoare din tabla zincata profilata ondulata, fixata si tesute cu suruburi autofiletante - montare invelitoare din tigla metalica (tip lindab sau similar) 2300106 - Tigla metalica 0,5 PE din otel galvanizat protejata in sistem multistrat pe ambele fete cu acoperire finala vopsea poliesterica (tip lindab sau similar) sistem complet inclusiv coame,dolii | D15: ="mp" | E15: 1.0 | F15: =E15 | G15: =G13
A16: 12 | B16: CE20A1 [2] | C16: Sipci din lemn montate la acoperisuri pentru sustinerea si fixarea invelitorilor din tigla ceramica. | D16: mp | G16: =G13*0
A17: 13 | B17: CE01A1 | C17: Invelitoare din tigla profilata din argila arsa la acoperisuri fara astereala, asezate pe sipci 28x48 mm, inclusiv executarea din tabla zincata a doliilor, paziilor, racordarilor la cosuri - 2303016 Tigla cu jgheab lat.cu 4 cioc c2 405x230x11 s515 | D17: mp | E17: 1.0 | F17: =E17 | G17: =G13*0
A18: 14 | B18: RPCP09A1 [4] | C18: Parazapezi tip bara pentru invelitori | D18: m | E18: 1 | F18: 1 | G18: =$E$2*'Date cladire'!B8*G1 | H18: =$E$2*'Date cladire'!D8*G1
A19: 15 | B19: ="IZF03A1 [2]" | C19: Folie anticondens montata sub invelitori | D19: ="mp" | E19: 1.0 | F19: =E19 | G19: =G13
A20: 16 | B20: ="TRA02A10" | C20: Transportul rutier al materialelor,semifabricatelor cu autocamionul pe dist.= ...10 km. | D20: ="tona" | E20: 1.0 | F20: =E20 | G20: =(G13*0.024*800+G14*1+G15*6+G16*1+G17*16*2.9+G18*2)/1000
A21: 17 | B21: ="TRI1AC13E1" | C21: Descarcare...materiale gr.c-ambalate,10-50 kg deplas.prin purtare pina la 10m,asez..auto-rampa,teren ctg | D21: ="tona" | E21: 1.0 | F21: =E21 | G21: =G20
A22: 18 | B22: ="TRB05B12" | C22: Transportul materialelor prin purtat...direct.materiale comode peste 25 kg distanta 20m | D22: ="tona" | E22: 1.0 | F22: =E22 | G22: =G21
A23: 19 | B23: ="RPCE30A1" | C23: Prelata pentru protejarea terasei pe timp ploios,...pe durata refacerii | D23: ="mp" | E23: 1.0 | F23: =E23 | G23: =$E$2*'Date cladire'!B20*G1 | H23: =$E$2*'Date cladire'!D20*G1
C24: Manevrarea, depozitarea si transportul in locuri de deseuri toxicea invelitorii din azbociment | D24: mp | E24: 1.1 | F24: =E24 | G24: 0

Sheet D_010
B1: ='Structura Investitie'!D14 | C1: ='Structura Investitie'!C14
D2: ='Date cladire'!A83 | E2: ='Date cladire'!B83
A3: ="NrCrt" | B3: ="Simbol" | C3: Denumire | D3: ="UM" | E3: ="Consum" | F3: ="Cantitate" | G3: ='Date cladire'!B2 | H3: ='Date cladire'!D2
A4: ="1" | B4: ="RPCT33A1 [18]" | C4: Demontarea usilor si ferestrelor din lemn, metal sau PVC | D4: ="mp" | E4: 1.0 | F4: =E4 | G4: =$E$2*'Date cladire'!B40 | H4: =$E$2*'Date cladire'!D40
A5: ="2" | B5: +CK01A2 [10] | C5: Ferestre performante energetic din PVC cu geam termoizolant cu coeficient de transfer termic de max. 1,1 W/m2K, deschideri oscilobatante, dotate cu fante de circulatie controlata a aerului - 0002447 Fereastra performanta energetic din PVC cu geam termoizolant cu coeficient de transfer termic maxim 1,1 W/m2K, deschideri oscilobatante, dotata cu fante pentru aerisirea controlata a spatiilor | D5: ="mp" | E5: 1.0 | F5: =E5 | G5: =$E$2*'Date cladire'!B41+G4 | H5: =$E$2*'Date cladire'!D41+G4
A6: ="3" | B6: +CK02A1 [18] | C6: Usi performante energetic din PVC cu geam termoizolant cu coeficient de transfer termic de max. 1,1 W/m2K, dotate cu fante de circulatie controlata a aerului -0002488 - Usa performanta energetic din PVC cu geam termoizolant cu coeficient de transfer termic maxim 1,1 W/m2K, dotata cu fante pentru aerisirea controlata a spatiilor | D6: ="mp" | E6: 1.0 | F6: =E6 | G6: 0
A7: ="4" | B7: ="+CK02A2 [5]" | C7: Tamplarie din profile PVC, 5 camere si panou tip panel pentru pereti despartitori - 20027680 - Tamplarie din profile PVC cu 5 camere si panou din panel ( pvc-polistiren extrudat-pvc) pentru pereti despartitori | D7: ="mp" | E7: 1.0 | F7: =E7 | G7: =$E$2*'Date cladire'!B42 | H7: =$E$2*'Date cladire'!D42
A8: ="5" | B8: ="CL21A1" | C8: Confectii metalice diverse înglobate total sau partial in beton din profile laminate, tabla, tabla striata, otel beton, tevi pentru sustineri sau acoperiri - 20027711 Confectii metalice pentru sustinerea invelitorilor la balcoane, vopsite si protejate anticoroziv, gata de montaj | D8: ="kg" | E8: 1.0 | F8: =E8 | G8: =G9*20
A9: ="6" | B9: ="CK20D1 [6]" | C9: Asimilat - Acoperis din panouri tristrat termoizolante tip sandwich, grosime 100mm, montate direct pe structura metalica la acoperis balcon - 2500259 Panou tristrat ( tabla + spuma + tabla) termoizolant tip sandwich pentru acoperis grosime 100mm | D9: ="mp" | E9: 1.0 | F9: =E9 | G9: =$E$2*'Date cladire'!B90 | P9: Suma copertina panou sandwich/tristrat la balcoane de la ultimul nivel sau la balcoane decalate/ extinse calculat cu supraf pardoseala din planuri.
A10: ="7" | B10: ="RPCT39A1 [4]" | C10: Demontarea elementelor ornamentale din sticla securizata, PVC, lemn, etc, de la parapetii balcoanelor si logiilor, inclusiv manipularea acestora in santier la depozitul de moloz. | D10: ="mp" | E10: 1.0 | F10: =E10 | G10: =$E$2*'Date cladire'!B91 | O10: Se verifica solutia de pe docs si se verifca fiecare articol iar dupa caz se adapteaza formulele/cantitatile | P10: Suma lungimilor balcoanelor x 0,9 sau 1; din poze sau din fatadele existente sau din poze
B11: ="RPCT39A1 [1]" | C11: Demontarea balustradelor, grilelor, si parapetelor metalice montate în beton, inclusiv elementele componente ale acestora, sticla, prefabricate din beton, elemente ornamentale din plastic sau lemn, de la balcoane si logii. | D11: kg | G11: =$E$2*0
A12: ="8" | B12: ="CL20B1" | C12: Confectii metalice diverse, montate aparent balustrazi grile, chepeng, opritori, gratare - 2601294 Confectii metalice diverse | D12: ="kg" | E12: 2.0 | F12: =E12 | G12: =G10*2 | P12: 2 kg x mp placocem pentru completare si reparare balustrada
A13: ="9" | B13: ="CL20A1 [4]" | C13: Confectii metalice diverse din profile metalice, otel beton, montate la parapetii balcoanelor pentru sustineri si consolidari - 20027713 Confectii metalice diverse din profile laminate, tevi rectangulare, tabla, etc confectionate conform detaliu | D13: ="kg" | E13: 1.0 | F13: =E13 | G13: =G10*10 | P13: 10 kg x mp de parapet si stratul suport pentru placocem
A14: ="10" | B14: ="CN09XB" | C14: Vopsitorii la balustrade,grile si parapete metalice cu email alchidic -6108373 - Email gri e.825-8 ntr 1703-80 - 6100917 - Grund alchid anticoroziv rosu g 735-5 k | D14: ="mp" | E14: 1.0 | F14: =E14 | G14: =G10
A15: ="11" | B15: ="CD18A% [5]" | C15: Placare cu placi de ciment armate cu plasa din fibra de sticla tip placocem, 1 strat, la parapetii balcoanelor si logiilor | D15: ="mp" | E15: 1.0 | F15: =E15 | G15: =G10 | P15: placocem ext
A16: ="12" | B16: ="CD18A% [4]" | C16: Placare cu placi de gipscarton pe structura metalica montata la parapetii balcoanelor si logiilor | D16: ="mp" | E16: 1.0 | F16: =E16 | G16: =G10 | P16: gipscarton interior
A17: ="13" | B17: ="CF10C1 [3]" | C17: Glet de ipsos aditivat, din produse uscate predozate, aplicat manual in 1 strat pe suprafete de gipscarton la pereti interiori | D17: ="mp" | E17: 1.0 | F17: =E17 | G17: =0.3*G16 | N17: 30% din gipscarton
A18: ="14" | B18: ="CN01B+[ 1 ]" | C18: Vopsitorii interioare cu vopsea lavabila aplicate manualUn strat amorsa (dilutie 1:4) si un 2 straturi vopsea lavabila de interior , aplicate pe suprafete interioare noi, foarte absorbante; - 2600052 Amorsa pentru zugraveli lavabile interioare - 2600053 Vopsea lavabila de interior de culoare alba | D18: ="mp" | E18: 1.0 | F18: =E18 | G18: =G10
A19: ="16" | B19: ="TRA02A10" | C19: Transportul rutier al materialelor,semifabricatelor cu autocamionul pe dist.= ...10 km. | D19: ="tona" | E19: 1.0 | F19: =E19 | G19: =(G4*30+G5*60+G6*60+G7*60)/1000+(G8+G9*14+G12+G13+G15*13.5+G16*8.13+G22*1100+G23*30+G24*3+G26*15+G27*25)/1000
A20: ="17" | B20: ="TRI1AC13E1" | C20: Descarcare...materiale gr.c-ambalate,10-50 kg deplas.prin purtare pina la 10m,asez..auto-rampa,teren ctg | D20: ="tona" | E20: 1.0 | F20: =E20 | G20: =G19
A21: ="18" | B21: ="TRB05A22" | C21: Transportul materialelor prin purtat direct.materiale...incomode sub 25 kg distanta 20m | D21: ="tona" | E21: 1.0 | F21: =E21 | G21: =G19
A22: ="19" | B22: ="CD07A1 [5]" | C22: Zidarie din blocuri bca executata la parapetii balcoanelor sau logiilor pentru umplere goluri | D22: ="mc" | E22: 1.0 | F22: =E22 | G22: =$E$2*0
A23: 20 | B23: CF01B1[ 3 ] | C23: Tencuieli interioaredriscuite la pereti,execut. manual,de 2 cm grosime,pe zidarie. exclusiv schela executate la parapetii logiilor sau balcoanelor; 2101200 Mortar tencuiala M100 (var pasta) s 1030 | D23: mp | G23: =$E$2*0
A24: 21 | B24: CF10C1[ 12 ] | C24: Glet de ipsos aditivat, din produse uscate predozate, aplicat manual in2 straturi pe tencuieli interioare driscuite la pereti interiori; | D24: ="mp" | E24: 1.0 | F24: =E24 | G24: =$E$2*0
A25: 22 | B25: ="CN01B+[ 1 ]" | C25: Vopsitorii interioare cu vopsea lavabila aplicate manualUn strat amorsa (dilutie 1:4) si un 2 straturi vopsea lavabila de interior , aplicate pe suprafete interioare noi, foarte absorbante; - 2600052 Amorsa pentru zugraveli lavabile interioare - 2600053 Vopsea lavabila de interior de culoare alba | D25: ="mp" | E25: 1.0 | F25: =E25 | G25: =$E$2*0
A26: 23 | B26: +IZA02A8 [6] | C26: Sistem termohidroizolant realizat la copertina balconului de la ultimul etaj, cu polistiren expandat ignifugat EPS 120 de 20 cm grosime si 3 straturi de membrane bituminoase hidroizolante,(agrem. in Romania cu o durabilitate garantata de min 10 ani ). | D26: ="mp" | E26: 7.7 | F26: =E26 | G26: =$E$2*0
A27: 24 | B27: CM06P1 [3] | C27: Sticla securizata colorata montata la parapeti balcoane | D27: mp | E27: 1.0 | F27: =E27 | G27: =$E$2*0
A28: 25 | B28: TRI1AA01C3 | C28: Incarcarea materialelor, grupa a-grele si...marunte,prin aruncare rampa sau teren-auto categ.3 | D28: tona | G28: =(G10*15+G11)/1000
A29: 26 | B29: TRA01A10P | C29: Transportul rutier al...pamantului sau molozului cu autobasculanta dist.=10 km | D29: tona | G29: =G28

Sheet D_011
B1: ='Structura Investitie'!D15 | C1: ='Structura Investitie'!C15
D2: ='Date cladire'!A83 | E2: ='Date cladire'!B83
