Workbook

Sheet Norme
B2: Norme
A4: 1 | B4: ="+CK01A2 [10]" | C4: ="Ferestre performante energetic din PVC cu geam termoizolant cu coeficient de transfer termic de max. 1,1 W/m2K, deschideri oscilobatante, dotate cu fante de circulatie controlata a aerului" | D4: ="mp"
A5: 1.L | B5: =" 0002447" | C5: ="Fereastra performanta energetic din PVC cu geam termoizolant cu coeficient de transfer termic maxim 1,1 W/m2K, deschideri oscilobatante, dotata cu fante pentru aerisirea controlata a spatiilor" | D5: ="mp"
A6: 2 | B6: ="+CK02A1 [18]" | C6: ="Usi performante energetic din PVC cu geam termoizolant cu coeficient de transfer termic de max. 1,1 W/m2K, dotate cu fante de circulatie controlata a aerului" | D6: ="mp"
A7: 2.L | B7: =" 0002488" | C7: ="Usa performanta energetic din PVC cu geam termoizolant cu coeficient de transfer termic maxim 1,1 W/m2K, dotata cu fante pentru aerisirea controlata a spatiilor" | D7: ="mp"
A8: 3 | B8: ="+CK01A2 [11]" | C8: ="Ferestre performante energetic din aluminiu cu geam termoizolant cu coeficient de transfer termic de max. 1,1 W/m2K, deschideri oscilobatante, dotate cu fante de circulatie controlata a aerului" | D8: ="mp"
A9: 3.L | B9: =" 0002448" | C9: ="Fereastra performanta energetic din aluminiu cu geam termoizolant cu coeficient de transfer termic maxim 1,1 W/m2K, deschideri oscilobatante, dotata cu fante pentru aerisirea controlata a spatiilor" | D9: ="mp"
A10: 4 | B10: ="+CK02A1 [19]" | C10: ="Usi performante energetic din aluminiu cu geam termoizolant cu coeficient de transfer termic de max. 1,1 W/m2K, dotate cu fante de circulatie controlata a aerului" | D10: ="mp"
A11: 4.l | B11: =" 0002489" | C11: ="Usa performanta energetic din aluminiu cu geam termoizolant cu coeficient de transfer termic maxim 1,1 W/m2K, dotata cu fante pentru aerisirea controlata a spatiilor" | D11: ="mp"
A12: 5 | B12: IZF35D+[ 20 ] | C12: Sistem termoizolant pentru elemente de fatadarealizat cu polistiren expandat de 15 cm grosime (agrementat in Romania, cu o durabilitate garantata de min 10 ani) pentru zona de camp, strat finisaj exterior realizat cu tencuiala decorativa. | D12: mp
A13: 6 | B13: IZF35D+[ 57 ] | C13: Sistem termoizolant pentru elemente de fatada realizat cu vata minerala bazaltica de 15 cm grosime (agrementat in Romania, cu o durabilitate garantata de min 10 ani), strat finisaj exterior realizat cu tencuiala decorativa. | D13: mp
A14: 7 | B14: +IZF01O4 [13] | C14: Sistem termoizolant realizat cu placi termoizolante de 15 cm grosime cu coeficient de transfer termic de maxim 0,038 W/mK la tavane exterioare, strat finisaj vopsea lavabila | D14: mp
A15: 8 | B15: +IZF01O4 [22] | C15: Sistem termoizolant realizat cu polistiren expandat de 15 cm grosime la interior la tavane strat finisaj vopsea lavabila | D15: mp
A16: 9 | B16: IZF35D+ [28] | C16: Sistem termoizolant pentru elemente de fatada realizat cu polistiren extrudat de 3 cm grosime (agrementat in Romania, cu o durabilitate garantata de min 10 ani) pentru zona spaletilor, strat finisaj exterior realizat cu tencuiala decorativa | D16: mp
A17: 10 | B17: IZF35D+ [32] | C17: Sistem termoizolant pentru elemente de fatadarealizat cu polistiren extrudat de 3 cm grosime (agrementat in Romania, cu o durabilitate garantata de min 10 ani) la spaleti, pentru zona de glaf exterior | D17: mp
A18: 11 | B18: IZF34B+ [3] | C18: Sistem termoizolant pentru elemente de soclu si pereti de subsol realizat cu polistiren extrudat de 10 cm (agrem. in Romania, durabilitate garantata de min 10 ani ), la partea supraterana a soclului, strat finisaj tencuiala mozaicata pentru soclu. | D18: mp
A19: 12 | B19: IZF35D+ [29] | C19: Sistem termoizolant pentru elemente de fatada realizat cu polistiren expandat de 15 cm grosime (agrem. in Romania, cu o durabilitate garantata de min 10 ani) pentru zona de camp fixat cu adeziv poliuretanic, strat finisaj exterior realizat cu tencuiala decorativa. | D19: mp
A20: 13 | B20: IZF35D+ [79] | C20: Sistem termoizolant pentru fatada realizat cu vata minerala bazaltica de 15 cm fixata cu adeziv poliuretanic(agrementat in Romania, cu o durabilitate garantata de min 10 ani), strat finisaj exterior realizat cu tencuiala decorativa | D20: mp
A21: 14 | B21: IZF35D+ [78] | C21: Sistem termoizolant pentru elemente de fatada realizat cu vata minerala bazaltica de 15 cm grosime (agrementat in Romania, cu o durabilitate garantata de min 10 ani), strat finisaj exterior masa de spaclu sub sarpante false | D21: mp
A22: 15 | B22: NMB012391 [2] | C22: Spor manopera - pentru lucrari de termoizolare pereti exteriori cu alpinisti utilitari | D22: mp
A23: 16 | B23: CK26A# [38] | C23: Glafuri interioare din PVC montate la ferestre | D23: m | F23: aceeasi norma si la spatii comune si al individuale
A24: 17 | B24: CL20A1 [4] | C24: Confectii metalice diverse din profile metalice, otel beton, montate la parapetii balcoanelor pentru sustineri si consolidari | D24: kg
A25: 17.L | B25: 20027713 | C25: Confectii metalice diverse din profile laminate, tevi rectangulare, tabla, etc confectionate conform detaliu | D25: kg
A26: 18 | B26: CD18A% [5] | C26: Placare cu placi de ciment armate cu plasa din fibra de sticla tip placocem, 1 strat, la parapetii balcoanelor si logiilor | D26: mp
A27: 19 | B27: VB13A1[ 5 ] | C27: Rama cu jaluzele fixe cu plasa avand perimetrul de 700-1400 mm pentru aerisire | D27: buc
A28: 19.L | B28: 20027736 | C28: Grila de ventilare cu plasa dimensiunea 20x20cm | D28: buc
A29: 20 | B29: CC09A1 [19] | C29: Ancorarea chimica a armaturilor FI 12mm L= 150mm | D29: buc
A30: 21 | B30: CE15C1 [4] | C30: Glaf pentru colturi din tabla zincata de 0,5 mm grosime | D30: m
A31: 22 | B31: RPCXA01A | C31: Sapatura manuala pamant spatii limitate <1m. sub...1. 5m. adinc la sant canale etc. | D31: mc
A32: 23 | B32: CA01A1 | C32: Turnarea betonului simplu în fundatii continue, izolate si socluri cu volum pâna la 3 mc, inclusiv | D32: mc
A33: 23.L | B33: 2100971 | C33: Beton de ciment B 300 stas 3622 | D33: mc
A34: 24 | B34: CE18A1 | C34: Astereala la învelitori sau la doliile invelitorilor din tigla si azbociment scinduri din rasinoase | D34: mp
A35: 25 | B35: IZF10C1 [22] | C35: Termoizolatie realizata cu polistiren expandat ignifugat EPS 120 de 20 cm la terase | D35: mp
A36: 26 | B36: IZF10C1 [23] | C36: Termoizolatie realizata cu polistiren expandat ignifugat EPS 120 de 5 cm la aticul de la terase | D36: mp
A37: 27 | B37: IZF10C1 [24] | C37: Termoizolatie realizata cu polistiren expandat ignifugat EPS 120 de 5 cm la gurile de aerisire de la terase | D37: mp
A38: 28 | B38: CG01D1 [14] | C38: Strat de sapa turnata la terase grosime medie 6 cm supratata fin driscuita | D38: mp
A39: 28.L | B39: 2101200 | C39: Mortar tencuiala M 100 (var pasta) s 1030 | D39: mc
A40: 29 | B40: CG01D1 [3] | C40: Strat de protectie a polistirenului executat din mortar de ciment marca M 100-T de 6 cm grosime medie, cu suprafata driscuita la planseul peste ultimul nivel, in pod | D40: mp
A41: 29.L | B41: 2101200 | C41: Mortar tencuiala M 100 (var pasta) s 1030 | D41: mc
A42: 30 | B42: IZF28A+ [1] | C42: Strat de separatie din folie PVC | D42: mp
A43: 31 | B43: TE06C1 | C43: Plasa de armatura sudata tip stnb...d=6mm ochiurile 100x100mm | D43: mp
A44: 32 | B44: AUT3343A1 | C44: Pompa pneumaticade beton pb250 4-6mc/ora | D44: ora
A45: 33 | B45: TsD16XB [8] | C45: Strat de lest din pietris cu granulatie de 16-32 mm aplicat peste membrana hidroizolanta la terasa grosime medie 5cm | D45: mp
A46: 34 | B46: IZF03A1 [6] | C46: Montare folie textila pentru separare straturi tip geotextil | D46: mp
A47: 34.L | B47: 2600517 | C47: Folie separare straturi tip geotextil 300g/mp | D47: mp
A48: 35 | B48: +IZF01O6 [20] | C48: Sistem termoizolant realizat cu vata minerala de 20cm grosime, cu efort la compresiune de min 20 kPa (agrementat in Romania cu o durabilitate garantata de min 10 ani), la planseul peste ultimul nivel, in pod | D48: mp
A49: 36 | B49: +IZF01A6 [5] | C49: Sistem termoizolant realizat cu vata minerala grosime 5 cm, cu efort la compresiune de min 20 kPa, la aticul din pod (agrementat in Romania cu o durabilitate garantata de min 10 ani), strat finisaj glet si lavabila de exterior | D49: mp
A50: 37 | B50: +IZF01A8 [6] | C50: Sistem termoizolant realizat cu vata minerala bazaltica, grosime 5 cm , cu efort la compresiune de min 20 kPa, la gurile de aerisire din pod (agrementat in Romania cu o durabilitate garantata de min 10 ani), strat finisaj glet si lavabila de exterior, | D50: mp
A51: 38 | B51: +IZF01O6 | C51: Sistem termoizolant realizat cu polistiren expandat EPS 120, de 20cm grosime (agrementat in Romania cu o durabilitate garantata de min 10 ani), la planseul peste ultimul nivel, in pod | D51: mp
A52: 39 | B52: +IZF01A6 [1] | C52: Sistem termoizolant realizat cu polistiren expandat de 5 cm la aticul din pod (agrementat in Romania cu o durabilitate garantata de min 10 ani), strat finisaj glet, amorsa si lavabila de exterior | D52: mp
A53: 40 | B53: +IZF01A8 [1] | C53: Sistem termoizolant realizat cu polistiren expandat de 5 cm la gurile de aerisire din pod (agrementat in Romania cu o durabilitate garantata de min 10 ani), strat finisaj glet, amorsa si lavabila de exterior | D53: mp
A54: 41 | B54: CP37J1 [3] | C54: Asimilat - Etansarea rosturilor orizontale la atic terasa sau pod cu fâsii din polistiren ignifugat de 5 cm grosime si profil de rost; | D54: m
A55: 42 | B55: CP37J1 [5] | C55: Asimilat - Etansarea rosturilor orizontale la atic terasa sau pod cu fâsii vata minerala bazaltica de 5 cm grosime si profil de rost; | D55: m
A56: 43 | B56: CO22A1 [1] | C56: Grinzi din lemn ecarisat folosite ca suport pentru placi de OSB care protejeaza vata minerala la planseul peste ultimul nivel | D56: mc
A57: 43.L | B57: 2960632 | C57: Lemn ecarisat de rasinoase | D57: mc
A58: 44 | B58: CD20A+ [11] | C58: Placi din OSB, grosime 12mm utilizate pentru protectie vata minerala la termoizolarea planseului peste ultimul nivel | D58: mp
A59: 45 | B59: RPCE07B+ [2] | C59: Strat de bariera contra vaporilor la plansee termoizolate cu vata minerala | D59: mp
A60: 46 | B60: CN54A+ [1] | C60: Ignifugare si protectie insecto-fungicida elementelor de constructii din lemn | D60: mp
A61: 47 | B61: +IZF01L [1] | C61: Sistem termoizolant realizat cu polistiren expandat ignifugat de 10 cm grosime pentru planseu peste subsol (agrementat in Romania cu o durabilitate garantata de min 10 ani), strat finisaj glet | D61: mp
A62: 48 | B62: +IZF01O4 [6] | C62: Sistem termoizolant realizat cu vata minerala bazaltica de 10 cm grosime la tavane (agrementat in Romania cu o durabilitate garantata de min 10 ani), strat finisaj glet si vopsea lavabila | D62: mp
A63: 49 | B63: IZF35D+ [11] | C63: Sistem termoizolant realizat cu vata minerala bazaltica de 10 cm grosime la pereti (agrementat in Romania, cu o durabilitate garantata de min 10 ani), strat finisaj interior realizat cu glet si vopsea lavabila | D63: mp
A64: 50 | B64: IZF35D+[ 18 ] | C64: Sistem termoizolant pentru elemente de fatada realizat cu polistiren expandat de 10 cm grosime (agrementat in Romania, cu o durabilitate garantata de min 10 ani) pentru zona de camp , strat finisaj exterior realizat cu tencuiala decorativa. | D64: mp
A65: 51 | B65: IZF35D+[ 58 ] | C65: Sistem termoizolant pentru elemente de fatada realizat cu vata minerala bazaltica de 10 cm grosime (agrementat in Romania, cu o durabilitate garantata de min 10 ani), strat finisaj exterior realizat cu tencuiala decorativa.. | D65: mp
A66: 52 | B66: RPCH09B1 [11] | C66: Montare conectori metalici pentru prindere elemente din lemn la sarpante - piesa tip vinclu 100x100x100mm | D66: buc
A67: 52.L | B67: 2308383 | C67: Piesa metalica pentru prindere elemente de sarpanta tip vinclu 100x100x100mm | D67: buc
A68: 53 | B68: RPCH09B1 [12] | C68: Montare conectori metalici pentru prindere elemente din lemn la sarpante - piesa tip vinclu 150x150x150mm | D68: buc
A69: 53.L | B69: 2308384 | C69: Piesa metalica pentru prindere elemente de sarpanta tip vinclu 150x150x150mm | D69: buc
A70: 54 | B70: CE01A1 | C70: Invelitoare din tigla profilata din argila arsa la acoperisuri fara astereala, asezate pe sipci 28x48 mm, inclusiv executarea din tabla zincata a doliilor, paziilor, racordarilor la cosuri | D70: mp
A71: 54.L | B71: 2303016 | C71: Tigla cu jgheab lat.cu 4 cioc c2 405x230x11 s515 | D71: buc
A72: 55 | B72: IZF35D+ [9] | C72: Sistem termoizolant realizat cu vata minerala bazaltica de 15 cm grosime (agrementat in Romania, cu o durabilitate garantata de min 10 ani), la acoperis sarpanta, intre capriori | D72: mp
A73: 56 | B73: CD20A+ [13] | C73: Placi presate plate din OSB, grosime 12mm utilizate pentru protectie vata minerala la termoizolarea acoperisului de la mansarda | D73: mp
A74: 57 | B74: CD18A% [10] | C74: Placare cu placi de gipscarton rezistente la foc pe structura metalica la acoperis mansarda | D74: mp
A75: 58 | B75: CF06D1 | C75: Tencuieli exterioare obisnuite executate manual, driscuite, de pe platforma de lucru a cofrajelor glisante, cu mortar de var-ciment marca M25-T, în grosime medie de 1 cm ; | D75: mp
A76: 58.L | B76: 2101198 | C76: Mortar pentru tencuiala M 25 - T | D76: mc
A77: 59 | B77: +CN02B | C77: Tencuieliexecutate cu tencuieli decorative la pereti exteriori si diverse elemente de constructie exterioare | D77: mp
A78: 60 | B78: RPCI42A# [10] | C78: Demontare cos de fum din tubulatura tabla diametru de 150-200mm is. | D78: m
A79: 61 | B79: CD11F% [2] | C79: Sistem de cos de fum din inox izolat d.int=200 mm montare + procurare | D79: m
A80: 61.L | B80: 1805 | C80: Racord la cosul de fum d=125mm | D80: buc
A81: 52 | B81: IZJ12A1 [1] | C81: Desfacerea sistemelor termoizolante realizate cu polistiren sau vata minerala de la pereti, spaleti, socluri, intrados balcoane | D81: mp
A82: 63 | B82: RPCT39A1 [9] | C82: Demontarea diverselor elemente din prefabricate de beton - trafoare | D82: mp
A83: 64 | B83: +IZA02A8 [6] | C83: Sistem termohidroizolant realizat la copertina balconului de la ultimul etaj, cu polistiren expandat ignifugat EPS 120 de 20 cm grosime si 3 straturi de membrane bituminoase hidroizolante,(agrem. in Romania cu o durabilitate garantata de min 10 ani ). | D83: mp
A84: 65 | B84: CE20A1 [2] | C84: Sipci din lemn montate la acoperisuri pentru sustinerea si fixarea invelitorilor din tigla ceramica.
A85: 66 | B85: ="+CK02A2 [5]" | C85: Tamplarie din profile PVC, 5 camere si panou tip panel pentru pereti despartitori
A86: 66.L | B86: -20027680 | C86: Tamplarie din profile PVC cu 5 camere si panou din panel ( pvc-polistiren extrudat-pvc) pentru pereti despartitori
A87: 67 | B87: RPCP09A1 [4] | C87: Parazapezi tip bara pentru invelitori
A88: 68 | B88: IZF35D+ [46] | C88: Sistem termoizolant pentru elemente de fatada realizat cu polistiren expandat de 15 cm grosime (agrementat in romania cu o durabilitate garantada de min 10 ani) pentru zona de camp strat finisaj exterior realizat cu tencujaiala decorativa imitatie caramida aparenta | D88: mp
A89: 69 | B89: IZF35D+ [47] | C89: Sistem termoizolant pentru elemente de fatada realizat cu vata minerala de 15 cm grosime (agrementat in romania cu o durabilitate garantada de min 10 ani) pentru zona de camp strat finisaj exterior realizat cu tencujaiala decorativa imitatie caramida aparenta | D89: mp
A90: 70 | B90: IZF35D+ [73] | C90: Sistem termoizolant pentru elemente de fatada realizat cu polistiren expandat de 10 cm grosime (agrementat in romania cu o durabilitate garantada de min 10 ani) pentru zona de camp strat finisaj exterior realizat cu tencujaiala decorativa imitatie caramida aparenta | D90: mp
A91: 71 | B91: IZF35D+ [74] | C91: Sistem termoizolant pentru elemente de fatada realizat cu vata minerala de 10 cm grosime (agrementat in romania cu o durabilitate garantada de min 10 ani) pentru zona de camp strat finisaj exterior realizat cu tencujaiala decorativa imitatie caramida aparenta | D91: mp
A92: 72 | B92: +IZF01O4 [23] | C92: Sistem termoizolant realizat cu polistiren expandat de 20 cm grosime la tavane exterioare (agrementat in Romania cu o durabilitate garantata de min 10 ani), strat finisaj vopsea lavabila | D92: mp
A93: 73 | B93: IZF10C1 [25] | C93: Termoizolatie realizata cu polistiren expandat ignifugat EPS 120 de 30 cm la terase | D93: mp
A94: 74 | B94: +IZF01O6 [22] | C94: Sistem termoizolant realizat cu vata minerala bazaltica de 30cm grosime, R compresiune >20 kPA (agrementat in Romania cu o durabilitate garantata de min 10 ani), la planseul peste ultimul nivel, in pod | D94: mp
A95: 8 | B95: ="RPCT39A1 [1]" | C95: Demontarea balustradelor, grilelor, si parapetelor metalice montate în beton, inclusiv elementele componente ale acestora, sticla, prefabricate din beton, elemente ornamentale din plastic sau lemn, de la balcoane si logii. | D95: kg
B96: CK19A# [1] | C96: Ferestre aluminiu cu unul sau mai multe canaturi, cu un rand de sticla suprafata tocului...<= 3,00 mp,la constructii cu h<= 35 m - 2500381 - Fereastra cu deschidere spre interior din profile de aluminiu cu un rand sticla | D96: ="mp" | F96: pt feresterele din pod / lucarne
B97: RPCXI05A[ 4 ] | C97: Demontare glafuri ( sorturi ) din tabla de la partea superioara a calcanului | D97: ="m" | F97: montare/demontare pt glaful de la calcan - deviz de reparatii la fatada, sau reparatii acoperis (in functie de lucrarea blocului)
B98: CE15F1 [5] - | C98: Glaf din tabla zincata de 0,5mm grosime cu latimea intre 50-70 cm confectionat si montat pentru protectia calcanului la partea superioara | D98: ="m"
B99: NMB012391 [2] | C99: Spor manopera - pentru lucrari de termoizolare pereti exteriori cu alpinisti utilitari | F99: alpinisti utilitari - devizul de izolare perete ext
B100: ="IZF35D+ [3]" | C100: ="Sistem termoizolant pentru elemente de fatada realizat cu vata minerala bazaltica de 3 cm grosime (agrementat in Romania, cu o durabilitate garantata de min 10 ani) pentru zona spaletilor, strat finisaj exterior realizat cu tencuiala decorativa" | D100: ="mp" | F100: VM - Spaletii | G100: izolare pereti ext
B101: ="IZF35D+ [26]" | C101: ="Sistem termoizolant pentru elemente de fatada realizat cu vata minerala bazaltica de 3 cm grosime (agrementat in Romania, cu o durabilitate garantata de min 10 ani) pentru zona spaletilor, strat final mortar adeziv flexibil pentru spacluire" | D101: ="mp" | F101: VM - glaf
B102: ="IZF34B+ [2]" | C102: ="Sistem termoizolant pentru elemente de soclu si pereti de subsol realizat cu polistiren extrudat de 5 cm (agrem. in Romania, durabilitate garantata de min 10 ani ), la partea supraterana a soclului, strat finisaj tencuiala mozaicata pentru soclu." | D102: ="mp" | F102: soclu 5 cm
...

Sheet Structura Investitie
A1: ="NrCrt" | B1: ="Tip" | C1: Denumire | D1: ="Foaie" | E1: ="NrCrt Parinte"
A2: ="2" | B2: ="I" | C2: [0004]-Nasaud 29.07.2022 - Sablon Operatiunea A3 - Renovarea energetica moderasa sau aprofundata a cladirilor rezidentiale multifamiliale
A3: ="3" | B3: ="O" | C3: [1]-Asigurare utilitati | E3: ="2"
A4: ="4" | B4: ="D" | C4: [1.1]-Racorduri pentru statia de incarcare masini electrice | D4: ="D_001" | E4: ="3"
A5: ="5" | B5: ="O" | C5: [2]-Reabilitare termica a elementelor de anvelopa a cladirii | E5: ="2"
A6: ="6" | B6: ="D" | C6: [2.1]-Inlocuirea tamplariei exterioare existente - spatii comune | D6: ="D_002" | E6: ="5"
A7: ="7" | B7: ="D" | C7: [2.2]-Inlocuirea tamplariei interioare catre spatii neincalzite - spatii comune | D7: ="D_003" | E7: ="5"
A8: ="8" | B8: ="D" | C8: [2.3]-Inlocuirea tamplariei exterioare existente - spatii individuale | D8: ="D_004" | E8: ="5"
A9: ="9" | B9: ="D" | C9: [2.4]-Inlocuirea tamplariei exterioare existente - spatii individuale cu alte destinatii diverse | D9: ="D_005" | E9: ="5"
A10: ="10" | B10: ="D" | C10: [2.5]-Izolarea termica a peretilor exteriori | D10: ="D_006" | E10: ="5"
A11: ="11" | B11: ="D" | C11: [2.6]-Termohidroizolarea planseului peste ultimul nivel pe terasa | D11: ="D_007" | E11: ="5"
A12: ="12" | B12: ="D" | C12: [2.7]-Termoizolarea planseului peste ultimul nivel in pod | D12: ="D_008" | E12: ="5"
A13: ="13" | B13: ="D" | C13: [2.8]-Inlocuirea invelitorii | D13: ="D_009" | E13: ="5"
A14: ="14" | B14: ="D" | C14: [2.9]-Inchiderea balcoanelor/logiilor - tamplarie si parapet | D14: ="D_010" | E14: ="5"
A15: ="15" | B15: ="D" | C15: [2.10]-Izolarea termica a planseului peste subsol | D15: ="D_011" | E15: ="5"
A16: ="16" | B16: ="D" | C16: [2.11]-Izolarea termica a peretilor catre spatii comune neincalzite | D16: ="D_012" | E16: ="5"
A17: ="17" | B17: ="O" | C17: [3]-Instalare/reabilitare/ modernizare sisteme climatizare/ventilare | E17: ="2"
A18: ="18" | B18: ="D" | C18: [3.1]-Ventilare naturala sau mecanica prin dispozitive, fante, grile aerisire | D18: ="D_013" | E18: ="17"
A19: ="19" | B19: ="O" | C19: [4]-Reabilitare/modernizare a a instalatiilor de iluminat in cladiri | E19: ="2"
A20: ="20" | B20: ="D" | C20: [4.1]-Inlocuirea instalatiei de iluminat la spatiile comune | D20: ="D_014" | E20: ="19"
A21: ="21" | B21: ="D" | C21: [4.2]-Instalarea de corpuri de iluminat | D21: ="D_015" | E21: ="19"
A22: ="22" | B22: ="O" | C22: [5]-Sisteme alternative de producere a energiei electrice | E22: ="2"
A23: ="23" | B23: ="D" | C23: [5.1]-Instalatie electrica panouri fotovoltaice | D23: ="D_016" | E23: ="22"
A24: ="24" | B24: ="D" | C24: [5.2]-Montaj echipamente - sistem fotovoltaic | D24: ="D_017" | E24: ="22"
A25: ="25" | B25: ="O" | C25: [6]-Echiparea cladirilor cu statii de incarcare pentru masini electrice | E25: ="2"
A26: ="26" | B26: ="D" | C26: [6.1]-Pregatire puncte de reîncarcare pentru vehicule electrice | D26: ="D_018" | E26: ="25"
A27: ="27" | B27: ="D" | C27: [6.2]-Amenajare statie de incarcare masini electrice | D27: ="D_019" | E27: ="25"
A28: ="28" | B28: ="D" | C28: [6.3]-Montaj utilaj - statie de incarcare masini electrice | D28: ="D_020" | E28: ="25"
A29: ="29" | B29: ="O" | C29: [7]-Alte tipuri de lucrari | E29: ="2"
A30: ="30" | B30: ="D" | C30: [7.1]-Repararea trotuarelor de protectie | D30: ="D_021" | E30: ="29"
A31: ="31" | B31: ="D" | C31: [7.2]-Repararea acoperisului tip terasa/sarpanta inclusiv inlocuirea sistemului de colectare/evacuare a apelor meteorice | D31: ="D_022" | E31: ="29"
A32: ="32" | B32: ="D" | C32: [7.3]-Construirea acoperisului tip sarpanta cu invelitoare tigla metalica | D32: ="D_023" | E32: ="29"
A33: ="33" | B33: ="D" | C33: [7.4]-Demontarea si remontarea instalatiilor si echipamentelor de pe fatada si terasa | D33: ="D_024" | E33: ="29"
A34: ="34" | B34: ="D" | C34: [7.5]-Repararea elementelor de constructii care prezinta pericol de desprindere sau afecteaza functionalitatea cladirii | D34: ="D_025" | E34: ="29"
A35: ="35" | B35: ="D" | C35: [7.6]-Refacerea finisajelor interioare in zonele de interventie - la spatii comune | D35: ="D_026" | E35: ="29"
A36: ="36" | B36: ="D" | C36: [7.7]-Refacerea finisajelor interioare in zonele de interventie - la spatii individuale | D36: ="D_027" | E36: ="29"
A37: ="37" | B37: ="D" | C37: [7.8]-Refacerea finisajelor interioare in zonele de interventie - la spatii individuale cu destinatii diverse | D37: ="D_028" | E37: ="29"
A38: ="38" | B38: ="D" | C38: [7.9]-Instalatia de paratraznet si priza de pamant | D38: ="D_029" | E38: ="29"
A39: ="39" | B39: ="D" | C39: [7.10]-Montaj utilaj PDA | D39: ="D_030" | E39: ="29"
A40: ="40" | B40: ="O" | C40: [8]-Organizare de santier | E40: ="2"
A41: ="41" | B41: ="D" | C41: [8.1]-Organizare de santier - lucrari de constructii | D41: ="D_031" | E41: ="40"
C45: Obs
B46: 1 | C46: Campurile verzi se calculeaza in particular ptr fiecare bloc
B47: 2 | C47: Referitor la Izolarea planseului peste ultimul nivel unele cantitati sunt calculate automat atat in Sheetul de terasa cat si in cel de pod. Acestea se vor adapta in functie de solutia de la fiecare bloc (docs) astfel incat sa ramana doar cantitatile care trebuiesc prinse in devize. (actualizam casuta 1 din fiecare deviz in functie de lucrarea necesara - explicatiile sunt in dreapta)
B48: 3 | C48: In cazul termoizolarii planseului de la ultmul nivel in pod - se vf daca e VM sau Polistiren, si straturile propuse - in sablon sunt prinse 2 solutii(placi osb pe grinzi si sapa cu straturile aferente ), alegem solutia de pe docs iar cealalta o notam cu 0.
B49: 4 | C49: In cazul termoizolatiilor , se verifica in prealabil solutile din sablon cu cele de pe docs, daca solutile de pe docs sunt diferite fata de sablon (de ex : la terasa in sablon se izoleaza cu VM iar blocul se izoleaza cu polistiren se inlcouiesc normele respective cu cele din shetul norme) sau se cer la Mircea norme care nu se regasec.
B50: 5 | C50: In cazul invelitoarei se alege tipul de desfacere si montrea invelitoarei (de pe docs) la fiecare bloc . Restlul invelitoarelor vor fi cu 0.
B51: 6 | C51: In cazul sarpanetei inainte de parcurgerea devizelor se stabilieste lucrarea necesara : inlocuirea invelitoarei , repare sau construire.Cantitati vor fi doar in cazul lucrarilor necesare restul devizelor vor fi cu 0.
B52: 7 | C52: In cazul corpurilor de iluminat se vf plansele de instalatii pt a vedea cate s-au prins in proiect de catre Serban. De stabilit daca calculam cabluriile la sist fotovoltaic
C59: Metodologie de calcul
B60: 1 | C60: Glafurile interioare se inlocuiesc la spatiile individuale care
B61: 2 | C61: Kiturile de ct- numai in cazul in care avem la bloc gaz nu apar

Sheet Date cladire
A2: Adresa bloc
A3: Cladire vecina | B3: 88.62 | C3: SCRIE: CLADIRE VECINA
A4: Perimetru parter (fara usi acces in bloc) | B4: 350.84 | C4: CALCULEAZA: PERIMETRU PLAN PARTER - SUMA(LATIME USA SC) - CLADIRE VECINA
A5: Perimetru parter | B5: 2.65 | C5: SCRIE: PERIMETRU PLAN PARTER
A6: Perimetru etaj | B6: 1754.2 | C6: SCRIE: PERIMETRU PLAN ETAJ CURENT
A7: Perimetru atic | B7: 1691.33 | C7: SCRIE: PERIMETRU PLAN TERASA
A8: Petrimetru invelitoare | B8: 1261.67 | C8: SCRIE: PERIMETRU PLAN INVELITOARE
A9: Perimetru etaj tehnic | B9: 316.65 | C9: SCRIE: PERIMETRU PLAN ETAJ TEHNIC
A10: H parter | B10: 79.76 | C10: SCRIE: INALTIME PARTER
A11: H cladire de la pardoseala etaj I pana la partea superioara atic | B11: 0 | C11: SCRIE: H CLAD DE LA E1 PANA LA ATIC EXISTENT
A12: Inaltime cladire (de la cota 0.00, pana la cota superioara a aticului dupa suprainaltare) | B12: 0 | C12: SCRIE: HCLAD DE LA 0.00 PANA LA ATIC SUPRAINALTAT
A13: Inaltime atic (la interior, dupa suprainaltare) | B13: 0 | C13: SCRIE: INALTIME ATIC DUPA SUPRAINALTARE
A14: Inaltime sarpanta | B14: 0 | C14: SCRIE: valoarea INALTIME SARPANTA iar daca nu exista scrie 0
... A29: Balcoane - 3 laturi (latime + 2 x inaltime) | B29: 0 | C29: CALCULEAZA: SUMA(LATIME BALCON SI) + SUMA(LATIME BALCON SC) + 2*SUMA(INALTIME BALCON SI) + 2*SUMA(INALTIME BALCON SC)
A30: Nr guri de aerisire pod/terasa
A31: Nr de ap in bloc
A32: Cantitate ferestre spatii comune care se inlocuieste | B32: 0 | C32: CALCULEAZA: SUMA(F SC INLOC)
A33: Cantitate usi spatii comune care se inlocuieste | B33: 0 | C33: CALCULEAZA: SUMA(U SC INLOC)
A34: Cantitate balcoane spatii comune care se inlocuiesc (fara G->PVC) | B34: 0 | C34: CALCULEAZA: SUMA(F SC BALCON INLOCUIT)
A35: Cantitate balcone spatii comune care se propun noi (G->PVC) | B35: 0 | C35: CALCULEAZA: SUMA(F SC BALCON INLOCUIT)
A36: Cantitate balcone spatii comune care se demonteaza si ramane gol(B.E->G) | B36: 0 | C36: CALCULEAZA: SUMA(B SC DEMONTAT)
A37: Spaleti spatii comune (perimetru ferestre + balcone + usi pe 3 laturi) - tamplarie la care se intervine | B37: 0 | C37: CALCULEAZA: (SUMA(LATIME USA SC) + 2*SUMA(INALTIME USA SC)) + (2*SUMA(LATIME FERESTRE SC) + 2*SUMA(INALTIME FERESTRE SC))
A38: Cantitate ferestre spatii individuale care se inlocuieste | B38: 0 | C38: CALCULEAZA: SUMA(F SI INLOC)
A39: Cantitate usi spatii individuale care se inlocuieste | B39: 0 | C39: CALCULEAZA: SUMA(U SI INLOC)
A40: Cantitate balcoane spatii individuale care se inlocuiesc (fara G->PVC) | B40: 0 | C40: CALCULEAZA: SUMA(FI BALCON INLOCUIT)/2
A41: Cantitate balcone spatii individuale care se propun noi (G->PVC) | B41: 0 | C41: CALCULEAZA: SUMA(FI BALCON INLOCUIT)/2
A42: Cantitate panel despartitor
A43: Cantitate balcone spatii individuale care se demonteaza si ramane gol (B.E->G)
A44: Spaleti spatii individuale (perimetru ferestre + balcone + usi pe 3 laturi) - tamplarie la care se intervine | B44: 0 | C44: CALCULEAZA: (2*SUMA(LATIME FERESTRE SI) + 2*SUMA(INALTIME FERESTRE SI)) + (2*SUMA(LATIME BALCON SI) + 2*SUMA(INALTIME BALCON SI))
A45: Cantitate ferestre SAD care se inlocuiesc | B45: 0 | C45: scrie:0
A46: Cantitate usi SAD care se inlocuiesc | B46: 0 | C46: scrie:0
A47: Spaleti SAD (perimetru ferestre + usi pe 3 laturi) - tamplarie la care se intervine | B47: 0 | C47: scrie:0
A48: Numar panouri fotovoltaice (de pe docs)
A49: Numar statii incarcare (de pe docs)
A50: Chepeng acces pod (buc)
A51: Chepeng acces terasa (buc)
A52: Supafata laterala parter pentru schela | B52: 0 | C52: CALCULEAZA: SUMA(FATADA) + SUMA(SUPRAFATA SOCLU)
A53: Supratafa laterala etaj pentru schela | B53: 0 | C53: scrie 0
A54: Suprafata laterala etaj tehnic pentr schela | B54: 0 | C54: scie 0
A55: Suprafata laterala parter pentru termosistem | B55: 0 | C55: CALCULEAZA: SUMA(FATADA) - SUMA(F SI) - SUMA(F BALCON) - SUMA(U SC) - SUMA(F SC)
A56: Suprafata laterala etaj pentru termosistem | B56: 0 | C56: scrie 0
A57: Suprafata laterala etaj tehnic pentru termosistem | B57: 0 | C57: CALCULEAZA: SUMA(FATADA ETAJ TEHNIC)
A58: Suprafata laterala soclu | B58: 0 | C58: SCRIE: SUPRAFATA SOCLU
A59: Suprafata laterala atic | B59: 0 | C59: SCRIE: SUPRAFATA ATIC
A60: Numar etaje (fara parter si etaj tehnic)
A61: Numar colturi exterioare+interioare cladire
A62: Numar colturi balcone/ etaj
A63: Numar colturi exterioare+interioare etaj tehnic
A64: Cantitate tamplarie de la bucatarii care se demonteaza
A65: Spaleti demontare tamplarie de la bucatarii (perimetru ferestre + usi care se demonteaza)
A66: Lungime cabluri fatada | B66: 0 | C66: CALCULEAZA: SUMA(CABLURI)
A67: Lungime teava gaz fatada | B67: 0 | C67: CALCULEAZA: SUMA(TEAVA DE GAZ)
A68: Numar contoare gaz
A69: Numar antene
A70: Numar AC
A71: Numar interfoane
A72: Cantitate usi interioare care se inlocuiesc
A73: Spaleti usi interioare care se inlocuiesc
A75: Lungime Suprainaltare de atic/centura terasa | B75: 0 | C75: scrie valoarea din celula D7
A76: Lungime Suprainaltare de atic/centura etaj tehnic | B76: 0 | C76: scrie valoarea din celula D9
A77: Latime atic/centura terasa | B77: 0 | C77: scrie valoarea 0,35
A78: Inaltime atic/centura terasa | B78: 0 | C78: scrie valoarea din celula D13
A79: Latime atic/centura Etaj tehnic | B79: 0 | C79: scrie valoarea 0,35
A80: Inaltime atic/centura etaj tehnic | B80: 0 | C80: scrie valoarea din celula D13
A83: procent | B83: 1.05
A85: Suprafata intrados balcon; zone retrase | B85: 0 | C85: CALCULEAZA: SUMA(SUPRAFATA INTRADOS BALCON) + SUMA(SUPRAFATA ZONE RETRASE)
A86: Rost de dilatare vertical | B86: 0 | C86: CALCULEAZA: SUMA(ROST DE DILATARE VERTICAL)
A87: Glaf ferestre spatii comune | B87: 0 | C87: CALCULEAZA: SUMA(LATIME FERESTRE SC INLOC)
A88: Glaf fereastra spatii individuale | B88: 0 | C88: CALCULEAZA: SUMA(LATIME FERESTRE SI INLOC)
A89: Rost de dilatare orizontal | B89: 0 | C89: CALCULEAZA: SUMA(ROST DE DILATARE ORIZONTAL)
A90: Copertine propuse panou tristrat | B90: 0 | C90: CALCULEAZA: SUMA( COPERTINE PANOU TRISTRAT)
A91: Elemente decorative parapet balcon | C91: CALCULEAZA: SUMA( ELEMENTE DECORATIVE PARAPET EXISTENT)
A92: Suprafata pereti casa scarii | C92: CALCULEAZA: SUMA ( PERETI CASA SCARII)
A93: Suprafata tavane casa scarii | C93: CALCULEAZA: SUMA ( TAVANE CASA SCARII)
A94: Suprafata caramida aparenta | C94: CALCULEAZA: SUMA ( CARAMIDA APARENTA)
A95: Suprafata copertine zone de acces | C95: CALCULEAZA: SUMA ( COPERTINE ZONE DE ACCES)
A96: Balustrada metalica cu montanti verticali, hp=90 cm | C96: CALCULEAZA: SUMA ( BALUSTRADA METALICA CU MONTANTI VERTICALI)

Sheet D_001
B1: ='Structura Investitie'!D4 | C1: ='Structura Investitie'!C4
A3: ="NrCrt" | B3: ="Simbol" | C3: Denumire | D3: ="UM" | E3: ="Consum" | F3: ="Cantitate" | G3: ='Date cladire'!B2 | H3: ='Date cladire'!D2
A4: ="2" | B4: ="0001745" | C4: Racord electric pentru statie de incarcare masini electrice de min 22kw | D4: ="buc" | E4: 1.0 | F4: =E4 | G4: ='Date cladire'!B49 | H4: ='Date cladire'!D49
A5: ="3" | B5: ="0001746" | C5: Racord date pentru statia de incarcare electrica masini | D5: ="buc" | E5: 1.0 | F5: =E5 | G5: ='Date cladire'!B49 | H5: ='Date cladire'!D49
C7: (nu prindem statii chiar daca sunt, se prind separat)

Sheet D_002
B1: ='Structura Investitie'!D6 | C1: ='Structura Investitie'!C6
D2: ='Date cladire'!A83 | E2: ='Date cladire'!B83
A3: ="NrCrt" | B3: ="Simbol" | C3: Denumire | D3: ="UM" | E3: ="Consum" | F3: ="Cantitate" | G3: ='Date cladire'!B2 | H3: ='Date cladire'!D2
A4: ="1" | B4: ="RPCT33A1 [18]" | C4: Demontarea usilor si ferestrelor din lemn, metal sau PVC | D4: ="mp" | E4: 1.0 | F4: =E4 | G4: =$E$2*('Date cladire'!B32+'Date cladire'!B33) | H4: =$E$2*('Date cladire'!D32+'Date cladire'!D33)
A5: ="2" | B5: +CK01A2 [10] | C5: Ferestre performante energetic din PVC cu geam termoizolant cu coeficient de transfer termic de max. 1,1 W/m2K, deschideri oscilobatante, dotate cu fante de circulatie controlata a aerului - 0002447 Fereastra performanta energetic din PVC cu geam termoizolant cu coeficient de transfer termic maxim 1,1 W/m2K, deschideri oscilobatante, dotata cu fante pentru aerisirea controlata a spatiilor | D5: ="mp" | E5: 1.0 | F5: =E5 | G5: =$E$2*('Date cladire'!B32) | H5: =$E$2*('Date cladire'!D32)
A6: ="3" | B6: +CK02A1 [18] | C6: Usi performante energetic din PVC cu geam termoizolant cu coeficient de transfer termic de max. 1,1 W/m2K, dotate cu fante de circulatie controlata a aerului -0002488 - Usa performanta energetic din PVC cu geam termoizolant cu coeficient de transfer termic maxim 1,1 W/m2K, dotata cu fante pentru aerisirea controlata a spatiilor | D6: ="mp" | E6: 1.0 | F6: =E6 | G6: =$E$2*'Date cladire'!B33 | H6: =$E$2*'Date cladire'!D33
A7: 4 | B7: CK19A# [1] | C7: Ferestre aluminiu cu unul sau mai multe canaturi, cu un rand de sticla suprafata tocului...<= 3,00 mp,la constructii cu h<= 35 m - 2500381 - Fereastra cu deschidere spre interior din profile de aluminiu cu un rand sticla | D7: ="mp" | G7: =$E$2*0
A8: 5 | B8: ="RPCT33A1 [17]" | C8: Demontarea chepeng acces in pod sau pe terasa | D8: ="mp" | E8: 1.0 | F8: =E8 | G8: 1
A9: 6 | B9: ="CO14A# [4]" | C9: Chepeng pentru acces pe terasa - montare - 0001227 Chepeng acces terasa suprafata de min 1mp | D9: ="buc" | E9: 1.0 | F9: =E9 | G9: 1
A10: 7 | B10: ="CO14A# [1]" | C10: Chepeng cu rezistenta la foc min 60 minute dimensiunea 1x1m montat pentru acces in pod - 6312122 Chepeng acces pod cu rezistenta la foc min 60 minute dimensiunea 1x1m | D10: ="buc" | E10: 1.0 | F10: =E10 | G10: =1.1*'Date cladire'!B50 | H10: =1.1*'Date cladire'!D50
A11: 8 | B11: ="CK22XC [1]" | C11: Montare dispozitiv autoinchidere la usi - 4203897 Dispozitiv de autoinchidere pentru usi | D11: ="buc" | E11: 1.0 | F11: =E11 | G11: 0 | N11: si la subsol punem
A12: 9 | B12: ="TRA02A10" | C12: Transportul rutier al materialelor,semifabricatelor cu autocamionul pe dist.= ...10 km. | D12: ="tona" | E12: 1.0 | F12: =E12 | G12: =(G4*30+G5*60+G6*60+G7*50+G8*75+G9*90+G10*90)/1000
A13: 10 | B13: ="TRI1AC13E1" | C13: Descarcare...materiale gr.c-ambalate,10-50 kg deplas.prin purtare pina la 10m,asez..auto-rampa,teren ctg | D13: ="tona" | E13: 1.0 | F13: =E13 | G13: =G12
A14: ="10" | B14: ="TRB05A22" | C14: Transportul materialelor prin purtat direct.materiale...incomode sub 25 kg distanta 20m | D14: ="tona" | E14: 1.0 | F14: =E14 | G14: =G12

Sheet D_003
B1: ='Structura Investitie'!D7 | C1: ='Structura Investitie'!C7
D2: ='Date cladire'!A83 | E2: ='Date cladire'!B83
A3: ="NrCrt" | B3: ="Simbol" | C3: Denumire | D3: ="UM" | E3: ="Consum" | F3: ="Cantitate" | G3: ='Date cladire'!B2 | H3: ='Date cladire'!D2
A4: ="1" | B4: ="RPCT33A1 [18]" | C4: Demontarea usilor si ferestrelor din lemn, metal sau PVC | D4: ="mp" | E4: 1.0 | F4: =E4 | G4: =$E$2*'Date cladire'!B72 | H4: =$E$2*'Date cladire'!D72
A5: ="2" | B5: +CK02A1 [18] | C5: Usi performante energetic din PVC cu geam termoizolant cu coeficient de transfer termic de max. 1,1 W/m2K, dotate cu fante de circulatie controlata a aerului -0002488 - Usa performanta energetic din PVC cu geam termoizolant cu coeficient de transfer termic maxim 1,1 W/m2K, dotata cu fante pentru aerisirea controlata a spatiilor | D5: ="mp" | E5: 1.0 | F5: =E5 | G5: =G4
A6: 3 | B6: ="TRA02A10" | C6: Transportul rutier al materialelor,semifabricatelor cu autocamionul pe dist.= ...10 km. | D6: ="tona" | E6: 1.0 | F6: =E6 | G6: =(G4*30+G5*60)/1000
A7: 4 | B7: ="TRI1AC13E1" | C7: Descarcare...materiale gr.c-ambalate,10-50 kg deplas.prin purtare pina la 10m,asez..auto-rampa,teren ctg | D7: ="tona" | E7: 1.0 | F7: =E7 | G7: =G6
A8: 5 | B8: ="TRB05A22" | C8: Transportul materialelor prin purtat direct.materiale...incomode sub 25 kg distanta 20m | D8: ="tona" | E8: 1.0 | F8: =E8 | G8: =G6

Sheet D_004
B1: ='Structura Investitie'!D8 | C1: ='Structura Investitie'!C8
D2: ='Date cladire'!A83 | E2: ='Date cladire'!B83
A3: ="NrCrt" | B3: ="Simbol" | C3: Denumire | D3: ="UM" | E3: ="Consum" | F3: ="Cantitate" | G3: ='Date cladire'!B2 | H3: ='Date cladire'!D2
A4: ="1" | B4: ="RPCT33A1 [18]" | C4: Demontarea usilor si ferestrelor din lemn, metal sau PVC | D4: ="mp" | E4: 1.0 | F4: =E4 | G4: =$E$2*'Date cladire'!B38+'Date cladire'!B39 | H4: =$E$2*'Date cladire'!D38+'Date cladire'!D39
A5: ="2" | B5: +CK01A2 [10] | C5: Ferestre performante energetic din PVC cu geam termoizolant cu coeficient de transfer termic de max. 1,1 W/m2K, deschideri oscilobatante, dotate cu fante de circulatie controlata a aerului - 0002447 Fereastra performanta energetic din PVC cu geam termoizolant cu coeficient de transfer termic maxim 1,1 W/m2K, deschideri oscilobatante, dotata cu fante pentru aerisirea controlata a spatiilor | D5: ="mp" | E5: 1.0 | F5: =E5 | G5: =$E$2*'Date cladire'!B38 | H5: =$E$2*'Date cladire'!D38
A6: ="3" | B6: +CK02A1 [18] | C6: Usi performante energetic din PVC cu geam termoizolant cu coeficient de transfer termic de max. 1,1 W/m2K, dotate cu fante de circulatie controlata a aerului -0002488 - Usa performanta energetic din PVC cu geam termoizolant cu coeficient de transfer termic maxim 1,1 W/m2K, dotata cu fante pentru aerisirea controlata a spatiilor | D6: ="mp" | E6: 1.0 | F6: =E6 | G6: =$E$2*'Date cladire'!B39 | H6: =$E$2*'Date cladire'!D39
A7: 4 | B7: ="TRA02A10" | C7: Transportul rutier al materialelor,semifabricatelor cu autocamionul pe dist.= ...10 km. | D7: ="tona" | E7: 1.0 | F7: =E7 | G7: =(G4*30+G5*60+G6*60)/1000
A8: 5 | B8: ="TRI1AC13E1" | C8: Descarcare...materiale gr.c-ambalate,10-50 kg deplas.prin purtare pina la 10m,asez..auto-rampa,teren ctg | D8: ="tona" | E8: 1.0 | F8: =E8 | G8: =G7
A9: 6 | B9: ="TRB05A22" | C9: Transportul materialelor prin purtat direct.materiale...incomode sub 25 kg distanta 20m | D9: ="tona" | E9: 1.0 | F9: =E9 | G9: =G7

Sheet D_005
B1: ='Structura Investitie'!D9 | C1: ='Structura Investitie'!C9
D2: ='Date cladire'!A83 | E2: ='Date cladire'!B83
A3: ="NrCrt" | B3: ="Simbol" | C3: Denumire | D3: ="UM" | E3: ="Consum" | F3: ="Cantitate" | G3: ='Date cladire'!B2 | H3: ='Date cladire'!D2
A4: ="1" | B4: ="RPCT33A1 [18]" | C4: Demontarea usilor si ferestrelor din lemn, metal sau PVC | D4: ="mp" | E4: 1.0 | F4: =E4 | G4: =$E$2*('Date cladire'!B45+'Date cladire'!B46) | H4: =$E$2*('Date cladire'!D45+'Date cladire'!D46)
A5: ="2" | B5: +CK01A2 [10] | C5: Ferestre performante energetic din PVC cu geam termoizolant cu coeficient de transfer termic de max. 1,1 W/m2K, deschideri oscilobatante, dotate cu fante de circulatie controlata a aerului - 0002447 Fereastra performanta energetic din PVC cu geam termoizolant cu coeficient de transfer termic maxim 1,1 W/m2K, deschideri oscilobatante, dotata cu fante pentru aerisirea controlata a spatiilor | D5: ="mp" | E5: 1.0 | F5: =E5 | G5: =$E$2*'Date cladire'!B45 | H5: =$E$2*'Date cladire'!D45
A6: ="3" | B6: +CK02A1 [18] | C6: Usi performante energetic din PVC cu geam termoizolant cu coeficient de transfer termic de max. 1,1 W/m2K, dotate cu fante de circulatie controlata a aerului -0002488 - Usa performanta energetic din PVC cu geam termoizolant cu coeficient de transfer termic maxim 1,1 W/m2K, dotata cu fante pentru aerisirea controlata a spatiilor | D6: ="mp" | E6: 1.0 | F6: =E6 | G6: =$E$2*'Date cladire'!B46 | H6: =$E$2*'Date cladire'!D46
A7: ="6" | B7: IZF35D+[ 20 ] | C7: Sistem termoizolant pentru elemente de fatada realizat cu polistiren expandat de 15 cm grosime (agrementat in Romania, cu o durabilitate garantata de min 10 ani) pentru zona de camp, strat finisaj exterior realizat cu tencuiala decorativa. | D7: ="mp" | E7: 1.0 | F7: =E7 | G7: =$E$2*0
A8: ="6" | B8: IZF35D+[ 57 ] | C8: Sistem termoizolant pentru elemente de fatada realizat cu vata minerala bazaltica de 15 cm grosime (agrementat in Romania, cu o durabilitate garantata de min 10 ani), strat finisaj exterior realizat cu tencuiala decorativa. | D8: ="mp" | E8: 1.0 | F8: =E8 | G8: =$E$2*0
A9: ="4" | B9: ="TRA02A10" | C9: Transportul rutier al materialelor,semifabricatelor cu autocamionul pe dist.= ...10 km. | D9: ="tona" | E9: 1.0 | F9: =E9 | G9: =(G4*30+G5*60+G6*60)/1000+(G7+G8)*20/1000
A10: ="5" | B10: ="TRI1AC13E1" | C10: Descarcare...materiale gr.c-ambalate,10-50 kg deplas.prin purtare pina la 10m,asez..auto-rampa,teren ctg | D10: ="tona" | E10: 1.0 | F10: =E10 | G10: =G9
A11: ="6" | B11: ="TRB05A22" | C11: Transportul materialelor prin purtat direct.materiale...incomode sub 25 kg distanta 20m | D11: ="tona" | E11: 1.0 | F11: =E11 | G11: =G9
C14: In cazul in care s-au prins separat spatiile cu alta destinatie in Devizele de la DALI

Sheet D_006
B1: ='Structura Investitie'!D10 | C1: ='Structura Investitie'!C10
D2: ='Date cladire'!A83 | E2: ='Date cladire'!B83
A3: ="NrCrt" | B3: ="Simbol" | C3: Denumire | D3: ="UM" | E3: ="Consum" | F3: ="Cantitate" | G3: ='Date cladire'!B2 | H3: ='Date cladire'!D2
A4: ="1" | B4: ="CB47A1" | C4: Schela metalica tubulara lucrari pe suprafete verticale pîna la 30 m înaltime inclusiv ; | D4: ="mp" | E4: 1.0 | F4: =E4 | G4: =$E$2*1.1*('Date cladire'!B52+'Date cladire'!B60*'Date cladire'!B53+'Date cladire'!B54+'Date cladire'!B58+'Date cladire'!B59) | H4: =$E$2*1.1*('Date cladire'!D52+'Date cladire'!D60*'Date cladire'!D53+'Date cladire'!D54+'Date cladire'!D58+'Date cladire'!D59)
A5: ="2" | B5: ="AUT7606A1[ 1 ]" | C5: Schela metalica tubulara de exterior 11-13,5t | D5: ="mp" | E5: 1.0 | F5: =E5 | G5: =G4
A6: ="3" | B6: ="2601252" | C6: Plasa protectie-mascare santier | D6: ="mp" | E6: 1.0 | F6: =E6 | G6: =G4
A7: ="4" | B7: ="CB48A1 [1]" | C7: Schela metalica autoridicatoare pentru lucrari la fatade in zonele fara acces - nacela suspendata autoridicatoare montare demontare - asimilat | D7: ="mp" | E7: 1.0 | F7: =E7 | G7: 0
A8: ="5" | B8: ="AUT7101 [1]" | C8: Nacela electrica autoridicatoare, actionata electric, pe cabluri pentru lucrari la fatade in zone fara acces (ansamblu complet, platforma de lucru, mecanism de ridicare, mecanism de suspendare, sistem de siguranta) | D8: ="mp" | E8: 1.0 | F8: =E8 | G8: 0
A9: ="6" | B9: ="MDTC5517010 [1]" | C9: Transport utilaj...10 km nacela autoridicatoare | D9: ="buc" | E9: 1.0 | F9: =E9 | G9: 0
B10: NMB012391 [2] | C10: Spor manopera - pentru lucrari de termoizolare pereti exteriori cu alpinisti utilitari | D10: mp | G10: 0
A11: ="7" | B11: ="H1C13A [2]" | C11: Esafodaje diverse din lemn la lucrari de constructii | D11: ="mp" | E11: 1.0 | F11: =E11 | G11: =$E$2*1.2*('Date cladire'!B10*'Date cladire'!B26) | H11: =$E$2*1.2*('Date cladire'!D10*'Date cladire'!D26)
A12: ="8" | B12: IZF35D+[ 20 ] | C12: Sistem termoizolant pentru elemente de fatada realizat cu polistiren expandat de 15 cm grosime (agrementat in Romania, cu o durabilitate garantata de min 10 ani) pentru zona de camp, strat finisaj exterior realizat cu tencuiala decorativa. | D12: ="mp" | E12: 1.0 | F12: =E12 | G12: =$E$2*(('Date cladire'!B55+'Date cladire'!B60*'Date cladire'!B56+'Date cladire'!B57+'Date cladire'!B59-(G13/E2))-D_005!G7) | H12: =$E$2*(('Date cladire'!D55+'Date cladire'!D60*'Date cladire'!D56+'Date cladire'!D57+'Date cladire'!D59-(G13/E2))-D_005!G7)
A13: ="9" | B13: IZF35D+[ 57 ] | C13: Sistem termoizolant pentru elemente de fatada realizat cu vata minerala bazaltica de 15 cm grosime (agrementat in Romania, cu o durabilitate garantata de min 10 ani), strat finisaj exterior realizat cu tencuiala decorativa. | D13: ="mp" | E13: 1.0 | F13: =E13 | G13: =$E$2*0.6*(('Date cladire'!B5+'Date cladire'!B60*'Date cladire'!B6)-D_005!G8) | H13: =$E$2*0.6*(('Date cladire'!D5+'Date cladire'!D60*'Date cladire'!D6)-D_005!G8)
A14: ="10" | B14: +IZF01O4 [ 1] | C14: Sistem termoizolant realizat cu polistiren expandat de 15 cm grosime la tavane exterioare (agrementat in Romania cu o durabilitate garantata de min 10 ani), strat finisaj vopsea lavabila | D14: ="mp" | E14: 1.0 | F14: =E14 | G14: =$E$2*4.72*4
A15: ="11" | B15: ="+IZF01O4 [14]" | C15: Sistem termoizolant realizat cu polistiren expandat de 15 cm grosime la interior la tavane strat finisaj vopsea lavabila | D15: ="mp" | E15: 1.0 | F15: =E15 | G15: =$E$2*0
A16: ="12" | B16: IZF35D+ [28] | C16: Sistem termoizolant pentru elemente de fatada realizat cu polistiren extrudat de 3 cm grosime (agrementat in Romania, cu o durabilitate garantata de min 10 ani) pentru zona spaletilor, strat finisaj exterior realizat cu tencuiala decorativa | D16: ="mp" | E16: 1.0 | F16: =E16 | G16: =$E$2*0.3*('Date cladire'!B25+'Date cladire'!B27)+$E$2*0.3*'Date cladire'!B29 | H16: =$E$2*0.3*('Date cladire'!D25+'Date cladire'!D27)+$E$2*0.3*'Date cladire'!D29
A17: ="13" | B17: IZF35D+ [32] | C17: Sistem termoizolant pentru elemente de fatadarealizat cu polistiren extrudat de 3 cm grosime (agrementat in Romania, cu o durabilitate garantata de min 10 ani) la spaleti, pentru zona de glaf exterior | D17: ="mp" | E17: 1.0 | F17: =E17 | G17: =$E$2*0.3*'Date cladire'!B24+$E$2*0.15*'Date cladire'!B28 | H17: =$E$2*0.3*'Date cladire'!D24+$E$2*0.15*'Date cladire'!D28
A18: ="14" | B18: ="CP37J1 [9]" | C18: Etansarea rosturilor verticale la fatade cu fâsii din placi termoizolante de 5 cm grosime cu coeficient de transfer termic de maxim 0,038 W/mK si profil de rost | D18: ="m" | E18: 1.0 | F18: =E18 | G18: =$E$2*0*'Date cladire'!B16 | H18: =$E$2*0*'Date cladire'!D16 | O18: Rostul de dilatatie sau tasare intre 2 scari: suma inaltimea cladirii x 2 (masurat din fatade existente poate sunt diferite inaltimile). De verificat cu pozele sa fie reprezentate.
A19: ="15" | B19: ="IZF33B+[ 9 ]" | C19: Montare profile de protectie a stratului termoizolant aferent sistemului de izolare termica Profil metalic cu picurator, montat la partea superioara a spaletilor exteriori | D19: ="ml" | E19: 1.0 | F19: =E19 | G19: =$E$2*('Date cladire'!B24+'Date cladire'!B26+'Date cladire'!B28) | H19: =$E$2*('Date cladire'!D24+'Date cladire'!D26+'Date cladire'!D28)
A20: ="16" | B20: ="IZF33B+[ 10 ]" | C20: Montare profile de protectie a stratului termoizolant aferent sistemului de izolare termica Profil metalic pentru colturi. | D20: ="ml" | E20: 1.0 | F20: =E20 | G20: =$E$2*('Date cladire'!B61*'Date cladire'!B16+'Date cladire'!B63*'Date cladire'!B17+1.05*'Date cladire'!B60*'Date cladire'!B62+'Date cladire'!B25+'Date cladire'!B27+'Date cladire'!B29) | H20: =$E$2*('Date cladire'!D61*'Date cladire'!D16+'Date cladire'!D63*'Date cladire'!D17+1.05*'Date cladire'!D60*'Date cladire'!D62+'Date cladire'!D25+'Date cladire'!D27+'Date cladire'!D29)
A21: ="17" | B21: ="IZF33A+ [4]" | C21: Montare profile de protectie a stratului termoizolant aferent sistemului de izolare termica ... Profil metalic pentru soclu latime 15cm | D21: ="ml" | E21: 1.0 | F21: =E21 | G21: =$E$2*'Date cladire'!B4 | H21: =$E$2*'Date cladire'!D4
A22: ="18" | B22: IZF34B+ [3] | C22: Sistem termoizolant pentru elemente de soclu si pereti de subsol realizat cu polistiren extrudat de 10 cm (agrem. in Romania, durabilitate garantata de min 10 ani ), la partea supraterana a soclului, strat finisaj tencuiala mozaicata pentru soclu. | D22: ="mp" | E22: 1.0 | F22: =E22 | G22: =$E$2*'Date cladire'!B58 | H22: =$E$2*'Date cladire'!D58
A23: ="19" | B23: ="CK26A# [29]" | C23: Glafuri, pervaze gata confectionate din tabla zincata vopsita in camp electrostatic grosime 0,7mm, latime medie 45cm, montate la ferestre la exterior, fara imbinare pe lungime. | D23: ="m" | E23: 1.0 | F23: =E23 | G23: =$E$2*'Date cladire'!B24 | H23: =$E$2*'Date cladire'!D24
A24: ="20" | B24: ="CK26A# [30]" | C24: Glafuri, pervaze gata confectionate din tabla zincata vopsita in camp electrostatic grosime 0,7mm, latime medie 35cm, montate la ferestre la exterior, fara imbinare pe lungime. | D24: ="m" | E24: 1.0 | F24: =E24 | G24: =$E$2*'Date cladire'!B28 | H24: =$E$2*'Date cladire'!D28
A25: ="21" | B25: ="TRA02A10" | C25: Transportul rutier al materialelor,semifabricatelor cu autocamionul pe dist.= ...10 km. | D25: ="tona" | E25: 1.0 | F25: =E25 | G25: =(G12+G13+G14+G15+G16+G17+G22+G29+G43+G44+G45)*20/1000+(G19*1+G20*1+G21*1.5+G23*1+G24*0.8)/1000
A26: ="22" | B26: ="TRI1AC13E1" | C26: Descarcare...materiale gr.c-ambalate,10-50 kg deplas.prin purtare pina la 10m,asez..auto-rampa,teren ctg | D26: ="tona" | E26: 1.0 | F26: =E26 | G26: =G25
A27: ="23" | B27: ="TRB05A22" | C27: Transportul materialelor prin purtat direct.materiale...incomode sub 25 kg distanta 20m | D27: ="tona" | E27: 1.0 | F27: =E27 | G27: =G26
A28: ="24" | B28: ="MDTC5506010" | C28: Transport utilaj...10 km 90100011 schela metalica tubulara de exterior cu s=640mp g=11-13,5t | D28: ="buc" | E28: 1.0 | F28: =E28 | G28: =ROUND(G4/640,0)
A29: 25 | B29: IZF35D+ [29] | C29: Sistem termoizolant pentru elemente de fatada realizat cu polistiren expandat de 15 cm grosime (agrem. in Romania, cu o durabilitate garantata de min 10 ani) pentru zona de camp fixat cu adeziv poliuretanic, strat finisaj exterior realizat cu tencuiala decorativa. | D29: ="mp" | E29: 1.0 | F29: =E29 | G29: 0 | O29: folosim cand e cu adeziv poliuretanic Bl cu sarpanta si calcanul din lemn
A30: 26 | B30: IZF35D+ [78] | C30: Sistem termoizolant pentru elemente de fatada realizat cu vata minerala bazaltica de 15 cm grosime (agrementat in Romania, cu o durabilitate garantata de min 10 ani), strat finisaj exterior masa de spaclu sub sarpante false | D30: mp
A31: 28 | B31: CK26A# [38] | C31: Glafuri interioare din PVC montate la ferestre - spatii comune | D31: m
A32: 29 | B32: CK26A# [38] | C32: Glafuri interioare din PVC montate la ferestre - spatii individuale | D32: m
A33: 30 | B33: CL20A1 [7] | C33: Confectii metalice diverse din profile metalice pentru sustineri si consolidari | D33: kg
A34: 31 | B34: CD18A% [13] | C34: Placare cu placi de ciment armate cu plasa din fibra de sticla tip placocem la diverse elemente de constructie | D34: mp
A35: 32 | B35: VB13A1[ 5 ] | C35: Rama cu jaluzele fixe cu plasa avand perimetrul de 700-1400 mm pentru aerisire | D35: buc
A36: 33 | B36: 20027736 | C36: Grila de ventilare cu plasa dimensiunea 20x20cm | D36: buc
A37: 34 | B37: CC09A1 [19] | C37: Ancorarea chimica a armaturilor FI 12mm L= 150mm | D37: buc
A38: 35 | B38: CE15C1 [4] | C38: Glaf pentru colturi din tabla zincata de 0,5 mm grosime | D38: m
A39: 36 | B39: RPCXA01A | C39: Sapatura manuala pamant spatii limitate <1m. sub...1. 5m. adinc la sant canale etc. | D39: mc
A40: 37 | B40: CA01A1 | C40: Turnarea betonului simplu în fundatii continue, izolate si socluri cu volum pâna la 3 mc, inclusiv | D40: mc
A41: 38 | B41: 2100971 | C41: Beton de ciment B 300 stas 3622 | D41: mc
A42: 39 | B42: CE18A1 | C42: Astereala la învelitori sau la doliile invelitorilor din tigla si azbociment scinduri din rasinoase | D42: ="mp" | E42: 1.0 | F42: =E42
A43: 40 | B43: IZF35D+ [46] | C43: Sistem termoizolant pentru elemente de fatada realizat cu polistiren expandat de 15 cm grosime (agrementat in romania cu o durabilitate garantada de min 10 ani) pentru zona de camp strat finisaj exterior realizat cu tencujaiala decorativa imitatie caramida aparenta | D43: mp
A44: 41 | B44: IZF35D+ [47] | C44: Sistem termoizolant pentru elemente de fatada realizat cu vata minerala de 15 cm grosime (agrementat in romania cu o durabilitate garantada de min 10 ani) pentru zona de camp strat finisaj exterior realizat cu tencujaiala decorativa imitatie caramida aparenta | D44: mp
A45: 42 | B45: +IZF01O [9] | C45: Sistem termoizolant realizat cu polistiren expandat de 10 cm grosime la tavane exterioare (agrementat in Romania cu o durabilitate garantata de min 10 ani), strat finisaj tencuiala decorativa | D45: mp

Sheet D_007
B1: ='Structura Investitie'!D11 | C1: ='Structura Investitie'!C11 | E1: terasa | G1: 1 | M1: 1 - exista terasa
D2: ='Date cladire'!A83 | E2: ='Date cladire'!B83 | M2: 0- nu exista terasa
A3: ="NrCrt" | B3: ="Simbol" | C3: Denumire | D3: ="UM" | E3: ="Consum" | F3: ="Cantitate" | G3: ='Date cladire'!B2 | H3: ='Date cladire'!D2
A4: ="1" | B4: ="+RPCA01C" | C4: Pregatirea suprafetelor de pe planseul peste ultimul nivel, din pod si de pe terasa , in vederea termoizolarii, curatare si evacuare deseuri | D4: ="mp" | E4: 1.0 | F4: =E4 | G4: =$E$2*'Date cladire'!B20*G1 | H4: =$E$2*'Date cladire'!D20*G1 | M4: Se studiaza solutia din docs si se lasa cantitate doar la articolele necesare blocului in lucru, restul articolul se pun cu 0,
A5: ="2" | B5: ="IZF01B1 [1]" | C5: Asimilat - Amorsarea suprafetelor orizontale cu amorsa bituminoasa, in vederea aplicarii stratului hidroizolant din membrana bituminoasa la terase | D5: ="mp" | E5: 1.0 | F5: =E5 | G5: =(G4+G12+G13)*G1
A6: ="3" | B6: ="IzHc03B [4]" | C6: Executarea stratului de bariera de vapori cu membrana bituminoasa termoadeziva | D6: ="mp" | E6: 1.0 | F6: =E6 | G6: =G5
A7: ="4" | B7: IZF10C1 [22] | C7: Termoizolatie realizata cu polistiren expandat ignifugat EPS 120 de 20 cm la terase | D7: ="mp" | E7: 1.0 | F7: =E7 | G7: =G4
A8: 5 | B8: ="+IZA02A10 [33]" | C8: Strat hidroizolant pentru terase realizat cu membrana din cauciuc sintetic tip EPDM aplicata prin lipire | D8: ="mp" | E8: 1.0 | F8: =E8 | G8: =G5
A9: 6 | B9: IZF03A1 [6] | C9: Montare folie textila pentru separare straturi tip geotextil | D9: mp | E9: 1.0 | F9: =E9 | G9: =G4
A10: 7 | B10: 2600517 | C10: Folie separare straturi tip geotextil 300g/mp | D10: mp | E10: 1.0 | F10: =E10 | G10: =G9
A11: 8 | B11: TsD16XB [8] | C11: Strat de lest din pietris cu granulatie de 16-32 mm aplicat peste membrana hidroizolanta la terasa grosime medie 5cm | D11: mp | E11: 1.0 | F11: =E11 | G11: =G9
A12: 9 | B12: IZF10C1 [23] | C12: Termoizolatie realizata cu polistiren expandat ignifugat EPS 120 de 5 cm la aticul de la terase | D12: ="mp" | E12: 1.0 | F12: =E12 | G12: =$E$2*(0.3+'Date cladire'!B13)*'Date cladire'!B7*G1 | H12: =$E$2*(0.3+'Date cladire'!D13)*'Date cladire'!D7*G1
A13: 10 | B13: IZF10C1 [24] | C13: Termoizolatie realizata cu polistiren expandat ignifugat EPS 120 de 5 cm la gurile de aerisire de la terase | D13: ="mp" | E13: 1.0 | F13: =E13 | G13: =$E$2*0.3*4*0.5*'Date cladire'!B30*G1 | H13: =$E$2*0.3*4*0.5*'Date cladire'!D30*G1
A14: 11 | B14: ="CP37J1 [10]" | C14: Etansarea rosturilor orizontale la atic terasa sau pod cu placi termoizolante de 5 cm grosime cu coeficient de transfer termic de maxim 0,038 W/mK si profil de rost; | D14: ="m" | E14: 1.0 | F14: =E14 | G14: =$E$2*'Date cladire'!B89
A15: 12 | B15: ="RPCE31A1" | C15: Inundarea terasei in vederea...receptionarii terasei inclusiv supravegherea | D15: ="mp" | E15: 1.0 | F15: =E15 | G15: =G4
A16: 13 | B16: ="VB35A1 [1]" | C16: Deflector gata confectionat cu perim. bazei 400-800 mm montat la sistem termohidroizolant realizat cu membrana EPDM - 2500244 Deflector cu diametrul FI 110mm | D16: ="buc" | E16: 1.0 | F16: =E16 | G16: =ROUND(G15/40,0)*G1
A17: 14 | B17: ="RPCXI05A [1]" | C17: Demontare...jghiaburi burlane glafuri sorturi pazii etc. la aticul de la terasa | D17: ="m" | E17: 1.0 | F17: =E17 | G17: =$E$2*'Date cladire'!B7*G1 | H17: =$E$2*'Date cladire'!D7*G1
A18: 15 | B18: ="CE15F1 [4]" | C18: Glaf din tabla zincata de 0,5mm grosime cu latimea intre 50-70 cm confectionat si montat pentru protectia aticului de la terase la partea superioara | D18: ="m" | E18: 1.0 | F18: =E18 | G18: =G17
A19: 18 | B19: CG01D1 [16] | C19: Strat de sapa turnata la terase grosime medie 6 cm supratata fin driscuita armata cu fibre din polipropilena | D19: ="mp" | E19: 1.0 | F19: =E19 | G19: =G4
A20: 18.L | B20: 2101200 | C20: Mortar tencuiala M 100 (var pasta) s 1030 | D20: mc | G20: =G19*0.06
A21: 19 | B21: ="+IZH03A1" | C21: Montare folie polietilena pentru acoperirea suprafetelor pe care se toarna beton sau sapa | D21: ="mp" | E21: 1.0 | F21: =E21 | G21: =G19
A22: 20 | B22: ="CG07A1 [1]" | C22: Scafe din mortar de ciment turnate pe conturul terasei 10x10cm inainte de hidroizolarea acesteia | D22: ="m" | E22: 1.0 | F22: =E22 | G22: =$E$2*'Date cladire'!B7*G1 | H22: =$E$2*'Date cladire'!D7*G1
A23: 21 | B23: ="TRA06A10" | C23: Transportul rutier al betonului-mortarului cu autobetoniera de...5,5mc dist. =10km | D23: ="tona" | E23: 1.0 | F23: =E23 | G23: =G19*0.06*2.5
A24: 22 | B24: ="AUT3343" | C24: Pompa pneumatica de beton PB250 4-6mc/ora | D24: ="ora" | E24: 1.0 | F24: =E24 | G24: =ROUNDUP(G20/4,0)*G1
A25: 23 | B25: ="TRA02A10" | C25: Transportul rutier al materialelor,semifabricatelor cu autocamionul pe dist.= ...10 km. | D25: ="tona" | E25: 1.0 | F25: =E25 | G25: =(G7*8+G8*1.25+G9*0.25+G12*15+G13*15)/1000+(G17*1.5+G18*1.5+G31*14)/1000
A26: 24 | B26: ="TRI1AC13E1" | C26: Descarcare...materiale gr.c-ambalate,10-50 kg deplas.prin purtare pina la 10m,asez..auto-rampa,teren ctg | D26: ="tona" | E26: 1.0 | F26: =E26 | G26: =G25
A27: 25 | B27: ="TRB05A22" | C27: Transportul materialelor prin purtat direct.materiale...incomode sub 25 kg distanta 20m | D27: ="tona" | E27: 1.0 | F27: =E27 | G27: =G25
A28: 26 | B28: TRA01A30 | C28: Transportul rutier al...materialelor,semifabricatelor cu autobasculanta pe dist.= 30 km. | D28: tona | G28: =G11*0.05*1600/1000
A29: 27 | B29: TRB22H2A3 | C29: Transportat materiale cu macara turn brat inclinabil pina la 40 tfm...sarcina <0,5t h=12-18m pozitie fix | D29: tona | G29: =G28
A30: 28 | B30: MDTC4627010 | C30: Transport utilaj...10 km-65121006-macara pe pneuri de 0,40-0,499 mn(40-49,9 tf) | D30: buc | G30: 2 | M30: 2 buc pe o scara; se adapteaza nr in functie de nr scarilor
A31: 90 | B31: CE17A% [4] | C31: Termoizolatie realizata cu panouri tristrat de 10 cm grosime montate la stresini din beton in consola - 2500259 Panou tristrat ( tabla + spuma + tabla) termoizolant tip sandwich pentru acoperis grosime 100mm | D31: mp | G31: 0 | M31: placa iesita in consola izolata cu panou tristrat

Sheet D_008
B1: ='Structura Investitie'!D12 | C1: ='Structura Investitie'!C12 | E1: pod | G1: 1 | M1: 1 - exista pod
D2: ='Date cladire'!A83 | E2: ='Date cladire'!B83 | M2: 0- nu exista pod
A3: ="NrCrt" | B3: ="Simbol" | C3: Denumire | D3: ="UM" | E3: ="Consum" | F3: ="Cantitate" | G3: ='Date cladire'!B2 | H3: ='Date cladire'!D2 | M3: Obs
A4: ="1" | B4: ="+RPCA01C" | C4: Pregatirea suprafetelor de pe planseul peste ultimul nivel, din pod si de pe terasa , in vederea termoizolarii, curatare si evacuare deseuri | D4: ="mp" | E4: 1.0 | F4: =E4 | G4: =$E$2*'Date cladire'!B20*G1 | H4: =$E$2*'Date cladire'!D20*G1
A5: 2 | B5: ="IZF01B1 [1]" | C5: Asimilat - Amorsarea suprafetelor orizontale cu amorsa bituminoasa, in vederea aplicarii stratului hidroizolant din membrana bituminoasa | D5: ="mp" | E5: 1.0 | F5: =E5 | G5: =G4
A6: 3 | B6: RPCE07B+ [2] | C6: Strat de bariera contra vaporilor la plansee termoizolate cu vata minerala | D6: mp | G6: =G4 | M6: atentie la solutia din docs - aici sunt cu VM daca solutia e cu polistiren inlocuim articolele din norme (pozitia 53-56 ) iar daca grosimea termosistemului e alta cerem norme la Mircea
A7: 4 | B7: +IZF01O6 [20] | C7: Sistem termoizolant realizat cu vata minerala de 20cm grosime, cu efort la compresiune de min 20 kPa (agrementat in Romania cu o durabilitate garantata de min 10 ani), la planseul peste ultimul nivel, in pod | D7: ="mp" | E7: 1.0 | F7: =E7 | G7: =G4
A8: 5 | B8: +IZF01A6 [5] | C8: Sistem termoizolant realizat cu vata minerala grosime 5 cm, cu efort la compresiune de min 20 kPa, la aticul din pod (agrementat in Romania cu o durabilitate garantata de min 10 ani), strat finisaj glet si lavabila de exterior | D8: ="mp" | E8: 1.0 | F8: =E8 | G8: =$E$2*'Date cladire'!B7*'Date cladire'!B13*G1 | H8: =$E$2*'Date cladire'!D7*'Date cladire'!D13*G1
A9: 6 | B9: +IZF01A8 [6] | C9: Sistem termoizolant realizat cu vata minerala bazaltica, grosime 5 cm , cu efort la compresiune de min 20 kPa, la gurile de aerisire din pod (agrementat in Romania cu o durabilitate garantata de min 10 ani), strat finisaj glet si lavabila de exterior, | D9: ="mp" | E9: 1.0 | F9: =E9 | G9: =$E$2*0.4*4*0.5*'Date cladire'!B30*G1 | H9: =$E$2*0.4*4*0.5*'Date cladire'!D30*G1
A10: 7 | B10: CP37J1 [5] | C10: Asimilat - Etansarea rosturilor orizontale la atic terasa sau pod cu fâsii vata minerala bazaltica de 5 cm grosime si profil de rost; | D10: ="m" | E10: 1.0 | F10: =E10 | G10: =$E$2*'Date cladire'!B89 | M10: Suma: Lungimea rosturilor din plan terasa. Nu tot timpul este rost intre 2 scari. De verificat cu pozele sa fie reprezentate. Ex la 2 scari poate fi 1 rost.
A11: 8 | B11: CO22A1 [4] | C11: Grinzi din lemn ecarisat folosite ca suport pentru dulapii din lemn care protejeaza vata minerala la planseul peste ultimul nivel | D11: mc | G11: =G4*0.025 | L11: se lasa cantitati doar la solutia din docs | M11: cand solutia e cu poste de lemn ignifugate la grinzi : cand VM e 20 cm : s*0,025 cand VM e 25 :s*0,029 cand VM e 30 : s*0,035
A12: 9 | B12: 2960632 | C12: Lemn ecarisat de rasinoase | D12: mc | G12: =G11
A13: 10 | B13: CD20A+ [18] | C13: Dulapi din lemn grosime 48mm utilizati pentru protectie vata minerala la termoizolarea planseului peste ultimul nivel | D13: mp | G13: =G4
A14: 11 | B14: CN54A+ [1] | C14: Ignifugare si protectie insecto-fungicida elementelor de constructii din lemn | D14: mp | G14: =G13*2+G12/0.2/0.05*0.5
A15: 12 | B15: CO22A1 [1] | C15: Grinzi din lemn ecarisat folosite ca suport pentru placi de OSB care protejeaza vata minerala la planseul peste ultimul nivel | D15: mc | G15: =G4*0.025 | M15: cand solutia e cu placi osb pe grinzi - punem cu 0 la cele de la sapa armata la osb : cand VM e 20 cm : s*0,025 cand VM e 25 :s*0,029 cand VM e 30 : s*0,035 | N15: ptr termoistem de 30 calcullul va fi x0,036
A16: 13 | B16: 2960632 | C16: Lemn ecarisat de rasinoase | D16: mc | G16: =G15
A17: 14 | B17: CD20A+ [11] | C17: Placi din OSB, grosime 12mm utilizate pentru protectie vata minerala la termoizolarea planseului peste ultimul nivel | D17: mp | G17: =G4 | N17: ignifugare pt term: 30 = =G17*2+G16/0,3/0,05*0,7
A18: 15 | B18: CN54A+ [1] | C18: Ignifugare si protectie insecto-fungicida elementelor de constructii din lemn | D18: mp | G18: =G17*2+G16/0.2/0.05*0.5
A19: 16 | B19: CG01D1 [3] | C19: Strat de protectie a polistirenului executat din mortar de ciment marca M 100-T de 6 cm grosime medie, cu suprafata driscuita la planseul peste ultimul nivel, in pod | D19: mp | G19: =G4 | M19: cand solutia e cu sapa armata
A20: 17 | B20: 2101200 | C20: Mortar tencuiala M 100 (var pasta) s 1030 | D20: mc | G20: =G19*0.06
A21: 18 | B21: IZF28A+ [1] | C21: Strat de separatie din folie PVC | D21: mp | G21: =G19
A22: 19 | B22: TE06C1 | C22: Plasa de armatura sudata tip stnb...d=6mm ochiurile 100x100mm | D22: mp | G22: =G21
A23: 20 | B23: ="TRA06A10" | C23: Transportul rutier al betonului-mortarului cu autobetoniera de...5,5mc dist. =10km | D23: ="tona" | E23: 1.0 | F23: =E23 | G23: =G20*2.5
A24: 21 | B24: ="AUT3343" | C24: Pompa pneumatica de beton PB250 4-6mc/ora | D24: ="ora" | E24: 1.0 | F24: =E24 | G24: =ROUNDUP(G20/4,0)*G1
A25: 22 | B25: ="TRA02A10" | C25: Transportul rutier al materialelor,semifabricatelor cu autocamionul pe dist.= ...10 km. | D25: ="tona" | E25: 1.0 | F25: =E25 | G25: =(G7*12+G8*15+G9*15)/1000+(G12*800+G13*0.048*800+G16*800+G17*7.68)/1000
A26: 23 | B26: ="TRB05A22" | C26: Transportul materialelor prin purtat direct.materiale...incomode sub 25 kg distanta 20m | D26: ="tona" | E26: 1.0 | F26: =E26 | G26: =G25
A27: 24 | B27: ="TRI1AC13E1" | C27: Descarcare...materiale gr.c-ambalate,10-50 kg deplas.prin purtare pina la 10m,asez..auto-rampa,teren ctg | D27: ="tona" | E27: 1.0 | F27: =E27 | G27: =G25

Sheet D_009
B1: ='Structura Investitie'!D13 | C1: ='Structura Investitie'!C13 | F1: Invelitoare | G1: 1 | O1: 0-nu
D2: ='Date cladire'!A83 | E2: ='Date cladire'!B83 | O2: 1-da
A3: ="NrCrt" | B3: ="Simbol" | C3: Denumire | D3: ="UM" | E3: ="Consum" | F3: ="Cantitate" | G3: ='Date cladire'!B2 | H3: ='Date cladire'!D2
A4: ="1" | B4: ="RPCT26XA" | C4: Desfacerea invelitorilor din tabla zn sau neagra 0,4-0,5 mm incl.reconditionarea materialului | D4: ="mp" | E4: 1.0 | F4: =E4 | G4: =$E$2*1.25*'Date cladire'!B21*G1*0 | H4: =$E$2*1.25*'Date cladire'!D21*G1*0
A5: ="2" | B5: ="RPCT26XC" | C5: Desfacerea invelitorilor din azbociment,eternit,materioal plastic colorat diferit,plane sau ondulate | D5: ="mp" | E5: 1.0 | F5: =E5 | G5: =$E$2*1.25*'Date cladire'!B21*G1*0 | H5: =$E$2*1.25*'Date cladire'!D21*G1*0
A6: ="3" | B6: ="RPCT26XB" | C6: Desfacerea invelitorilor din olane,tigle solzi sauprofilate cu jgheaburi asezate pe sipci batute | D6: ="mp" | E6: 1.0 | F6: =E6 | G6: =$E$2*1.25*'Date cladire'!B21*G1 | H6: =$E$2*1.25*'Date cladire'!D21*G1
B7: RPCT26XC [4] | C7: Desfacerea invelitorilor din placi ondulate bituminoase | D7: mp
A8: ="4" | B8: ="RPCXH13B" | C8: Desfacerea ...asterelei invelitorii din scindura sau pfl incl. sortare si stivuire materiale. | D8: ="mp" | E8: 1.0 | F8: =E8 | G8: =G4+G6+G5
A9: ="5" | B9: ="RPCH45A1 [4]" | C9: Jgheab din lemn...pentru evacuarea tigle demontate de pe acoperis | D9: ="m" | E9: 1.0 | F9: =E9 | G9: =$E$2*'Date cladire'!B12*G1 | H9: =$E$2*'Date cladire'!D12*G1
A10: ="6" | B10: ="TRB05A22" | C10: Transportul materialelor prin purtat direct.materiale...incomode sub 25 kg distanta 20m | D10: ="tona" | E10: 1.0 | F10: =E10 | G10: =(G6*16*2.9+G8*0.024*800+G7*3.4)/1000
A11: ="7" | B11: ="TRI1AA01F3" | C11: Incarcarea materialelor, grupa a-grele si...marunte,prin tran.pina la 10m rampa sau teren-auto cate | D11: ="tona" | E11: 1.0 | F11: =E11 | G11: =G10
A12: ="8" | B12: ="TRA01A10P" | C12: Transportul rutier al...pamantului sau molozului cu autobasculanta dist.=10 km | D12: ="tona" | E12: 1.0 | F12: =E12 | G12: =G10
A13: ="9" | B13: ="CE18A1" | C13: Astereala la învelitori sau la doliile invelitorilor din tigla si azbociment scinduri din rasinoase | D13: ="mp" | E13: 1.0 | F13: =E13 | G13: =$E$2*1.25*'Date cladire'!B21*G1 | H13: =$E$2*1.25*'Date cladire'!D21*G1
A14: ="10" | B14: ="CE20A1 [4]" | C14: Sipci din lemn montate la acoperisuri pentru sustinerea si fixarea invelitorilor din tigla metalica | D14: ="mp" | E14: 1.0 | F14: =E14 | G14: =G13 | O14: in functie de tipul invelitoarei alegem si tipul sipcilor
A15: ="11" | B15: ="CE05A1 [1]" | C15: Invelitoare din tabla zincata profilata ondulata, fixata si tesute cu suruburi autofiletante - montare invelitoare din tigla metalica (tip lindab sau similar) 2300106 - Tigla metalica 0,5 PE din otel galvanizat protejata in sistem multistrat pe ambele fete cu acoperire finala vopsea poliesterica (tip lindab sau similar) sistem complet inclusiv coame,dolii | D15: ="mp" | E15: 1.0 | F15: =E15 | G15: =G13
A16: 12 | B16: CE20A1 [2] | C16: Sipci din lemn montate la acoperisuri pentru sustinerea si fixarea invelitorilor din tigla ceramica. | D16: mp | G16: =G13*0
A17: 13 | B17: CE01A1 | C17: Invelitoare din tigla profilata din argila arsa la acoperisuri fara astereala, asezate pe sipci 28x48 mm, inclusiv executarea din tabla zincata a doliilor, paziilor, racordarilor la cosuri - 2303016 Tigla cu jgheab lat.cu 4 cioc c2 405x230x11 s515 | D17: mp | E17: 1.0 | F17: =E17 | G17: =G13*0
A18: 14 | B18: RPCP09A1 [4] | C18: Parazapezi tip bara pentru invelitori | D18: m | E18: 1 | F18: 1 | G18: =$E$2*'Date cladire'!B8*G1 | H18: =$E$2*'Date cladire'!D8*G1
A19: 15 | B19: ="IZF03A1 [2]" | C19: Folie anticondens montata sub invelitori | D19: ="mp" | E19: 1.0 | F19: =E19 | G19: =G13
A20: 16 | B20: ="TRA02A10" | C20: Transportul rutier al materialelor,semifabricatelor cu autocamionul pe dist.= ...10 km. | D20: ="tona" | E20: 1.0 | F20: =E20 | G20: =(G13*0.024*800+G14*1+G15*6+G16*1+G17*16*2.9+G18*2)/1000
A21: 17 | B21: ="TRI1AC13E1" | C21: Descarcare...materiale gr.c-ambalate,10-50 kg deplas.prin purtare pina la 10m,asez..auto-rampa,teren ctg | D21: ="tona" | E21: 1.0 | F21: =E21 | G21: =G20
A22: 18 | B22: ="TRB05B12" | C22: Transportul materialelor prin purtat...direct.materiale comode peste 25 kg distanta 20m | D22: ="tona" | E22: 1.0 | F22: =E22 | G22: =G21
A23: 19 | B23: ="RPCE30A1" | C23: Prelata pentru protejarea terasei pe timp ploios,...pe durata refacerii | D23: ="mp" | E23: 1.0 | F23: =E23 | G23: =$E$2*'Date cladire'!B20*G1 | H23: =$E$2*'Date cladire'!D20*G1
C24: Manevrarea, depozitarea si transportul in locuri de deseuri toxicea invelitorii din azbociment | D24: mp | E24: 1.1 | F24: =E24 | G24: 0

Sheet D_010
B1: ='Structura Investitie'!D14 | C1: ='Structura Investitie'!C14
D2: ='Date cladire'!A83 | E2: ='Date cladire'!B83
A3: ="NrCrt" | B3: ="Simbol" | C3: Denumire | D3: ="UM" | E3: ="Consum" | F3: ="Cantitate" | G3: ='Date cladire'!B2 | H3: ='Date cladire'!D2
A4: ="1" | B4: ="RPCT33A1 [18]" | C4: Demontarea usilor si ferestrelor din lemn, metal sau PVC | D4: ="mp" | E4: 1.0 | F4: =E4 | G4: =$E$2*'Date cladire'!B40 | H4: =$E$2*'Date cladire'!D40
A5: ="2" | B5: +CK01A2 [10] | C5: Ferestre performante energetic din PVC cu geam termoizolant cu coeficient de transfer termic de max. 1,1 W/m2K, deschideri oscilobatante, dotate cu fante de circulatie controlata a aerului - 0002447 Fereastra performanta energetic din PVC cu geam termoizolant cu coeficient de transfer termic maxim 1,1 W/m2K, deschideri oscilobatante, dotata cu fante pentru aerisirea controlata a spatiilor | D5: ="mp" | E5: 1.0 | F5: =E5 | G5: =$E$2*'Date cladire'!B41+G4 | H5: =$E$2*'Date cladire'!D41+G4
A6: ="3" | B6: +CK02A1 [18] | C6: Usi performante energetic din PVC cu geam termoizolant cu coeficient de transfer termic de max. 1,1 W/m2K, dotate cu fante de circulatie controlata a aerului -0002488 - Usa performanta energetic din PVC cu geam termoizolant cu coeficient de transfer termic maxim 1,1 W/m2K, dotata cu fante pentru aerisirea controlata a spatiilor | D6: ="mp" | E6: 1.0 | F6: =E6 | G6: 0
A7: ="4" | B7: ="+CK02A2 [5]" | C7: Tamplarie din profile PVC, 5 camere si panou tip panel pentru pereti despartitori - 20027680 - Tamplarie din profile PVC cu 5 camere si panou din panel ( pvc-polistiren extrudat-pvc) pentru pereti despartitori | D7: ="mp" | E7: 1.0 | F7: =E7 | G7: =$E$2*'Date cladire'!B42 | H7: =$E$2*'Date cladire'!D42
A8: ="5" | B8: ="CL21A1" | C8: Confectii metalice diverse înglobate total sau partial in beton din profile laminate, tabla, tabla striata, otel beton, tevi pentru sustineri sau acoperiri - 20027711 Confectii metalice pentru sustinerea invelitorilor la balcoane, vopsite si protejate anticoroziv, gata de montaj | D8: ="kg" | E8: 1.0 | F8: =E8 | G8: =G9*20
A9: ="6" | B9: ="CK20D1 [6]" | C9: Asimilat - Acoperis din panouri tristrat termoizolante tip sandwich, grosime 100mm, montate direct pe structura metalica la acoperis balcon - 2500259 Panou tristrat ( tabla + spuma + tabla) termoizolant tip sandwich pentru acoperis grosime 100mm | D9: ="mp" | E9: 1.0 | F9: =E9 | G9: =$E$2*'Date cladire'!B90 | P9: Suma copertina panou sandwich/tristrat la balcoane de la ultimul nivel sau la balcoane decalate/ extinse calculat cu supraf pardoseala din planuri.
A10: ="7" | B10: ="RPCT39A1 [4]" | C10: Demontarea elementelor ornamentale din sticla securizata, PVC, lemn, etc, de la parapetii balcoanelor si logiilor, inclusiv manipularea acestora in santier la depozitul de moloz. | D10: ="mp" | E10: 1.0 | F10: =E10 | G10: =$E$2*'Date cladire'!B91 | O10: Se verifica solutia de pe docs si se verifca fiecare articol iar dupa caz se adapteaza formulele/cantitatile | P10: Suma lungimilor balcoanelor x 0,9 sau 1; din poze sau din fatadele existente sau din poze
B11: ="RPCT39A1 [1]" | C11: Demontarea balustradelor, grilelor, si parapetelor metalice montate în beton, inclusiv elementele componente ale acestora, sticla, prefabricate din beton, elemente ornamentale din plastic sau lemn, de la balcoane si logii. | D11: kg | G11: =$E$2*0
A12: ="8" | B12: ="CL20B1" | C12: Confectii metalice diverse, montate aparent balustrazi grile, chepeng, opritori, gratare - 2601294 Confectii metalice diverse | D12: ="kg" | E12: 2.0 | F12: =E12 | G12: =G10*2 | P12: 2 kg x mp placocem pentru completare si reparare balustrada
A13: ="9" | B13: ="CL20A1 [4]" | C13: Confectii metalice diverse din profile metalice, otel beton, montate la parapetii balcoanelor pentru sustineri si consolidari - 20027713 Confectii metalice diverse din profile laminate, tevi rectangulare, tabla, etc confectionate conform detaliu | D13: ="kg" | E13: 1.0 | F13: =E13 | G13: =G10*10 | P13: 10 kg x mp de parapet si stratul suport pentru placocem
A14: ="10" | B14: ="CN09XB" | C14: Vopsitorii la balustrade,grile si parapete metalice cu email alchidic -6108373 - Email gri e.825-8 ntr 1703-80 - 6100917 - Grund alchid anticoroziv rosu g 735-5 k | D14: ="mp" | E14: 1.0 | F14: =E14 | G14: =G10
A15: ="11" | B15: ="CD18A% [5]" | C15: Placare cu placi de ciment armate cu plasa din fibra de sticla tip placocem, 1 strat, la parapetii balcoanelor si logiilor | D15: ="mp" | E15: 1.0 | F15: =E15 | G15: =G10 | P15: placocem ext
A16: ="12" | B16: ="CD18A% [4]" | C16: Placare cu placi de gipscarton pe structura metalica montata la parapetii balcoanelor si logiilor | D16: ="mp" | E16: 1.0 | F16: =E16 | G16: =G10 | P16: gipscarton interior
A17: ="13" | B17: ="CF10C1 [3]" | C17: Glet de ipsos aditivat, din produse uscate predozate, aplicat manual in 1 strat pe suprafete de gipscarton la pereti interiori | D17: ="mp" | E17: 1.0 | F17: =E17 | G17: =0.3*G16 | N17: 30% din gipscarton
A18: ="14" | B18: ="CN01B+[ 1 ]" | C18: Vopsitorii interioare cu vopsea lavabila aplicate manualUn strat amorsa (dilutie 1:4) si un 2 straturi vopsea lavabila de interior , aplicate pe suprafete interioare noi, foarte absorbante; - 2600052 Amorsa pentru zugraveli lavabile interioare - 2600053 Vopsea lavabila de interior de culoare alba | D18: ="mp" | E18: 1.0 | F18: =E18 | G18: =G10
A19: ="16" | B19: ="TRA02A10" | C19: Transportul rutier al materialelor,semifabricatelor cu autocamionul pe dist.= ...10 km. | D19: ="tona" | E19: 1.0 | F19: =E19 | G19: =(G4*30+G5*60+G6*60+G7*60)/1000+(G8+G9*14+G12+G13+G15*13.5+G16*8.13+G22*1100+G23*30+G24*3+G26*15+G27*25)/1000
A20: ="17" | B20: ="TRI1AC13E1" | C20: Descarcare...materiale gr.c-ambalate,10-50 kg deplas.prin purtare pina la 10m,asez..auto-rampa,teren ctg | D20: ="tona" | E20: 1.0 | F20: =E20 | G20: =G19
A21: ="18" | B21: ="TRB05A22" | C21: Transportul materialelor prin purtat direct.materiale...incomode sub 25 kg distanta 20m | D21: ="tona" | E21: 1.0 | F21: =E21 | G21: =G19
A22: ="19" | B22: ="CD07A1 [5]" | C22: Zidarie din blocuri bca executata la parapetii balcoanelor sau logiilor pentru umplere goluri | D22: ="mc" | E22: 1.0 | F22: =E22 | G22: =$E$2*0
A23: 20 | B23: CF01B1[ 3 ] | C23: Tencuieli interioaredriscuite la pereti,execut. manual,de 2 cm grosime,pe zidarie. exclusiv schela executate la parapetii logiilor sau balcoanelor; 2101200 Mortar tencuiala M100 (var pasta) s 1030 | D23: mp | G23: =$E$2*0
A24: 21 | B24: CF10C1[ 12 ] | C24: Glet de ipsos aditivat, din produse uscate predozate, aplicat manual in2 straturi pe tencuieli interioare driscuite la pereti interiori; | D24: ="mp" | E24: 1.0 | F24: =E24 | G24: =$E$2*0
A25: 22 | B25: ="CN01B+[ 1 ]" | C25: Vopsitorii interioare cu vopsea lavabila aplicate manualUn strat amorsa (dilutie 1:4) si un 2 straturi vopsea lavabila de interior , aplicate pe suprafete interioare noi, foarte absorbante; - 2600052 Amorsa pentru zugraveli lavabile interioare - 2600053 Vopsea lavabila de interior de culoare alba | D25: ="mp" | E25: 1.0 | F25: =E25 | G25: =$E$2*0
A26: 23 | B26: +IZA02A8 [6] | C26: Sistem termohidroizolant realizat la copertina balconului de la ultimul etaj, cu polistiren expandat ignifugat EPS 120 de 20 cm grosime si 3 straturi de membrane bituminoase hidroizolante,(agrem. in Romania cu o durabilitate garantata de min 10 ani ). | D26: ="mp" | E26: 7.7 | F26: =E26 | G26: =$E$2*0
A27: 24 | B27: CM06P1 [3] | C27: Sticla securizata colorata montata la parapeti balcoane | D27: mp | E27: 1.0 | F27: =E27 | G27: =$E$2*0
A28: 25 | B28: TRI1AA01C3 | C28: Incarcarea materialelor, grupa a-grele si...marunte,prin aruncare rampa sau teren-auto categ.3 | D28: tona | G28: =(G10*15+G11)/1000
A29: 26 | B29: TRA01A10P | C29: Transportul rutier al...pamantului sau molozului cu autobasculanta dist.=10 km | D29: tona | G29: =G28

Sheet D_011
B1: ='Structura Investitie'!D15 | C1: ='Structura Investitie'!C15
D2: ='Date cladire'!A83 | E2: ='Date cladire'!B83
A3: ="NrCrt" | B3: ="Simbol" | C3: Denumire | D3: ="UM" | E3: ="Consum" | F3: ="Cantitate" | G3: ='Date cladire'!B2 | H3: ='Date cladire'!D2
A4: ="1" | B4: +IZF01L [1] | C4: Sistem termoizolant realizat cu polistiren expandat ignifugat de 10 cm grosime pentru planseu peste subsol (agrementat in Romania cu o durabilitate garantata de min 10 ani), strat finisaj glet | D4: ="mp" | E4: 1.0 | F4: =E4 | G4: =$E$2*'Date cladire'!B23 | H4: =$E$2*'Date cladire'!D23
A5: ="2" | B5: ="RPCR01A1" | C5: Zugraveli interioare cu lapte de var la tencuieli si tavane executate pe tencuieli noi, in cantitati...pâna la 250 mp | D5: ="mp" | E5: 1.0 | F5: =E5 | G5: =G4
A6: ="3" | B6: ="TRA02A10" | C6: Transportul rutier al materialelor,semifabricatelor cu autocamionul pe dist.= ...10 km. | D6: ="tona" | E6: 1.0 | F6: =E6 | G6: =G4*15/1000
A7: ="4" | B7: ="TRI1AC13E1" | C7: Descarcare...materiale gr.c-ambalate,10-50 kg deplas.prin purtare pina la 10m,asez..auto-rampa,teren ctg | D7: ="tona" | E7: 1.0 | F7: =E7 | G7: =G6

Sheet D_012
B1: ='Structura Investitie'!D16 | C1: ='Structura Investitie'!C16
D2: ='Date cladire'!A83 | E2: ='Date cladire'!B83
A3: ="NrCrt" | B3: ="Simbol" | C3: Denumire | D3: ="UM" | E3: ="Consum" | F3: ="Cantitate" | G3: ='Date cladire'!B2 | H3: ='Date cladire'!D2
A4: 1 | B4: IZF35D+ [11] | C4: Sistem termoizolant realizat cu vata minerala bazaltica de 10 cm grosime la pereti (agrementat in Romania, cu o durabilitate garantata de min 10 ani), strat finisaj interior realizat cu glet si vopsea lavabila | D4: ="mp" | E4: 1.0 | F4: =E4 | G4: =$E$2*20.52
A5: 2 | B5: +IZF01O4 [6] | C5: Sistem termoizolant realizat cu vata minerala bazaltica de 10 cm grosime la tavane (agrementat in Romania cu o durabilitate garantata de min 10 ani), strat finisaj glet si vopsea lavabila | D5: ="mp" | E5: 1.0 | F5: =E5 | G5: =$E$2*12.16
A6: 3 | B6: ="TRA02A10" | C6: Transportul rutier al materialelor,semifabricatelor cu autocamionul pe dist.= ...10 km. | D6: ="tona" | E6: 1.0 | F6: =E6 | G6: =(G4+G5)*20/1000
A7: 4 | B7: ="TRI1AC13E1" | C7: Descarcare...materiale gr.c-ambalate,10-50 kg deplas.prin purtare pina la 10m,asez..auto-rampa,teren ctg | D7: ="tona" | E7: 1.0 | F7: =E7 | G7: =G6

Sheet D_013
B1: ='Structura Investitie'!D18 | C1: ='Structura Investitie'!C18
D2: ='Date cladire'!A83 | E2: ='Date cladire'!B83
A3: ="NrCrt" | B3: ="Simbol" | C3: Denumire | D3: ="UM" | E3: ="Consum" | F3: ="Cantitate" | G3: ='Date cladire'!B2 | H3: ='Date cladire'!D2
A4: ="1" | B4: ="+RPIA02H [4]" | C4: Executare gol in perete prin carotarea fatadei si montare teava PVC pentru ventilare bucatarii | D4: ="buc" | E4: 1.0 | F4: =E4 | G4: =2*'Date cladire'!B31 | H4: =2*'Date cladire'!D31
A5: ="2" | B5: ="+RPIA02H [5]" | C5: Grila de ventilatie cu jaluzele si plasa cu racord FI 110mm - 2601285 Grila exterioara cu jaluzele si cu plasa cu FI racord 110 | D5: ="buc" | E5: 1.0 | F5: =E5 | G5: =G4*2
A6: ="3" | B6: ="VB13A1 [3]" | C6: Grila de ventilare cu jaluzele fixe si plasa 30x20 pentru aerisire camari sau subsoluri - 2601287 Grila ventilare de exterior cu jaluzele si plasa 30x20cm | D6: ="buc" | E6: 1.0 | F6: =E6 | G6: 10
A7: 4 | B7: ="SB49A3[ 1 ]" | C7: Caciula de ventilatie din tabla,Montare pe coloane aeris din tub fonta sau gresie antiacida, PVC cu d=110mm | D7: ="buc" | E7: 1.0 | F7: =E7 | G7: ='Date cladire'!B30 | H7: ='Date cladire'!D30
A8: 5 | B8: ="CD04C1[ 2 ]" | C8: Zidarie din caramida presata 240x115x63mm pentru reparatii la gurile de aerisire din poduri - 2101169 Mortar de zidarie M 25 s 1030 | D8: ="mc" | E8: 1.0 | F8: =E8 | G8: =$E$2*0.3*0.4*0.4*'Date cladire'!B30 | H8: =$E$2*0.3*0.4*0.4*'Date cladire'!D30

Sheet D_014
B1: ='Structura Investitie'!D20 | C1: ='Structura Investitie'!C20
D2: ='Date cladire'!A83 | E2: ='Date cladire'!B83
A3: ="NrCrt" | B3: ="Simbol" | C3: Denumire | D3: ="UM" | E3: ="Consum" | F3: ="Cantitate" | G3: ='Date cladire'!B2 | H3: ='Date cladire'!D2 | N3: acestea sunt standard pt o scara, P+4E, Iar pt mai multe scari : x nr sc
A4: ="1" | B4: ="RPCU12E4 [3]" | C4: Strapungeri în plansee de beton armat pentru realizarea gaurilor necesare trecerii cablurilor electrice realizate cu masina de gaurit electrica rotopercutoare cu D=35mm | D4: ="buc" | E4: 5.0 | F4: 5 | G4: =F4
A5: ="2" | B5: ="RPCU08C1 [1]" | C5: Strapungeri in zidarie de caramida ciment pentru realizarea gaurilor necesare trecerii conductelor realizate cu masina de gaurit electrica rotopercutoare cu d=35mm | D5: ="buc" | E5: 3.0 | F5: 3 | G5: =F5
A6: ="3" | B6: ="RPCU20A1 [2]" | C6: Astuparea cu mortar de ciment-var... a gaurilor din plansee si etansarea in jurul tubului de protectie la conductele ce trec prin plansee | D6: ="buc" | E6: 5.0 | F6: 5 | G6: =F6
A7: ="4" | B7: ="RPCU20A1 [1]" | C7: Astuparea cu mortar de ciment-var... a gaurilor din zidarie si etansarea in jurul conductelor ce trec prin pereti | D7: ="buc" | E7: 3.0 | F7: 3 | G7: =F7
A8: ="5" | B8: ="EA15A#" | C8: Sistem de canaleti sau plinte din...material plastic, montat aparent pe dibluri din pvc cu latimea pana la 30 mm - 0001480 Canal cablu cu capac 16x16mm pvc alb - 0001481 Sistem de fixare ptr canal cablu 16x16mm (diblu+holsurub) | D8: m | E8: 35.0 | F8: 35 | G8: =ROUND($E$2*F8,0)
A9: ="6" | B9: EC03G1 | C9: Cablu pentru energie electrica, montat cu scoabe (cleme de prindere) pe console sau pe pod de cabluri, cablul având conducte cu sectiunea pîna la 10 mmp, montat pe pod de cabluri existent sau pe poduri rulante - 0000776 Cablu CYY-F 3x1.5 mmp | D9: ="m" | E9: 40.0 | F9: 40 | G9: =ROUND($E$2*F9,0) | N9: norma schimbata
A10: ="7" | B10: ="EA17B1" | C10: Doza de ramificatie si tragere, de tip rotund sau patrat, pentru instalatiile de antena colectiva R + TV si ramificatia circuitelor instalatiilor electrice, inglobate in beton tip patrat, RIPS, marimea 29 | D10: ="buc" | E10: 10.0 | F10: 10 | G10: =F10
A11: ="8" | B11: ="EF06A1 [2]" | C11: Montare siguranta automata bipolara diferentiala 10A in tablou electric - 0000993 Siguranta automata diferentiala 10A,30mA | D11: ="buc" | E11: 1.0 | F11: 1 | G11: =F11
A12: ="9" | B12: ="EF08A1" | C12: Racordarea conductelor din aluminiu, la borne (aparate, motoare, tablouri electrice), conducta având sectiunea de...pîna la 10 mmp (exclusiv) | D12: ="buc" | E12: 20.0 | F12: 20 | G12: =F12
A13: ="10" | B13: ="EH01A1" | C13: Încercarea cablurilor de energie electrica,...de maximum 1 kV | D13: ="buc" | E13: 5.0 | F13: 5 | G13: =F13
A14: ="11" | B14: ="TRA02A10" | C14: Transportul rutier al materialelor,semifabricatelor cu autocamionul pe dist.= ...10 km. | D14: ="tona" | E14: 0.5 | F14: 0.5 | G14: =F14
A15: ="12" | B15: ="TRI1AC13E1" | C15: Descarcare...materiale gr.c-ambalate,10-50 kg deplas.prin purtare pina la 10m, asez..auto-rampa,teren ctg | D15: ="tona" | E15: 0.5 | F15: 0.5 | G15: =F15

Sheet D_015
B1: ='Structura Investitie'!D21 | C1: ='Structura Investitie'!C21
A3: ="NrCrt" | B3: ="Simbol" | C3: Denumire | D3: ="UM" | E3: ="Consum" | F3: ="Cantitate" | G3: ='Date cladire'!B2 | H3: ='Date cladire'!D2
A4: ="2" | B4: ="RPEF19E1 [1]" | C4: Demontare corp iluminat | D4: ="buc" | E4: 6 | F4: =E4 | G4: =F4
A5: ="3" | B5: ="EE05C1 [2]" | C5: Corp de iluminat tip aplica echipat cu surse LED montat pe tavan sau perete, pe dibluri din material plastic - 0002716 - Corp de iluminat pentru interior cu LED P=16W senzor de miscare si autonomie 3h | D5: ="buc" | E5: 5 | F5: =E5 | G5: =F5
A6: ="4" | B6: ="EE05C1 [2]" | C6: Corp de iluminat tip aplica echipat cu surse LED montat pe tavan sau perete, pe dibluri din material plastic - 0002717 - Corp de iluminat pentru interior cu LED P=15W senzor de miscare (la subsol, depozie, uscator) | D6: ="buc" | E6: 0 | F6: =E6 | G6: =F6
A7: ="5" | B7: ="EE05C1 [2]" | C7: Corp de iluminat tip aplica echipat cu surse LED montat pe tavan sau perete, pe dibluri din material plastic - 0002718 Corp de iluminat pentru exterior cu LED P=20W senzor de miscare si autonomie 3h | D7: ="buc" | E7: 1.0 | F7: 1 | G7: =F7
A8: ="6" | B8: ="EE10K1 [1]" | C8: Corpuri de iluminat speciale monobloc pentru iluminatul de siguranta la întreruperea curentului din retea, complet cu accesorii si becuri, cu acumulator, montat pe dibluri - 0002719 -Bloc autonom pentru iluminat de siguranta de evacuare LED 4 W cu autonomie 3h" | D8: ="buc" | E8: 9 | F8: =E8 | G8: =F8
A9: ="7" | B9: ="TRA02A10" | C9: Transportul rutier al materialelor,semifabricatelor cu autocamionul pe dist.= ...10 km. | D9: ="tona" | E9: 1.0 | F9: 1 | G9: 0.3
A10: ="8" | B10: ="TRI1AC13E1" | C10: Descarcare...materiale gr.c-ambalate,10-50 kg deplas.prin purtare pina la 10m, asez..auto-rampa,teren ctg | D10: ="tona" | E10: 1.0 | F10: 1 | G10: 0.3

Sheet D_016
B1: ='Structura Investitie'!D23 | C1: ='Structura Investitie'!C23
D2: ='Date cladire'!A83 | E2: ='Date cladire'!B83
A3: ="NrCrt" | B3: ="Simbol" | C3: Denumire | D3: ="UM" | E3: ="Consum" | F3: ="Cantitate" | G3: ='Date cladire'!B2 | H3: ='Date cladire'!D2
A4: 1 | B4: ="RPCU12E4 [3]" | C4: Strapungeri în plansee de beton armat pentru realizarea gaurilor necesare trecerii cablurilor electrice realizate cu masina de gaurit electrica rotopercutoare cu D=35mm | D4: ="buc" | E4: 5.0 | F4: 5 | G4: =E4
A5: 2 | B5: ="RPCU20A1 [2]" | C5: Astuparea cu mortar de ciment-var... a gaurilor din plansee si etansarea in jurul tubului de protectie la conductele ce trec prin plansee | D5: ="buc" | E5: 5.0 | F5: 5 | G5: =E5
A6: 3 | B6: ="EA15A#" | C6: Sistem de canaleti sau plinte din...material plastic, montat aparent pe dibluri din pvc cu latimea pana la 30 mm - 0001480 Canal cablu cu capac 16x16mm pvc alb - 0001481 Sistem de fixare ptr canal cablu 16x16mm (diblu+holsurub) | D6: ="m" | E6: =E7+E8 | F6: 30 | G6: =ROUND($E$2*E6,0)
A7: 4 | B7: ="EC05A1" | C7: Cablu pentru energie electrica, tras prin tub de protectie, pentru racordare la inotoare, tablouri, aparate etc, cablul având conducte cu sectiunea...pîna la 16 mmp cyy 3x1,5 mmp - 4801892 Cablu energie cyy 0,6/ 1 KV 3x 1,5 U s.8778 | D7: ="m" | E7: 30 | F7: 30 | G7: =ROUND($E$2*F7,0) | T7: de la nivelul parter pana la ultimul etaj + 10 m prox
A8: 5 | B8: ="EC05A1" | C8: Cablu pentru energie electrica, tras prin tub de protectie, pentru racordare la motoare tablouri, aparate etc, cablul având conducte cu sectiunea pîna la 16 mmp cyy 2x 6 mmp - 4801866 Cablu energie cyy 0,6/ 1 KV 2x 6 U s.8778 | D8: ="m" | E8: 15 | F8: 15 | G8: =ROUND($E$2*F8,0) | T8: al doilea de 2x6 mm - de la ultimul etaj la coama acoperisului + 5-10 m
A9: 6 | B9: ="EF08A1" | C9: Racordarea conductelor din aluminiu, la borne (aparate, motoare, tablouri electrice), conducta având sectiunea de...pîna la 10 mmp (exclusiv) | D9: ="buc" | E9: 5.0 | F9: 5 | G9: =E9
A10: 7 | B10: ="EH01A1" | C10: Încercarea cablurilor de energie electrica,...de maximum 1 kV | D10: ="buc" | E10: 4.0 | F10: 4 | G10: =E10

Sheet D_017
B1: ='Structura Investitie'!D24 | C1: ='Structura Investitie'!C24
A3: ="NrCrt" | B3: ="Simbol" | C3: Denumire | D3: ="UM" | E3: ="Consum" | F3: ="Cantitate" | G3: ='Date cladire'!B2 | H3: ='Date cladire'!D2
A4: ="1" | B4: ="EF02A1 [64]" | C4: Montare sistem fotovoltaic complet cu 1 panou, inclusiv racordari si verificari | D4: ="buc" | E4: 1.0 | F4: =E4 | G4: ='Date cladire'!B48 | H4: ='Date cladire'!D48
B5: ="EF02A1 [80]" | C5: Montare sistem fotovoltaic complet cu 2 panouri, inclusiv racordari si verificari | D5: ="buc" | E5: 1.0 | F5: =E5 | G5: 0

Sheet D_018
B1: ='Structura Investitie'!D26 | C1: ='Structura Investitie'!C26
A3: ="NrCrt" | B3: ="Simbol" | C3: Denumire | D3: ="UM" | E3: ="Consum" | F3: ="Cantitate" | G3: ='Date cladire'!B2 | H3: ='Date cladire'!D2
A4: ="1" | B4: ="8000626" | C4: Tubulatura încastrata pentru cablurile electrice, pentru a permite instalarea, într-o etapa ulterioara, a punctelor de reîncarcare pentru vehicule electrice | D4: ="buc" | E4: 1.0 | F4: =E4 | G4: 0

Sheet D_019
B1: ='Structura Investitie'!D27 | C1: ='Structura Investitie'!C27
A3: ="NrCrt" | B3: ="Simbol" | C3: Denumire | D3: ="UM" | E3: ="Consum" | F3: ="Cantitate" | G3: ='Date cladire'!B2 | H3: ='Date cladire'!D2
A4: ="2" | B4: ="0001747" | C4: Amenajare loc pentru automobil pentru perioada incarcarii | D4: ="buc" | E4: 2.0 | F4: =E4 | G4: 0
A5: ="3" | B5: ="0001748" | C5: Amenajare loc pentru amplasare statie de incarcare de 22 kw | D5: ="buc" | E5: 1.0 | F5: =E5 | G5: 0
A6: ="4" | B6: ="0001749" | C6: Instalatie electrica pentru alimentare statie de incarcare masini electrice | D6: ="buc" | E6: 1.0 | F6: =E6 | G6: 0
A7: ="5" | B7: ="0001750" | C7: Instalatie electrica de curenti slabi ( pentru internet) | D7: ="buc" | E7: 1.0 | F7: =E7 | G7: 0

Sheet D_020
B1: ='Structura Investitie'!D28 | C1: ='Structura Investitie'!C28
A3: ="NrCrt" | B3: ="Simbol" | C3: Denumire | D3: ="UM" | E3: ="Consum" | F3: ="Cantitate" | G3: ='Date cladire'!B2 | H3: ='Date cladire'!D2
A4: ="2" | B4: ="EF04XA [1]" | C4: Montare si racordare statie de incarcare masini electrice de 22 kw cu 2 puncte de incarcare | D4: ="buc" | E4: 1.0 | F4: =E4 | G4: 0

Sheet D_021
B1: ='Structura Investitie'!D30 | C1: ='Structura Investitie'!C30
D2: ='Date cladire'!A83 | E2: ='Date cladire'!B83
A3: ="Nr Crt" | B3: ="Simbol" | C3: Denumire | D3: ="UM" | E3: ="Consum" | F3: ="Cantitate" | G3: ='Date cladire'!B2 | H3: ='Date cladire'!D2
A4: ="2" | B4: ="RPCS05A1[ 1 ]" | C4: Repararea denivelarilor la trotuare executate din placi de beton sau beton turnat, trotuare perimetrale de protectie a soclului - 2100996 - Beton de ciment B 450 clasa C30/37 | D4: ="mp" | E4: 1.0 | F4: =E4 | G4: =$E$2*'Date cladire'!B4 | H4: =$E$2*'Date cladire'!D4
A5: ="3" | B5: ="RPCE34A1 [3]" | C5: Umplerea rosturilor dintre trotuar si soclul cladirii cu bitum tip D - dop din bitum ptr. stopare infiltratii apa - asimilat | D5: ="m" | E5: 1.0 | F5: =E5 | G5: =G4*1
A6: ="4" | B6: ="TRA06A10 [1]" | C6: Transportul rutier al betonului-mortarului cu autobetoniera de...5,5mc distanta =10km | D6: ="tona" | E6: 1.0 | F6: =E6 | G6: =G4*0.08*2.5

Sheet D_022
B1: ='Structura Investitie'!D31 | C1: ='Structura Investitie'!C31 | E1: in acest deviz , celulele cu formule se vor adapta in functie de tipul planseului peste ultimul nivel (terasa : articolele : 1-5 si daca e cazul de jgheaburi si burlane + suprainaltare de atic acoperis : art 6- 25 ;daca construieste acoperis devizul e 0
D2: ='Date cladire'!A83 | E2: ='Date cladire'!B83
A3: ="NrCrt" | B3: ="Simbol" | C3: Denumire | D3: ="UM" | E3: ="Consum" | F3: ="Cantitate" | G3: ='Date cladire'!B2 | H3: ='Date cladire'!D2
A4: ="1" | B4: ="IZF67A+ [13]" | C4: Reparatii la terasa realizate prin desfacerea hidroizolatiilor deteriorate si repararea zonei cu membrane bituminoase hidroizolante | D4: ="mp" | E4: 1.0 | F4: =E4 | G4: =$E$2*'Date cladire'!B20*0.3 | H4: =$E$2*'Date cladire'!D20*0.3 | N4: reparatii terasa
A5: ="2" | B5: ="RPSB56A1" | C5: Inlocuire gura scurg. fonta email. evac. apa terasa si acoperisuri cu d...100mm | D5: ="buc" | E5: 1.0 | F5: =E5 | G5: =4
A6: ="3" | B6: ="SB33A+ [1]" | C6: Receptor de terasa D=75mm pentru sistemul de canalizare meteorica montat cu folie (pt hidoizolatie) | D6: ="buc" | E6: 1.0 | F6: =E6 | G6: =G5
A7: ="4" | B7: ="SA17H1 [1]" | C7: Asimilat - Teava pvc sau polipropilena montata la prelungirea gurilor de scurgere de pe terase diametru 110mm | D7: ="m" | E7: 1.0 | F7: =E7 | G7: =G5
A8: ="5" | B8: ="RPCE28A1" | C8: Parafrunzar cu diametru mediu de 120 mm confectionat dintr-o carcasa sudata zincata d=4 mm...prevazuta cu plasa din sârma zincata, la acoperisuri si terase necirculabile | D8: ="buc" | E8: 1.0 | F8: =E8 | G8: =G5
A9: ="6" | B9: ="RPCT27A1" | C9: Demontarea jgheaburilor si burlanelor...din tabla | D9: ="m" | E9: 1.0 | F9: =E9 | G9: =G10+G11 | N9: reparatii terasa daca e cazul si reparatii sarpanta
A10: ="7" | B10: ="CE13A1 [6]" | C10: Sistem de jgheaburi semirotunde (jgheab, cot, sistem de fixare, etc) din tabla zincata vopsita in camp electrostatic cu diametrul de 15 cm - 6311247 Jgheab din tabla zincata vopsita in camp electrostatic diametru 15 cm (sistem complet) inclusiv elemente de fixare | D10: ="m" | E10: 1.0 | F10: =E10 | G10: =$E$2*'Date cladire'!B8 | H10: =$E$2*'Date cladire'!D8
A11: ="8" | B11: ="CE14A1 [8]" | C11: Sistem de burlane rotunde ( burlan, descarcator, cot, bratari fixare) din tabla zincata vopsita in camp electrostatic cu diametru de 10 cm - 3252222 - Burlan din tabla zincata vopsita in camp electrostatic diametru 10 cm (sistem complet) inclusiv elemente de fixare | D11: ="m" | E11: 1.0 | F11: =E11 | G11: =$E$2*'Date cladire'!B16*4 | H11: =$E$2*'Date cladire'!D16*4 | P11: x nr de de burlane al al blocului
A12: ="9" | B12: ="RPCXH13C" | C12: Desfacerea ...streasinei infundata sau aparenta incl. sortarea si stivuirea materialelor. | D12: ="mp" | E12: 1.0 | F12: =E12 | G12: =$E$2*0.6*'Date cladire'!B8 | H12: =$E$2*0.6*'Date cladire'!D8 | N12: reparatii sarpanta
B13: ="CN54A+ [1]" | C13: Ignifugare si protectie insecto-fungicida elementelor de constructii din lemn | D13: ="mp" | E13: 1.0 | F13: =E13 | G13: =G14*2+G15*2*0.1
A14: ="10" | B14: ="RPCH13B1" | C14: Streasina înfundata, din scânduri de rasinoase faltuite si geluite pe o parte, cu o grosime initiala de 24 mm, inclusiv paziile necesare din scânduri de brad de 28 mm grosime...cu console aparente, geluite si profilate | D14: ="mp" | E14: 1.0 | F14: =E14 | G14: =$E$2*(0.6-0.15)*'Date cladire'!B8 | H14: =$E$2*(0.6-0.15)*'Date cladire'!D8
A15: 11 | B15: ="CE19A1" | C15: Pazii si stresini din scanduri de lemn pazii la streasina sau frontoane din scinduri geluite simplu - 2903830 -Scindura rasin lunga tiv cls C gR = 24mm L = 3,00m s 942 | D15: ="m" | E15: 1.0 | F15: =E15 | G15: =$E$2*'Date cladire'!B8 | H15: =$E$2*'Date cladire'!D8
A16: 12 | B16: RPCR36A1 | C16: Vopsitul tavanelor, lambriurilor si al streasinilor din lemn…cu vopsea de ulei | D16: mp | G16: =G14*0.45+G15*0.1*2
A17: 13 | B17: ="RPCH08B1 [1]" | C17: Reparatii elemente de sarpanta deteriorate | D17: ="mp" | E17: 1.0 | F17: =E17 | G17: =$E$2*0.3*'Date cladire'!B21 | H17: =$E$2*0.3*'Date cladire'!D21 | O17: reparatii pt sarpanta de lemn
A18: 14 | B18: RPCH09B1 [10] | C18: Montare conectori metalici pentru prindere elemente din lemn la sarpante - piesa tip vinclu 100x100 - 2308383 Piesa metalica pentru prindere elemente de sarpanta tip vinclu 100x100x100mm | D18: buc | G18: =ROUND($E$2*0.7*'Date cladire'!B21,0) | H18: =ROUND($E$2*0.7*'Date cladire'!D21,0) | P18: 0,7 buc/mp
A19: 15 | B19: RPCH09B1 [11] | C19: Montare conectori metalici pentru prindere elemente din lemn la sarpante - piesa tip vinclu 150x150 - 2308384 Piesa metalica pentru prindere elemente de sarpanta tip vinclu 150x150x150mm | D19: buc | G19: =ROUND($E$2*0.15*'Date cladire'!B21,0) | H19: =ROUND($E$2*0.15*'Date cladire'!D21,0) | P19: 0,15buc/mp
A20: 16 | B20: RPCH09B1 [7] | C20: Consolidarea sarpantelor executate cu tije filetate M12x300mm | D20: buc | G20: =ROUNDDOWN($E$2*'Date cladire'!B7*1,0) | H20: =ROUNDDOWN($E$2*'Date cladire'!D7*1,0) | M20: se adpteaza, in cazul terasei cantitatea devine 0 | P20: 1 buc /mp (pana la noi info)
A21: 18 | B21: ="H1B02A3 [1]" | C21: Curatarea suprafetelor de beton degradat prin frecare cu peria de sîrma, suflare cu aer comprimat si spalare cu jet de apa sub presiune; | D21: ="mp" | E21: 1.0 | F21: =E21 | G21: ? | O21: in cazul sarpantelor din beton (de vf cu Alin cum trebuie prinse)
A22: 19 | B22: ="RPCJ28C1 [6]" | C22: Repararea zonelor cu beton degradat executate cu mortar de reprofilare cu contractii reduse | D22: ="mp" | E22: 1.0 | F22: =E22 | G22: ?
A23: 20 | B23: ="IZA02XA [1]" | C23: Curatarea armaturilor corodate prin frecare cu peria de sirma | D23: ="mp" | E23: 1.0 | F23: =E23 | G23: ?
A24: 21 | B24: ="IZA05A+ [1]" | C24: Tratatea anticoroziva a armaturilor cu solutii chimice agrementate | D24: ="mp" | E24: 1.0 | F24: =E24 | G24: ?
A25: 22 | B25: ="RPCJ46C1 [4]" | C25: Tencuieli de protectie in zona armaturilor de otel/ fier beton cu mortar special, în cazul lucrarilor de reparatii ale structurilor degradate de beton armat | D25: ="m" | E25: 1.0 | F25: =E25 | G25: ?
A26: 23 | B26: ="CE05A1 [2]" | C26: Reparatii la invelitori realizate cu tigla metalica la acoperisuri cu astereala | D26: ="mp" | E26: 1.0 | F26: =E26 | G26: 0
A27: 24 | B27: ="RPCI06C1" | C27: Reparatii la invelitori din tigle profilate...390x220 mm, 405x230 mm, coame 380x350 mm la acoperisuri cu asterereala si carton bitumat CA 300 | D27: ="mp" | E27: 1.0 | F27: =E27 | G27: 0
A28: 25 | B28: ="RPCH11A1" | C28: Reparatii la astereala învelitorii din scânduri de rasinoase de 24 mm grosime, executate prin înlocuirea asterealei stricate, cu scânduri...brute, la constructii obisnuite | D28: ="mp" | E28: 1.0 | F28: =E28 | G28: 0
A29: 26 | B29: ="TRA02A10" | C29: Transportul rutier al materialelor,semifabricatelor cu autocamionul pe dist.= ...10 km. | D29: ="tona" | E29: 1.0 | F29: =E29 | G29: =(G4*4.5+G5*5+G9*2+G10*1.5+G11*2.5+G12*0.024*800+G14*0.024*800+G15*0.1*0.024*800+G17*30+G18*0.2+G19*0.3+G20*0.2+G26*6+G27*26*2.9+G28*0.024*800)/1000
A30: 27 | B30: ="TRI1AC13E1" | C30: Descarcare...materiale gr.c-ambalate,10-50 kg deplas.prin purtare pina la 10m,asez..auto-rampa,teren ctg | D30: ="tona" | E30: 1.0 | F30: =E30 | G30: =G29
C32: Suprainaltare de atic
A33: 20 | B33: RPCE06 | C33: Desfacerea hidroizolatiilor,termoizolatiilor lipit cu bitum si a straturilor de protectie la terase | D33: mp | E33: 1.0 | F33: =E33 | G33: =ROUND(($E$2*('Date cladire'!B75*'Date cladire'!B77+'Date cladire'!B76*'Date cladire'!B79)),0) | H33: =ROUND(($E$2*('Date cladire'!D75*'Date cladire'!D77+'Date cladire'!D76*'Date cladire'!D79)),0)
A34: 21 | B34: RPCB23A1 | C34: Spituirea suprafetelor de beton...in vederea aderarii unui beton nou | D34: mp | E34: 1.0 | F34: =E34 | G34: =G33
A35: 22 | B35: CB04D1 | C35: Cofraje pentru beton armat în placi, grinzi si stâlpi. din panouri refolosibile, cu astereala din scânduri de rasinoase,scurte si subscurte,exclusiv sustinerile, la constructii având înaltimea între 20 si 35 m inclusiv, la stalpi si cadre | D35: mp | E35: 1.0 | F35: =E35 | G35: =ROUNDUP(($E$2*('Date cladire'!B75*('Date cladire'!B78+0.1)*2+'Date cladire'!B76*('Date cladire'!B80+0.1)*2)),0) | H35: =ROUNDUP(($E$2*('Date cladire'!D75*('Date cladire'!D78+0.1)*2+'Date cladire'!D76*('Date cladire'!D80+0.1)*2)),0)
A36: 23 | B36: 2903830 | C36: Scindura rasin lunga tiv cls C gR = 24mm L = 3,00m s 942 | D36: mc | E36: 1.0 | F36: =E36 | G36: =G35*0.024
A37: 24 | B37: CZ0302D1 [1] | C37: Confectionarea armaturilor din otel beton pentru beton armat în elemente de constructii turnate în cofraje, exclusiv cele executate în cofraje glisante fasonarea barelor pentru pereti, grinzi, stâlpi si diafragme la constructii obisnuite, în atelier | D37: kg | E37: 1.0 | F37: =E37 | G37: =$E$2*232.26 | P37: (de luat din plansa de rezi) | Q37: fi 6 sau fi 8 cantittea
A38: 25 | B38: CZ0301E1 | C38: Confectionarea armaturilor din otel beton pentru beton armat în fundatii fasonarea barelor pentru fundatii izolate (inclusiv fundatii pahar) continui si radiere, în ateliere centralizate PC 52, D= 10-16 mm ; | D38: kg | E38: 1.0 | F38: =E38 | G38: =$E$2*(539.24-G37) | P38: (de luat din plansa de rezi)
A39: 26 | B39: CC02C1 [1] | C39: Montarea armaturilor din otel-beton în elemente de constructii, exclusiv cele din constructiile executate în cofraje glisante la constructii executate la o înaltime pâna la 35 m inclusiv, din bare fasonate având diametrul pâna la 18 mm inclusiv, in | D39: kg | E39: 1.0 | F39: =E39 | G39: =G38+G37
A40: 28 | B40: CA07L1 [2] | C40: Turnarea cu pompa a betonului armat în elementele constructiilor, exclusiv cele executate în cofraje glisante la constructii cu înaltimea între pana la 30 m, în stâlpi si centuri izolate; | D40: mc | E40: 1.0 | F40: =E40 | G40: =$E$2*('Date cladire'!B75*'Date cladire'!B77*'Date cladire'!B78+'Date cladire'!B76*'Date cladire'!B79*'Date cladire'!B80) | H40: =$E$2*('Date cladire'!D75*'Date cladire'!D77*'Date cladire'!D78+'Date cladire'!D76*'Date cladire'!D79*'Date cladire'!D80)
A41: 29 | B41: "0002850" | C41: Beton de ciment B 350 clasa C20/2 | D41: mc | E41: 1.0 | F41: =E41 | G41: =1.008*G40 | M41: norma schimbata
A42: 30 | B42: TRA06A10 [3] | C42: Transportul rutier al betonului sau mortarului cu autobetoniera de 5,5mc distanta =10km | D42: tona | E42: 1.0 | F42: =E42 | G42: =G40*2.5
A43: 31 | B43: CC09A1 [16] | C43: Ancorarea chimica a armaturilor FI 12mm L= 200mm | D43: buc | E43: 1.0 | F43: =E43 | G43: =ROUNDUP(($E$2*('Date cladire'!B75+'Date cladire'!B76)),0) | H43: =ROUNDUP(($E$2*('Date cladire'!D75+'Date cladire'!D76)),0)
A44: 32 | B44: CF06A1 | C44: Tencuieli exterioare obisnuite executate manual, driscuite din gros, la calcane sau la interior în poduri, subsoluri etc, cu mortar de var-ciment marca M25-T in grosime medie de 2 cm; | D44: mp | E44: 1.0 | F44: =E44 | G44: =ROUNDUP(($E$2*('Date cladire'!B75*'Date cladire'!B78+'Date cladire'!B76*'Date cladire'!B80)),0) | H44: =ROUNDUP(($E$2*('Date cladire'!D75*'Date cladire'!D78+'Date cladire'!D76*'Date cladire'!D80)),0)
A45: 33 | B45: 2101200 | C45: Mortar tencuiala M 100 (var pasta) s 1030 | D45: mc | E45: 1.0 | F45: =E45 | G45: =G44*0.019
A46: 34 | B46: TRA02A10 | C46: Transportul rutier al materialelor,semifabricatelor cu autocamionul pe dist.= ...10 km. | D46: tona | E46: 1.0 | F46: =E46 | G46: =(G37+G38+G35*0.024*800+G44*0.025*2500)/1000
A47: 35 | B47: TRI1AC13E1 | C47: Descarcare...materiale gr.c-ambalate,10-50 kg deplas.prin purtare pina la 10m,asez..auto-rampa,teren ctg | D47: tona | E47: 1.0 | F47: =E47 | G47: =G46
A48: 36 | B48: TRB05A22 | C48: Transportul materialelor prin purtat direct.materiale...incomode sub 25 kg distanta 20m | D48: tona | E48: 1.0 | F48: =E48 | G48: =G46

Sheet D_023
B1: ='Structura Investitie'!D32 | C1: ='Structura Investitie'!C32 | F1: se lasa cantitati doar daca se consturieste acoperis daca nu se pune 0
D2: ='Date cladire'!A83 | E2: ='Date cladire'!B83
A3: ="NrCrt" | B3: ="Simbol" | C3: Denumire | D3: ="UM" | E3: ="Consum" | F3: ="Cantitate" | G3: ='Date cladire'!B2 | H3: ='Date cladire'!D2 | M3: daca acoperisul e din arhitectura blocului trebuie adaugate articole de demontare
A4: ="1" | B4: ="CE17B1 [1]" | C4: Sarpanta din lemn la acoperisuri cu una pana la patru pante, executata pe scaune | D4: ="mp" | E4: 1.0 | F4: =E4 | G4: =$E$2*'Date cladire'!B21 | H4: =$E$2*'Date cladire'!D21 | M4: pt sarpanta normala | O4: se lasa doar tipul de sarpanta necesar +se modifica in transporturi
A5: 2 | B5: 2900479 | C5: Lemn din rasinoase cal I pentru sarpante | D5: mc | G5: =G4*0.07 | N5: Daca nu avem e suprafata *0.07
A6: 3 | B6: CE17B1 [2] | C6: Sarpanta prefabricata din lemn imbinata la noduri cu placute multicui | D6: ="mp" | G6: =$E$2*'Date cladire'!B21*0 | H6: =$E$2*'Date cladire'!D21*0 | M6: pt sarpanta prefabricata
A7: 4 | B7: 2900479 | C7: Lemn din rasinoase cal I pentru sarpanta | D7: mc | G7: =G6*0.015
A8: 5 | B8: 2436 | C8: Lemn ignifugat pentru sarpante prefabricate imbinate la noduri cu placute multicui debitat la dimensiune, inclusiv placute, gata de montaj | D8: mc | G8: =G6*0.027
A9: 6 | B9: RPCH09B1 [10] | C9: Montare conectori metalici pentru prindere elemente din lemn la sarpante - piesa tip vinclu 100x100 2308383 Piesa metalica pentru prindere elemente de sarpanta tip vinclu 100x100x100mm | D9: buc | G9: =ROUND($E$2*(0.7*'Date cladire'!B21),0) | H9: =ROUND($E$2*(0.7*'Date cladire'!D21),0)
A10: 7 | B10: RPCH09B1 [11] | C10: Montare conectori metalici pentru prindere elemente din lemn la sarpante - piesa tip vinclu 150x150 2308384 Piesa metalica pentru prindere elemente de sarpanta tip vinclu 150x150x150mm | D10: buc | E10: 1.0 | F10: =E10 | G10: =ROUND($E$2*(0.15*'Date cladire'!B21),0) | H10: =ROUND($E$2*(0.15*'Date cladire'!D21),0)
A11: 8 | B11: RPCH09B1 [7] | C11: Consolidarea sarpantelor executate cu tije filetate M12x300mm | D11: buc | G11: =ROUNDDOWN('Date cladire'!B7*1,0) | H11: =ROUNDDOWN('Date cladire'!D7*1,0) | N11: 1 buc /mp (pana la noi info)
A12: 9 | B12: ="CE18A1" | C12: Astereala la învelitori sau la doliile invelitorilor din tigla si azbociment scinduri din rasinoase | D12: ="mp" | E12: 1.0 | F12: =E12 | G12: =G4*1.25
A13: 10 | B13: ="CE20A1 [4]" | C13: Sipci din lemn montate la acoperisuri pentru sustinerea si fixarea invelitorilor din tigla metalica | D13: ="mp" | E13: 1.0 | F13: =E13 | G13: =G12
A14: 11 | B14: ="CE05A1 [1]" | C14: Invelitoare din tabla zincata profilata ondulata, fixata si tesute cu suruburi autofiletante - montare invelitoare din tigla metalica ( tip lindab) - asim 2300106 - Tigla metalica 0,5 PE din otel galvanizat protejata in sistem multistrat pe ambele fete cu acoperire finala vopsea poliesterica (tip lindab sau similar) sistem complet inclusiv coame,dolii, opritori zapada etc | D14: ="mp" | E14: 1.0 | F14: =E14 | G14: =G12
A15: 12 | B15: RPCP09A1 [4] | C15: Parazapezi tip bara pentru invelitori | D15: m | G15: =$E$2*'Date cladire'!B8 | H15: =$E$2*'Date cladire'!D8
A16: 13 | B16: ="IZF03A1 [2]" | C16: Folie anticondens montata sub invelitori | D16: ="mp" | E16: 1.0 | F16: =E16 | G16: =G12
A17: 14 | B17: ="CN54A+ [1]" | C17: Ignifugare si protectie insecto-fungicida elementelor de constructii din lemn | D17: ="mp" | E17: 1.0 | F17: =E17 | G17: =G12*2.5+G4*2+G18*2+G19*2*0.1
A18: 15 | B18: ="RPCH13B1" | C18: Streasina înfundata, din scânduri de rasinoase faltuite si geluite pe o parte, cu o grosime initiala de 24 mm, inclusiv paziile necesare din scânduri de brad de 28 mm grosime...cu console aparente, geluite si profilate | D18: ="mp" | E18: 1.0 | F18: =E18 | G18: =$E$2*0.6*'Date cladire'!B8 | H18: =$E$2*0.6*'Date cladire'!D8
A19: 16 | B19: ="CE19A1" | C19: Pazii si stresini din scanduri de lemn pazii la streasina sau frontoane din scinduri geluite simplu | D19: ="m" | E19: 1.0 | F19: =E19 | G19: =$E$2*'Date cladire'!B8 | H19: =$E$2*'Date cladire'!D8
A20: 17 | B20: RPCR36A1 | C20: Vopsitul tavanelor, lambriurilor si al streasinilor din lemn…cu vopsea de ulei | D20: mp | G20: =G18*0.45+G19*0.1*2
A21: 18 | B21: ="TRA02A10" | C21: Transportul rutier al materialelor,semifabricatelor cu autocamionul pe dist.= ...10 km. | D21: ="tona" | E21: 1.0 | F21: =E21 | G21: =(G5*800+G7*800+G8*850+G9*0.2+G10*0.3+G11*0.2+G12*0.024*800+G13*1+G14*6+G15*2+G18*0.024*800+G19*0.1*0.024*800+G27*1.5+G28*2.5+G29*7.68+G30*0.024*800)/1000
A22: 19 | B22: ="TRI1AC13E1" | C22: Descarcare...materiale gr.c-ambalate,10-50 kg deplas.prin purtare pina la 10m,asez..auto-rampa,teren ctg | D22: ="tona" | E22: 1.0 | F22: =E22 | G22: =G21
A23: 20 | B23: ="TRB05B12" | C23: Transportul materialelor prin purtat...direct.materiale comode peste 25 kg distanta 20m | D23: ="tona" | E23: 1.0 | F23: =E23 | G23: =G21
A24: 21 | B24: ="MDTC4669010" | C24: Transport utilaj...10km 65121022 macara pe pneuri cu brat telescopic telemac ht125,12,5tf(10-14,9tf | D24: ="buc" | E24: 2.0 | F24: =E24 | G24: 2 | M24: 2 buc pt 1-3 scari 4 buc pt 4-6 scari
A25: 22 | B25: ="AUT6729" | C25: Macara pe...pneuri 10-14,9tf | D25: ="ora" | E25: 1.0 | F25: =E25 | G25: 2 | M25: 2 ore ptr o scara
A26: 23 | B26: ="RPCE30A1" | C26: Prelata pentru protejarea terasei pe timp ploios,...pe durata refacerii | D26: ="mp" | E26: 1.0 | F26: =E26 | G26: =$E$2*'Date cladire'!B20 | H26: =$E$2*'Date cladire'!D20
A27: 24 | B27: ="CE13A1 [6]" | C27: Sistem de jgheaburi semirotunde (jgheab, cot, sistem de fixare, etc) din tabla zincata vopsita in camp electrostatic cu diametrul de 15 cm | D27: ="m" | E27: 1.0 | F27: =E27 | G27: 0
A28: 25 | B28: ="CE14A1 [8]" | C28: Sistem de burlane rotunde ( burlan, descarcator, cot, bratari fixare) din tabla zincata vopsita in camp electrostatic cu diametru de 10 cm | D28: ="m" | E28: 1.0 | F28: =E28 | G28: 0
A29: 26 | B29: ="CD20A+ [15]" | C29: Inchideri laterale la sarpante realizate cu placi de OSB pe suport din lemn | D29: ="mp" | E29: 1.0 | F29: =E29 | G29: 0 | M29: se alege daca e cazul tipul inchiderii laterale a acoperisului
B30: CO16XA [1] - | C30: Calcan din lemn pentru inchiderea sarpantei la partile laterale | D30: mp | G30: 0
C31: Centura ba
A32: 27 | B32: CB04D1 | C32: Cofraje pentru beton armat în placi, grinzi si stâlpi. din panouri refolosibile, cu astereala din scânduri de rasinoase,scurte si subscurte,exclusiv sustinerile, la constructii având înaltimea între 20 si 35 m inclusiv, la stalpi si cadre | D32: mp | E32: 1.0 | F32: =E32 | G32: =ROUNDUP(($E$2*('Date cladire'!B75*('Date cladire'!B78+0.1)*2+'Date cladire'!B76*('Date cladire'!B80+0.1)*2)),0) | H32: =ROUNDUP(($E$2*('Date cladire'!D75*('Date cladire'!D78+0.1)*2+'Date cladire'!D76*('Date cladire'!D80+0.1)*2)),0)
A33: 28 | B33: 2903830 | C33: Scindura rasin lunga tiv cls C gR = 24mm L = 3,00m s 942 | D33: mc | E33: 1.0 | F33: =E33 | G33: =0.024*G32
A34: 29 | B34: CZ0302D1 [1] | C34: Confectionarea armaturilor din otel beton pentru beton armat în elemente de constructii turnate în cofraje, exclusiv cele executate în cofraje glisante fasonarea barelor pentru pereti, grinzi, stâlpi si diafragme la constructii obisnuite, în atelier | D34: kg | E34: 1.0 | F34: =E34 | G34: =$E$2*232.26 | Q34: (de luat din plansa de rezi)
A35: 30 | B35: CZ0301E1 | C35: Confectionarea armaturilor din otel beton pentru beton armat în fundatii fasonarea barelor pentru fundatii izolate (inclusiv fundatii pahar) continui si radiere, în ateliere centralizate PC 52, D= 10-16 mm ; | D35: kg | E35: 1.0 | F35: =E35 | G35: =$E$2*539.24-G34 | Q35: (de luat din plansa de rezi)
A36: 31 | B36: CC02C1 [1] | C36: Montarea armaturilor din otel-beton în elemente de constructii, exclusiv cele din constructiile executate în cofraje glisante la constructii executate la o înaltime pâna la 35 m inclusiv, din bare fasonate având diametrul pâna la 18 mm inclusiv, in | D36: kg | E36: 1.0 | F36: =E36 | G36: =G34+G35
A37: 32 | B37: CP21A1 | C37: Innadirea prin suprapunere a armaturilor din otel beton, prin sudura electrica In pozitia de montaj a prefabricatelor cu bare din stpb,d=8-10mm | D37: buc | E37: 1.0 | F37: =E37 | G37: =ROUND(($E$2*('Date cladire'!B75+'Date cladire'!B76)/3*4),0) | H37: =ROUND(($E$2*('Date cladire'!D75+'Date cladire'!D76)/3*4),0)
A38: 33 | B38: CA07L1 [2] | C38: Turnarea cu pompa a betonului armat în elementele constructiilor, exclusiv cele executate în cofraje glisante la constructii cu înaltimea între pana la 30 m, în stâlpi si centuri izolate; | D38: mc | E38: 1.0 | F38: =E38 | G38: =$E$2*('Date cladire'!B75*'Date cladire'!B77*'Date cladire'!B78+'Date cladire'!B76*'Date cladire'!B79*'Date cladire'!B80) | H38: =$E$2*('Date cladire'!D75*'Date cladire'!D77*'Date cladire'!D78+'Date cladire'!D76*'Date cladire'!D79*'Date cladire'!D80)
A39: 34 | B39: "0002850" | C39: Beton de ciment B 350 clasa C20/2 | D39: mc | E39: 1.0 | F39: =E39 | G39: =1.008*G38 | L39: norma schimbata
A40: 35 | B40: TRA06A10 [3] | C40: Transportul rutier al betonului sau mortarului cu autobetoniera de 5,5mc distanta =10km | D40: tona | E40: 1.0 | F40: =E40 | G40: =G38*2.5
A41: 36 | B41: CC09A1 [16] | C41: Ancorarea chimica a armaturilor FI 12mm L= 200mm | D41: buc | E41: 1.0 | F41: =E41 | G41: =ROUNDUP(($E$2*('Date cladire'!B75+'Date cladire'!B76)),0) | H41: =ROUNDUP(($E$2*('Date cladire'!D75+'Date cladire'!D76)),0)
A42: 37 | B42: TRA02A10 | C42: Transportul rutier al materialelor,semifabricatelor cu autocamionul pe dist.= ...10 km. | D42: tona | E42: 1.0 | F42: =E42 | G42: =(G32*0.024*800+G34+G35)/1000
A43: 38 | B43: TRI1AC13E1 | C43: Descarcare...materiale gr.c-ambalate,10-50 kg deplas.prin purtare pina la 10m,asez..auto-rampa,teren ctg | D43: tona | E43: 1.0 | F43: =E43 | G43: =G42
A44: 39 | B44: TRB05A22 | C44: Transportul materialelor prin purtat direct.materiale...incomode sub 25 kg distanta 20m | D44: tona | E44: 1.0 | F44: =E44 | G44: =G42
C46: Demontare sarpanta + invelitoare existenta
A47: 40 | B47: RPCT25F1 | C47: Desfacerea sarpantelor din lemn si a elementelor componente...a sarpantelor grele | D47: mp | G47: =$E$2*'Date cladire'!B21*0 | H47: =$E$2*'Date cladire'!D21*0 | M47: se verifica daca suprafata de demontare e egala cu cea la montare | N47: se lasa cantitati doar daca sarpanta e din arh blocului (in formula e *0 pt a nu aparea cantitati- se sterge 0 si ramane cantitatea)
A48: 41 | B48: ="RPCT26XA" | C48: Desfacerea invelitorilor din tabla zn sau neagra 0,4-0,5 mm incl.reconditionarea materialului | D48: ="mp" | E48: 1.0 | F48: =E48 | G48: 0
A49: 42 | B49: ="RPCT26XC" | C49: Desfacerea invelitorilor din azbociment,eternit,materioal plastic colorat diferit,plane sau ondulate | D49: ="mp" | E49: 1.0 | F49: =E49 | G49: 0
A50: 43 | B50: ="RPCT26XB" | C50: Desfacerea invelitorilor din olane,tigle solzi sauprofilate cu jgheaburi asezate pe sipci batute | D50: ="mp" | E50: 1.0 | F50: =E50 | G50: =$E$2*1.25*'Date cladire'!B21*0 | H50: =$E$2*1.25*'Date cladire'!D21*0
A51: ="4" | B51: ="RPCXH13B" | C51: Desfacerea ...asterelei invelitorii din scindura sau pfl incl. sortare si stivuire materiale. | D51: ="mp" | E51: 1.0 | F51: =E51 | G51: =G48+G50+G49
A52: 40 | B52: ="RPCH45A1 [4]" | C52: Jgheab din lemn...pentru evacuarea tigle demontate de pe acoperis | D52: ="m" | E52: 1.0 | F52: =E52 | G52: =$E$2*'Date cladire'!B12*0 | H52: =$E$2*'Date cladire'!D12*0
A53: 44 | B53: TRB05A22 | C53: Transportul materialelor prin purtat direct.materiale...incomode sub 25 kg distanta 20m | D53: tona | G53: =(G47*60+G48*5+G49*16+G50*0.08+G50*16*2.9+G51*0.024*800)/1000
A54: 45 | B54: TRI1AA01F3 | C54: Incarcarea materialelor, grupa a-grele si...marunte,prin tran.pina la 10m rampa sau teren-auto cate | D54: tona | G54: =G53
A55: 46 | B55: TRA01A10P | C55: Transportul rutier al...pamantului sau molozului cu autobasculanta dist.=10 km | D55: tona | G55: =G53
A56: 47 | B56: MDTC4623010 | C56: Transport utilaj...10 km-65121002-macara pe pneuri de 0,10-0,149 mn(10-14,9tf) | D56: buc | G56: =2*0 | M56: 2 buc pt 1-3 scari 4 buc pt 4-6 scari
A57: 48 | B57: AUT6729 | C57: Macara pe pneuri 10-14,9tf | D57: ora | G57: =2*0 | M57: 2 ore ptr o scara

Sheet D_024
B1: ='Structura Investitie'!D33 | C1: ='Structura Investitie'!C33
D2: ='Date cladire'!A83 | E2: ='Date cladire'!B83
A3: ="NrCrt" | B3: ="Simbol" | C3: Denumire | D3: ="UM" | E3: ="Consum" | F3: ="Cantitate" | G3: ='Date cladire'!B2 | H3: ='Date cladire'!D2
A4: ="1" | B4: ="TCC28A2" | C4: Cablu coaxial pentru instalatii radio si telecomunicatii, cu diametrul de pâna ia 20 mm...demontare | D4: ="m" | E4: 1.0 | F4: =E4 | G4: =$E$2*'Date cladire'!B66 | H4: =$E$2*'Date cladire'!D66
A5: ="2" | B5: ="TCC28A1" | C5: Cablu coaxial pentru instalatii radio si telecomunicatii, cu diametrul de pâna ia 20 mm...montare | D5: ="m" | E5: 1.0 | F5: =E5 | G5: =G4
A6: ="3" | B6: ="+EA01A" | C6: Canal cablu 60x40 mm din PVC pentru mascare cabluri | D6: ="m" | E6: 1.0 | F6: =E6 | G6: =G4 | N6: daca exista contoare electrice si au cabluri se prinde aici lungimea lor (87,15 + x lungime - se modifica formula)
A7: ="4" | B7: ="RPIXC13A [1]" | C7: Distantarea de perete a instalatiilor de gaze naturale de pe fatada pentru a face loc sistemului termoizolant | D7: ="m" | E7: 1.0 | F7: =E7 | G7: =$E$2*'Date cladire'!B67 | H7: =$E$2*'Date cladire'!D67
A8: ="5" | B8: ="RPGC11D1 [2]" | C8: Demontare si remontare post de reglare gaze naturale cu debit de 20 - 80mc/h, amplasat aparent pe zid in cutie tabla, pentru a face loc sistemului termoizolant | D8: ="buc" | E8: 1.0 | F8: =E8 | G8: ='Date cladire'!B68 | H8: ='Date cladire'!D68
A9: 6 | B9: W2E04A1# [1] | C9: Demontare-remontare tablou/contor electric si indepartarea de perete pentru a face loc sistemului termoizolant | D9: ="buc" | G9: 0
A10: 7 | B10: ="+RPIA02C [3]" | C10: Montare prelungitor chit de admisie aer-evacuare gaze arse pentru CT de apartament cu tiraj fortat - 5200113 Prelungitor coaxial universal admisie aer /evacuare gaze arse pentru centrale termice | D10: ="buc" | E10: 1.0 | F10: =E10 | G10: =ROUNDUP($E$2*0.3*'Date cladire'!B31,0) | H10: =ROUNDUP($E$2*0.3*'Date cladire'!D31,0)
A11: 8 | B11: ="+RPIA02E [2]" | C11: Montare cot pentru chit de admisie aer - evacuare gaze arse pentru CT de apartament cu tiraj fortat - 2601281 Cot 45 grd pentru chit evacuare gaze arse/admisie aer pentru CT de apartament | D11: ="buc" | E11: 1.0 | F11: =E11 | G11: =G10
A12: 9 | B12: ="TCC34A2 [1]" | C12: Asimilat - Antena de receptie TV montata pe zid - demontare | D12: ="buc" | E12: 1.0 | F12: =E12 | G12: ='Date cladire'!B69 | H12: ='Date cladire'!D69
A13: 10 | B13: ="TCC34A2 [2]" | C13: Asimilat - Antena de receptie TV montata pe zid - remontare | D13: ="buc" | E13: 1.0 | F13: =E13 | G13: =G12
A14: 11 | B14: ="+RPIA01B" | C14: Demontare unitate exterioara de aer conditionat | D14: ="buc" | E14: 1.0 | F14: =E14 | G14: ='Date cladire'!B70 | H14: ='Date cladire'!D70
A15: 12 | B15: ="+RPIA02B [1]" | C15: Montare unitate exterioara de aer conditionat si prelungirea traseului frigorific | D15: ="buc" | E15: 1.0 | F15: =E15 | G15: =G14
A16: 13 | B16: ="TCB06B2 [1]" | C16: Demontare unitate exterioara de apelare interfon | D16: ="buc" | E16: 1.0 | F16: =E16 | G16: ='Date cladire'!B71 | H16: ='Date cladire'!D71
A17: 14 | B17: ="ATA02B [2]" | C17: Montare suport pentru fixare unitate exterioara de interfon - 2455366 Suport pentru unitate exterioara de interfon | D17: ="buc" | E17: 1.0 | F17: =E17 | G17: =G16
A18: 15 | B18: ="TCB06B1 [1]" | C18: Montare unitate exterioara de apelare - interfon | D18: ="buc" | E18: 1.0 | F18: =E18 | G18: =G16
A19: 16 | B19: ="RPCXO06A [1]" | C19: Demontare sistem de inchidere automata a usilor de la intrare aferenta instalatiei de interfon (yala electromagnetica) | D19: ="buc" | E19: 1.0 | F19: =E19 | G19: =G16
A20: 17 | B20: ="RPCXO06A [2]" | C20: Montare sistem de inchidere automata a usilor de la intrare aferenta instalatiei de interfon (yala electromagnetica) | D20: ="buc" | E20: 1.0 | F20: =E20 | G20: =G16
A21: 18 | B21: RPCP05 [3] | C21: Demontarea confectiilor metalice orice tip, cu recuperarea materialelor si remontarea lor pe aceeasi pozitie ( scara metalica) | D21: kg | N21: scara metalica in exterior 40 kg la m
A22: 19 | B22: CL12XB | C22: Confectii metalice diverse:alte confectii aparente (scari exterioare de incendiu,etc.) 2601299 -Confectii metalice diverse din profile laminate, tabla, etc | D22: kg | N22: 10% din demontare
A23: 20 | B23: IZD07C [1] | C23: Grunduirea si vopsirea manuala a confectiilor metalice cu vopsele gata preparate, în urmatoarele variante un strat de grund si doua straturi de vopsea de ulei | D23: mp | N23: lungimea scarii (pe inaltime)

Sheet D_025
B1: ='Structura Investitie'!D34 | C1: ='Structura Investitie'!C34
D2: ='Date cladire'!A83 | E2: ='Date cladire'!B83
A3: ="NrCrt" | B3: ="Simbol" | C3: Denumire | D3: ="UM" | E3: ="Consum" | F3: ="Cantitate" | G3: ='Date cladire'!B2 | H3: ='Date cladire'!D2
A4: ="1" | B4: ="RPCT33A1 [3]" | C4: Demontarea usilor si ferestrelor din lemn - desfiintate de la bucatariile spatiilor individuale | D4: ="mp" | E4: 1.0 | F4: =E4 | G4: =$E$2*'Date cladire'!B64 | H4: =$E$2*'Date cladire'!D64
A5: ="2" | B5: ="RPCJ13C1" | C5: Reparatii de tencuieli interioare, în jurul tocurilor si pervazurile la usi si ferestre, de 2 cm grosime, driscuite, executate cu mortar de var-ciment marca 10-T, având spaletii...drepti între 25-35 cm latime | D5: ="m" | E5: 1.0 | F5: =E5 | G5: =$E$2*2*'Date cladire'!B65 | H5: =$E$2*2*'Date cladire'!D65
A6: ="3" | B6: ="RPCJ36A1 [3]" | C6: Glet de ipsos si plasa din fibra de sticla pe tencuieli interioare driscuite de 3 mm grosime executat la spaleti pt zugraveli lavabile - in urma desfiintarii tamplariei la bucatariile spatiilor individuale | D6: ="mp" | E6: 0.5 | F6: =E6 | G6: =G5*0.25
A7: ="4" | B7: ="CN01B+ [2]" | C7: Vopsitorii interioare cu vopsea lavabila aplicate manual Un strat amorsa (dilutie 1:4) si 2 straturi vopsea lavabila de interior, aplicate pe suprafete interioare noi, foarte absorbante - la bucatariile spatiilor individuale in urma desfiintarii tamplariei | D7: ="mp" | E7: 0.5 | F7: =E7 | G7: =G6
A8: ="5" | B8: ="IZF33B+ [4]" | C8: Montare profil metalic muchii interioare - la bucatariile spatiilor individuale in urma desfiintarii tamplariei | D8: ="ml" | E8: 1.0 | F8: =E8 | G8: =G5
A9: ="6" | B9: ="RPCT14C1 [1]" | C9: Desfacerea tencuielilor la fatade executate...in praf de piatra cu mortar de ciment, in vederea pregatiririi stratului suport pentru termoizolatii | D9: ="mp" | E9: 1.0 | F9: =E9 | G9: =$E$2*0.3*('Date cladire'!B55+'Date cladire'!B60*'Date cladire'!B56+'Date cladire'!B59-G10) | H9: =$E$2*0.3*('Date cladire'!D55+'Date cladire'!D60*'Date cladire'!D56+'Date cladire'!D59-G10) | O9: FORMULA SCHIMBATA | R9: FORMULA SCHIMBATA | S9: 1.05*0.3*('Date cladire'!B53+'Date cladire'!B58*'Date cladire'!B54)
A10: ="7" | B10: ="RPCT29B1 [4]" | C10: Desfacerea placajelor, din caramida aparenta sau similare in vederea aplicarii termoizolatiilor la pereti | D10: ="mp" | E10: 1.0 | F10: =E10 | G10: =$E$2*0
A11: ="8" | B11: ="CF06B1 [2]" | C11: Tencuieli exterioare obisnuite executate manual, pe ziduri din caramida, din blocuri mici de beton sau din blocuri de beton celular autoclavizat, cu mortar de var-ciment marca M50-T, in grosime medie de 2,5 cm in vederea pregatirii peretilor pentru termoizolatii; | D11: ="mp" | E11: 1.0 | F11: =E11 | G11: =G9+G10
A12: ="9" | B12: ="TRA06A10" | C12: Transportul rutier al betonului-mortarului cu autobetoniera de...5,5mc dist. =10km | D12: ="tona" | E12: 1.0 | F12: =E12 | G12: =(G11*0.025*2100)/1000
A13: ="10" | B13: ="RPCJ28C1 [1]" | C13: Reparatii de tencuieli exterioare driscuite, la tavane din beton armat, monolit sau prefabricat, executate cu mortar de ciment-var marca 100-T, pentru sprit si mortar de var-ciment marca 25-T pentru...stratul vizibil | D13: ="mp" | E13: 9.44 | F13: =E13 | G13: =$E$2*21.18 | O13: copertina de acces in bloc
A14: ="11" | B14: ="CF10C1[ 11 ]" | C14: Glet de ipsos aditivat, din produse uscate predozate, aplicat manual in 2 straturi pe tencuieli exterioare driscuite la tavane si pereti exteriori; | D14: ="mp" | E14: 9.44 | F14: =E14 | G14: =G13
A15: ="12" | B15: ="+CN01B" | C15: Vopsitorii exterioare cu vopsea lavabila aplicate manual, un strat amorsa (dilutie1:4) si 2 straturi vopsea lavabila de exterior aplicate pe suprafete absorbante la tavane - 2601243 Vopsea lavabila de exterior culoare alba - 2601244 Amorsa pentru zugraveli lavabile exterioare | D15: ="mp" | E15: 9.44 | F15: =E15 | G15: =G13
A16: ="13" | B16: ="RPCXI05A [5]" | C16: Demontare...jghiaburi burlane glafuri sorturi pazii etc. la aticul de la copertina acces casa scarii | D16: ="m" | E16: 1.0 | F16: =E16 | G16: =$E$2*0 | O16: aici e cand invelitoare la accesul de la casa scarii
A17: ="14" | B17: ="CE15C1 [1]" | C17: Glafuri si copertine din tabla zincata de 0,5 mm grosime cu latimea desfasurata între 15-30 cm, lungimea peste 2 m, pe un strat de carton bitumat la aticul copertinei de la acces casa scarii | D17: ="m" | E17: 1.0 | F17: =E17 | G17: =$E$2*0
A18: ="15" | B18: ="RPCE06 [1]" | C18: Desfacerea hidroizolatiilor lipite cu bitum la copertina de acces casa scarii | D18: ="mp" | E18: 1.0 | F18: =E18 | G18: =G13
A19: ="16" | B19: ="IZF67A+ [14]" | C19: Hidroizolatii la acoperis acces in casa scarii, suport planseu de beton, executate pe suprafete mici cu membrane hidroizolante in 2 straturi - 2500228 -Membrana bituminoasa pentru hidroizolatii termosudabila - 2001196 -Membrana bituminoasa termoadeziva protejata cu granule minerale 4,5kg/mp | D19: ="mp" | E19: 1.0 | F19: =E19 | G19: =G18
A20: ="17" | B20: ="CL21A1 [5]" | C20: Confectie metalica din teava rectangulara 70x50x3mm debitata si vopsita gata de montaj - ptr siguranta in exploatare | D20: ="m" | E20: 1.0 | F20: =E20 | G20: 0
A21: ="18" | B21: ="RCSL02B# [7]" | C21: Balustrada metalica cu montanti verticali la 10cm , H balustrada 90cm, finisata gata de montaj | D21: ="m" | E21: 1.0 | F21: =E21 | G21: 0
A22: ="19" | B22: ="H1B02A3 [1]" | C22: Curatarea suprafetelor de beton degradat prin frecare cu peria de sîrma, suflare cu aer comprimat si spalare cu jet de apa sub presiune; | D22: ="mp" | E22: 1.0 | F22: =E22 | G22: 50
A23: ="20" | B23: ="RPCJ28C1 [6]" | C23: Repararea zonelor cu beton degradat executate cu mortar de reprofilare cu contractii reduse | D23: ="mp" | E23: 1.0 | F23: =E23 | G23: 50
A24: ="21" | B24: ="IZA02XA [1]" | C24: Curatarea armaturilor corodate prin frecare cu peria de sirma | D24: ="mp" | E24: 1.0 | F24: =E24 | G24: 50
A25: ="22" | B25: ="IZA05A+ [1]" | C25: Tratatea anticoroziva a armaturilor cu solutii chimice agrementate | D25: ="mp" | E25: 1.0 | F25: =E25 | G25: 50
A26: ="23" | B26: ="RPCJ46C1 [4]" | C26: Tencuieli de protectie in zona armaturilor de otel/ fier beton cu mortar special, în cazul lucrarilor de reparatii ale structurilor degradate de beton armat | D26: ="m" | E26: 1.0 | F26: =E26 | G26: 100
A27: 24 | B27: ="RPCT26XC" | C27: Desfacerea invelitorilor din azbociment,eternit,materioal plastic colorat diferit,plane sau ondulate | D27: ="mp" | E27: 1.0 | F27: =E27 | O27: Sarpante false care se pastreaza
A28: 25 | B28: ="RPCXH13B" | C28: Desfacerea ...asterelei invelitorii din scindura sau pfl incl. sortare si stivuire materiale. | D28: ="mp" | E28: 1.0 | F28: =E28
A29: 26 | B29: ="RPCH08B1 [1]" | C29: Reparatii elemente de sarpanta deteriorate | D29: ="mp" | E29: 1.0 | F29: =E29
A30: 27 | B30: IZF35D+ [9] | C30: Sistem termoizolant realizat cu vata minerala bazaltica de 15 cm grosime (agrementat in Romania, cu o durabilitate garantata de min 10 ani), la acoperis sarpanta, intre capriori | D30: mp | E30: 1.1 | F30: =E30
A31: 28 | B31: CD20A+ [13] | C31: Placi presate plate din OSB, grosime 12mm utilizate pentru protectie vata minerala la termoizolarea acoperisului de la mansarda | D31: mp
A32: 29 | B32: CN54A+ [1] | C32: Ignifugare si protectie insecto-fungicida elementelor de constructii din lemn | D32: mp
A33: 30 | B33: RPCE07B+ [2] | C33: Strat de bariera contra vaporilor la plansee termoizolate cu vata minerala | D33: mp
A34: 31 | B34: ="CE18A1" | C34: Astereala la învelitori sau la doliile invelitorilor din tigla si azbociment scinduri din rasinoase | D34: ="mp" | E34: 1.0 | F34: =E34
A35: 32 | B35: ="CE20A1 [4]" | C35: Sipci din lemn montate la acoperisuri pentru sustinerea si fixarea invelitorilor din tigla metalica | D35: ="mp" | E35: 1.0 | F35: =E35
A36: 33 | B36: ="CE05A1 [1]" | C36: Invelitoare din tabla zincata profilata ondulata, fixata si tesute cu suruburi autofiletante - montare invelitoare din tigla metalica (tip lindab sau similar) - asim 2300106 - Tigla metalica 0,5 PE din otel galvanizat protejata in sistem multistrat pe ambele fete cu acoperire finala vopsea poliesterica (tip lindab sau similar) sistem complet inclusiv coame,dolii, opritori zapada etc | D36: ="mp" | E36: 1.0 | F36: =E36
A37: 34 | B37: ="IZF03A1 [2]" | C37: Folie anticondens montata sub invelitori | D37: ="mp" | E37: 1.0 | F37: =E37
A38: 35 | B38: CD18A% [10] | C38: Placare cu placi de gipscarton rezistente la foc pe structura metalica la acoperis mansarda | D38: ="mp" | E38: 1.0 | F38: =E38
A39: 36 | B39: CF10C1 [6] | C39: Glet de ipsos aditivat, din produse uscate predozate, aplicat manual in 1 strat pe suprafete de gipscarton la tavane | D39: ="mp" | E39: 1.0 | F39: =E39 | G39: 30% din gips carton
A40: 37 | B40: ="CN01B+ [7]" | C40: Vopsitorii interioare cu vopsea lavabila aplicate manual Un strat amorsa (dilutie 1:4) si 2 straturi vopsea lavabila de interior, aplicate pe suprafete interioare noi la spaleti | D40: ="mp" | E40: 1.0 | F40: =E40
A41: 38 | B41: CF06D1 | C41: Tencuieli exterioare obisnuite executate manual, driscuite, de pe platforma de lucru a cofrajelor glisante, cu mortar de var-ciment marca M25-T, în grosime medie de 1 cm ; | D41: mp
A42: 39 | B42: 2101198 | C42: Mortar pentru tencuiala M 25 - T | D42: mc
A43: 40 | B43: +CN02B | C43: Tencuieliexecutate cu tencuieli decorative la pereti exteriori si diverse elemente de constructie exterioare | D43: mp
A44: 41 | B44: RPCI42A# [10] | C44: Demontare cos de fum din tubulatura tabla diametru de 150-200mm is. | D44: m
A45: 42 | B45: CD11F% [2] | C45: Sistem de cos de fum din inox izolat d.int=200 mm montare + procurare | D45: m
A46: 43 | B46: 1805 | C46: Racord la cosul de fum d=125mm | D46: buc
A47: 44 | B47: IZJ12A1 [1] | C47: Desfacerea sistemelor termoizolante realizate cu polistiren sau vata minerala de la pereti, spaleti, socluri, intrados balcoane | D47: mp
A48: 45 | B48: RPCT39A1 [9] | C48: Demontarea diverselor elemente din prefabricate de beton - trafoare | D48: mp
A49: 46 | B49: RPCT39A1 [5] | C49: Demontarea jardinierelor prefabricate din beton de la balcoane, logii, ferestre, manipularea acestora pe verticala si depozitare loco santier | D49: kg | G49: 0 | Q49: daca se propun a se demonta, se calculeaza cate kg are aproximativ 1 m iar apoi * lungimea necesara a se demonta (100 * Lungimea)
A50: 49 | B50: RPCT39A1 [2] | C50: Demontarea parapetilor din prefabricate de beton de la balcoane, logii, manipularea acestora pe verticala si depozitare loco santier | D50: kg
A51: 50 | B51: CL20A1 | C51: CL20A1 [7] - Confectii metalice diverse din profile metalice pentru sustineri si consolidari | D51: kg
A52: 37 | B52: TRA02A10 | C52: Transportul rutier al materialelor,semifabricatelor cu autocamionul pe dist.= ...10 km. | D52: tona | E52: 1.0 | F52: =E52 | G52: =(G5*0.25*15+G6*3+G7*0.5+G13*15+G14*3+G15*0.5+G16*5+G17*5+G19*8+G20*5.2+G21*40+G23*15+G29*30+G30*6+G31*7.68+G34*0.024*800+G35*1+G36*6+G38*10.51+G40*0.5+G41*15+G43*3+G51)/1000 | N52: atentie la cantitate, o vf de control o cantitate f mare e gresita
A53: 38 | B53: TRI1AC13E1 | C53: Descarcare...materiale gr.c-ambalate,10-50 kg deplas.prin purtare pina la 10m,asez..auto-rampa,teren ctg | D53: tona | E53: 1.0 | F53: =E53 | G53: =G52
A54: 39 | B54: TRB05A22 | C54: Transportul materialelor prin purtat direct.materiale...incomode sub 25 kg distanta 20m | D54: tona | E54: 1.0 | F54: =E54 | G54: =G52
A55: ="18" | B55: ="TRB01C12" | C55: Transportul...materialelor cu roaba pe pneuri inc aruncare desc rasturnare grup1-3 distanta 20m | D55: ="tona" | E55: 1.0 | F55: =E55 | G55: =(G4*30+G9*0.025*1800+G10*0.025*1800+G18*20+G22*10+G27*16+G28*0.024*800+G47*15+G48*100+G49+G50)/1000
A56: 47 | B56: ="TRI1AA01C3" | C56: Incarcarea materialelor, grupa a-grele si...marunte,prin aruncare rampa sau teren-auto categ.3 | D56: ="tona" | E56: 1.0 | F56: =E56 | G56: =G55 | Q56: calcul pt jardinere
A57: 48 | B57: ="TRA01A10P" | C57: Transportul rutier al...pamantului sau molozului cu autobasculanta dist.=10 km | D57: ="tona" | E57: 1.0 | F57: =E57 | G57: =G55 | Q57: 0.2 | R57: aprox 100 kg
Q58: 0.2
Q59: 0.25
Q60: 0.08
Q61: =(Q57+Q58+Q59)*Q60*2000

Sheet D_026
B1: ='Structura Investitie'!D35 | C1: ='Structura Investitie'!C35
D2: ='Date cladire'!A83 | E2: ='Date cladire'!B83
A3: ="NrCrt" | B3: ="Simbol" | C3: Denumire | D3: ="UM" | E3: ="Consum" | F3: ="Cantitate" | G3: ='Date cladire'!B2 | H3: ='Date cladire'!D2 | N3: La finisaje interioare integral in casa scarii prindem doar lavabil pe toata suprafata, in rest tencuiala, glet si restul articolelor de reparatii le prindem in procentaj de 10-30% in functie de cat de deteriorat e casa de scara.
A4: ="1" | B4: ="RPCJ13B1" | C4: Reparatii de tencuieli interioare, în jurul tocurilor si pervazurile la usi si ferestre, de 2 cm grosime, driscuite, executate cu mortar de var-ciment marca 10-T, având spaletii...drepti între 15-25 cm latime | D4: ="m" | E4: 1.0 | F4: =E4 | G4: =$E$2*('Date cladire'!B37+'Date cladire'!B73) | H4: =$E$2*('Date cladire'!D37+'Date cladire'!D73)
A5: ="2" | B5: ="RPCJ36A1 [5]" | C5: Glet de ipsos si plasa din fibra de sticla pe tencuieli interioare driscuite de 3 mm grosime executat la spaleti pt zugraveli lavabile | D5: ="mp" | E5: 1.0 | F5: =E5 | G5: =G4*0.25
A6: ="3" | B6: ="CN01B+ [7]" | C6: Vopsitorii interioare cu vopsea lavabila aplicate manual Un strat amorsa (dilutie 1:4) si 2 straturi vopsea lavabila de interior, aplicate pe suprafete interioare noi la spaleti - 2600055 Vopsea lavabila de interior alba -kg - 2101353 Amorsa ptr. zugraveli lavabile interioare -kg | D6: ="mp" | E6: 1.0 | F6: =E6 | G6: =G5
A7: ="4" | B7: ="IZF33B+ [1]" | C7: Montare profil metalic pentru protectia muchiilor interioare la spaleti | D7: ="m" | E7: 1.0 | F7: =E7 | G7: =G4
A8: ="5" | B8: ="RPCT10A1 [1]" | C8: Desfacerea, razuirea stratului de glet la pereti, pe suprafete care urmeaza a se gletui | D8: ="mp" | E8: 1.0 | F8: =E8 | G8: =$E$2*0.3*((75.34+5*29.93)) | N8: seprind cantitati doar daca se finiseaza integral casa scarii | O8: peretii e pe casa scarii
A9: ="6" | B9: ="RPCT11A1 [2]" | C9: Desfacerea, razuirea stratului de glet la tavane, pe suprafete care urmeaza a se gletui | D9: ="mp" | E9: 1.0 | F9: =E9 | G9: =$E$2*0.3*((27.52+5*14.56)) | O9: tavanul de pe casa scarii
A10: ="7" | B10: ="RPCJ09B1" | C10: Reparatii la tencuieli interioare de 2 cm grosime, driscuite, executate la pereti sau stâlpi pe...zidarie de caramida sau blocuri mici de beton, cu mortar de var-ciment marca 100-T, pentru grund si stratul vizibil, | D10: ="mp" | E10: 1.0 | F10: =E10 | G10: =G8*0.3
A11: ="8" | B11: ="RPCJ28A1" | C11: Reparatii de tencuieli interioare driscuite, la tavane din beton armat, monolit sau prefabricat, executate cu mortar de ciment-var marca 100-T, pentru sprit si mortar de var-ciment marca 25-T pentru...grund si stratul vizibil | D11: ="mp" | E11: 1.0 | F11: =E11 | G11: =G9*0.3
A12: ="9" | B12: ="CF10C1[ 12 ]" | C12: Glet de ipsos aditivat, din produse uscate predozate, aplicat manual in 2 straturi pe tencuieli interioare driscuite la pereti interiori; | D12: ="mp" | E12: 1.0 | F12: =E12 | G12: =G8
A13: ="10" | B13: ="CF10C1 [4]" | C13: Glet de ipsos aditivat, din produse uscate predozate, aplicat manual in 2 straturi pe tencuieli interioare driscuite la tavane; | D13: ="mp" | E13: 1.0 | F13: =E13 | G13: =G9
A14: ="11" | B14: ="CN01B+[ 1 ]" | C14: Vopsitorii interioare cu vopsea lavabila aplicate manualUn strat amorsa (dilutie 1:4) si un 2 straturi vopsea lavabila de interior , aplicate pe suprafete interioare noi, foarte absorbante; - 2600055 Vopsea lavabila de interior alba -kg - 2101353 Amorsa ptr. zugraveli lavabile interioare -kg | D14: ="mp" | E14: 1.0 | F14: =E14 | G14: =SUM(G8:G9)
A15: ="12" | B15: ="CB16XA" | C15: Schela pentru lucrari interioare de finisaje in incaperi pina la 5 m inaltime | D15: ="mp" | E15: 1.0 | F15: =E15 | G15: 0 | O15: et4
A16: ="13" | B16: ="CN11A1" | C16: Vopsitorii la balustrade, grile si parapete metalice vopsele de ulei | D16: ="mp" | E16: 1.0 | F16: =E16 | G16: =$E$2*0.9*6.2*5
A17: ="14" | B17: ="CN04D1" | C17: Vopsitorii la interior si exterior, la pereti si tavane, executate manual, cu vopsea de ulei 2), pe tencuieli gletuite cu ipsos, aplicate la pereti si tavane, în doua straturi; | D17: ="mp" | E17: 1.0 | F17: =E17 | G17: =$E$2*0.2*2*(4.6+3.2)*5+0.2*2*(8.6+3.2) | O17: banda de culoare de la casa scarii scari h apro 0,2
A18: ="15" | B18: ="IZA02XA" | C18: Curatarea prin metode manuale a supraf.de beton si metal prin frecare cu peria de sirma | D18: ="mp" | E18: 1.0 | F18: =E18 | G18: =G16
A19: ="16" | B19: ="IZD07C [1]" | C19: Grunduirea si vopsirea manuala a confectiilor metalice cu vopsele gata preparate, în urmatoarele variante un strat de grund si doua straturi de vopsea de ulei | D19: ="mp" | E19: 1.0 | F19: =E19 | G19: =G16
A20: ="17" | B20: ="RPCK64B1 [1]" | C20: Curatare pardoselilor si a scarilor interioare in urma lucrarilor de finisare a peretilor si tavanelor | D20: ="mp" | E20: 1.0 | F20: =E20 | G20: =G13/0.3
A21: ="18" | B21: ="TRB01C12" | C21: Transportul...materialelor cu roaba pe pneuri inc aruncare desc rasturnare grup1-3 distanta 20m | D21: ="tona" | E21: 1.0 | F21: =E21 | G21: =(G8*3+G9*3)/1000
A22: ="19" | B22: ="TRI1AA01C3" | C22: Incarcarea materialelor, grupa a-grele si...marunte,prin aruncare rampa sau teren-auto categ.3 | D22: ="tona" | E22: 1.0 | F22: =E22 | G22: =G21
A23: ="20" | B23: ="TRA01A10P" | C23: Transportul rutier al...pamantului sau molozului cu autobasculanta dist.=10 km | D23: ="tona" | E23: 1.0 | F23: =E23 | G23: =G21
A24: ="21" | B24: ="TRA02A10" | C24: Transportul rutier al materialelor,semifabricatelor cu autocamionul pe dist.= ...10 km. | D24: ="tona" | E24: 1.0 | F24: =E24 | G24: =(G4*0.25*15+G5*3+G6*0.5+G7*1+G10*12+G11*12+G12*3+G13*3+G14*0.5+G16*0.12+G17*0.25+G19*0.4)/1000
A25: ="22" | B25: ="TRI1AC13E1" | C25: Descarcare...materiale gr.c-ambalate,10-50 kg deplas.prin purtare pina la 10m, asez..auto-rampa,teren ctg | D25: ="tona" | E25: 1.0 | F25: =E25 | G25: =G24

Sheet D_027
B1: ='Structura Investitie'!D36 | C1: ='Structura Investitie'!C36
D2: ='Date cladire'!A83 | E2: ='Date cladire'!B83
A3: ="NrCrt" | B3: ="Simbol" | C3: Denumire | D3: ="UM" | E3: ="Consum" | F3: ="Cantitate" | G3: ='Date cladire'!B2 | H3: ='Date cladire'!D2
A4: ="1" | B4: ="RPCJ13B1" | C4: Reparatii de tencuieli interioare, în jurul tocurilor si pervazurile la usi si ferestre, de 2 cm grosime, driscuite, executate cu mortar de var-ciment marca 10-T, având spaletii...drepti între 15-25 cm latime | D4: ="m" | E4: 1.0 | F4: =E4 | G4: =$E$2*'Date cladire'!B44 | H4: =$E$2*'Date cladire'!D44
A5: ="2" | B5: ="RPCJ36A1 [5]" | C5: Glet de ipsos si plasa din fibra de sticla pe tencuieli interioare driscuite de 3 mm grosime executat la spaleti pt zugraveli lavabile | D5: ="mp" | E5: 1.0 | F5: =E5 | G5: =G4*0.25
A6: ="3" | B6: ="CN01B+ [7]" | C6: Vopsitorii interioare cu vopsea lavabila aplicate manual Un strat amorsa (dilutie 1:4) si 2 straturi vopsea lavabila de interior, aplicate pe suprafete interioare noi la spaleti - 2600055 -Vopsea lavabila de interior alba - 2101353 - Amorsa ptr. zugraveli lavabile interioare | D6: ="mp" | E6: 1.0 | F6: =E6 | G6: =G5
A7: ="4" | B7: ="IZF33B+ [1]" | C7: Montare profil metalic pentru protectia muchiilor interioare la spaleti | D7: ="m" | E7: 1.0 | F7: =E7 | G7: =G4
A8: 5 | B8: ="TRA02A10" | C8: Transportul rutier al materialelor,semifabricatelor cu autocamionul pe dist.= ...10 km. | D8: ="tona" | E8: 1.0 | F8: =E8 | G8: =(G4*0.25*15+G5*3+G6*0.5+G7*1)/1000
A9: 6 | B9: ="TRI1AC13E1" | C9: Descarcare...materiale gr.c-ambalate,10-50 kg deplas.prin purtare pina la 10m, asez..auto-rampa,teren ctg | D9: ="tona" | E9: 1.0 | F9: =E9 | G9: =G8

Sheet D_028
B1: ='Structura Investitie'!D37 | C1: ='Structura Investitie'!C37
D2: ='Date cladire'!A83 | E2: ='Date cladire'!B83
A3: ="NrCrt" | B3: ="Simbol" | C3: Denumire | D3: ="UM" | E3: ="Consum" | F3: ="Cantitate" | G3: ='Date cladire'!B2 | H3: ='Date cladire'!D2
A4: ="1" | B4: ="RPCJ13B1" | C4: Reparatii de tencuieli interioare, în jurul tocurilor si pervazurile la usi si ferestre, de 2 cm grosime, driscuite, executate cu mortar de var-ciment marca 10-T, având spaletii...drepti între 15-25 cm latime | D4: ="m" | E4: 1.0 | F4: =E4 | G4: =$E$2*'Date cladire'!B47 | H4: =$E$2*'Date cladire'!D47
A5: ="2" | B5: ="RPCJ36A1 [5]" | C5: Glet de ipsos si plasa din fibra de sticla pe tencuieli interioare driscuite de 3 mm grosime executat la spaleti pt zugraveli lavabile | D5: ="mp" | E5: 1.0 | F5: =E5 | G5: =G4*0.25
A6: ="3" | B6: ="CN01B+ [7]" | C6: Vopsitorii interioare cu vopsea lavabila aplicate manual Un strat amorsa (dilutie 1:4) si 2 straturi vopsea lavabila de interior, aplicate pe suprafete interioare noi la spaleti - 2600055 -Vopsea lavabila de interior alba - 2101353 - Amorsa ptr. zugraveli lavabile interioare | D6: ="mp" | E6: 1.0 | F6: =E6 | G6: =G5
A7: ="4" | B7: ="IZF33B+ [1]" | C7: Montare profil metalic pentru protectia muchiilor interioare la spaleti | D7: ="m" | E7: 1.0 | F7: =E7 | G7: =G4

Sheet D_029
B1: ='Structura Investitie'!D38 | C1: ='Structura Investitie'!C38 | E1: paratrasnet(pt 1 buc /bl) | F1: 1 | I1: 1-da | J1: cu fundal gri trecut materialul - nu completam (se va calcula automat in programul de devize)
C2: se refera la 1 buc de paratrasnet cu raza de acoperire de aprx 60 m | D2: procent: | E2: ='Date cladire'!B83 | I2: 0-nu
A3: ="NrCrt" | B3: ="Simbol" | C3: Denumire | D3: ="UM" | E3: ="Consum" | F3: Exemplu | I3: Observatii
A4: ="1" | B4: ="RPEH04" | C4: ="Demontarea instalatiei de paratrasnet" | D4: ="m" | E4: 1 | F4: =$E$2*F1*('Date cladire'!B16*2+'Date cladire'!B6) | I4: = inaltimea blocului x 2+ perimetru bloc
A5: ="2" | B5: ="EG14A# [2]" | C5: ="Montare piese si elemente diverse ale instalatiei de paratrasnet" | D5: ="buc" | E5: 1 | F5: =F1 | I5: 1 buc / paratrasnet
A6: ="3" | B6: ="2308352" | C6: ="Piesa de adaptare paratrasnet PDA la catarg din bronz Fi = 50mm" | D6: ="buc" | E6: 1 | F6: =F1 | I6: 1 buc / paratrasnet
A7: ="4" | B7: ="EG14A# [2]" | C7: ="Montare piese si elemente diverse ale instalatiei de paratrasnet" | D7: ="buc" | E7: 1 | F7: =F1 | I7: 1 buc / paratrasnet
A8: ="5" | B8: ="2600805" | C8: ="Adaptor din otel inoxidabil, cu 2 coborari pentru catarg Ø50" | D8: ="buc" | E8: 1 | F8: =F1 | I8: 1 buc / paratrasnet
A9: ="6" | B9: ="EG14A# [2]" | C9: ="Montare piese si elemente diverse ale instalatiei de paratrasnet" | D9: ="buc" | E9: 1 | F9: =F1 | I9: 1 buc / paratrasnet
A10: ="7" | B10: ="4113552" | C10: ="Colier de strangere fixare cond. pe catarg " | D10: ="buc" | E10: 1 | F10: =F1 | I10: 1 buc / paratrasnet
A11: ="8" | B11: ="EG14A% [3]" | C11: ="Con protectie patrundere apa la instalatia de paratrasnet - montare" | D11: ="buc" | E11: 1 | F11: =F1 | I11: 1 buc / paratrasnet
A12: ="9" | B12: ="2600806" | C12: ="Con protectie patrundere apa la instalatia de paratrasnet" | D12: ="buc" | E12: 1 | F12: =F1 | I12: 1 buc / paratrasnet
A13: ="10" | B13: ="EG06B# [3]" | C13: ="Conductor de coborare din aluminiu...masiv cu imbinare cu cleme montat pe acoperis sau perete" | D13: ="m" | E13: 1 | F13: =$E$2*F1*(('Date cladire'!B16+'Date cladire'!B14)*2+0+4*2) | I13: inaltimea cladirii x2+latimea cladiri+4*2 (de modificat latimea cladirii in cazuri atipice)
A14: ="10.L" | B14: =" 800016L" | C14: ="Suport conductor coborare" | D14: ="buc" | E14: 0.8
A15: ="10.L" | B15: =" 3809739" | C15: ="Conductor coborare din aluminiu diametru 10 mm pentru paratrasnet" | D15: ="m" | E15: 1.05
A16: ="11" | B16: ="EG10A1" | C16: ="Cutie cu eclisa de legatura, pentru centura de împamîntare" | D16: ="buc" | E16: 1 | F16: =2*F1 | I16: 2 buc
A17: 13 | B17: EG10A1 [1] | C17: Bara de egalizare potential | F17: =2*F1 | I17: cate una pe fiecare coborare
A18: 14 | B18: ="W2E07A1 [2]" | C18: ="Montare contor lovituri de trasnet." | D18: ="buc" | E18: 1 | F18: =F1 | I18: 1 buc / paratrasnet
A19: 15 | B19: ="4625570" | C19: ="Contor lovituri de trasnet" | D19: ="buc" | E19: 1 | F19: =F1 | I19: 1 buc / paratrasnet
A20: 16 | B20: ="EG08C1" | C20: ="Conducta de legare la pamînt, a instalatiei de paratrasnet sau a instalatiei de protectie prin legarea la pamânt, montata în pamânt, inclusiv saparea si umplerea santului, conducta fiind din banda de otel zincata, de 40x4 mm, montata în teren foarte" | D20: ="m" | E20: 1 | F20: =5*2*F1 | I20: 5 m pe coborare x2 = 10m
A21: 17 | B21: ="EG14A# [5]" | C21: ="Montare piese si elemente diverse ale instalatiei de priza de pamant" | D21: ="buc" | E21: 1 | F21: =2*F1 | I21: 2 buc
A22: 18 | B22: ="2308357" | C22: ="Piesa de legatura platbanda la priza de pamant " | D22: ="buc" | E22: 1 | F22: =2*F1 | I22: 2 buc
A23: 19 | B23: ="EG11A1 [1]" | C23: ="Montare racord in T rezistent la coroziune in sol la instalatia de paratrasnet" | D23: ="buc" | E23: 1 | F23: =2*F1 | I23: 2 buc
A24: 20 | B24: ="3330849" | C24: ="Racord in T rezistent la coroziune montat in sol" | D24: ="buc" | E24: 1 | F24: =2*F1 | I24: 2 buc
A25: 21 | B25: ="CN30A#" | C25: ="Vopsitorii cu vopsea miniu pb pe baza de...ulei,executate manual, la pozitie, 1 strat, pe suprafata tabla, plane / curbe ( cuve, recipiente )" | D25: ="mp" | E25: 4 | F25: =2*2*F1 | I25: 2mp pe coborare x2 =4mp
A26: 22 | B26: ="W1R06A3 [2]" | C26: ="Electrod din teava de otel de doi toli zincata pentru legarea la pamant in teren...foarte tare " | D26: ="m" | E26: 4 | F26: =2*2*F1 | I26: 2m pe coborare x2 =4
A27: 23 | B27: ="ACB08XB [5]" | C27: ="Imbinare prin sudura electrica a pieselor din ol la capatul tevilor diam : 2" | D27: ="buc" | E27: 2 | F27: =1*2*F1 | I27: 1buc pe coborare x 2 =2 buc
A28: ="23.L" | B28: =" 7358158" | C28: ="Virf pentru batut electrod de impamantare de adancime" | D28: ="buc" | E28: 1
A29: 24 | B29: ="CL21A1" | C29: ="Confectii metalice diverse înglobate total sau partial in beton din profile laminate, tabla, tabla striata, otel beton, tevi pentru sustineri sau acoperiri" | D29: ="kg" | E29: 20 | F29: =20*F1 | I29: 20 kg
A30: ="25.L" | B30: =" 2601294" | C30: ="Confectii metalice diverse" | D30: ="kg" | E30: 1
A31: 26 | B31: ="W1P07A [1]" | C31: ="Verificarea instalatiei de paratrasnet" | D31: ="buc" | E31: 2 | F31: =1*2*F1 | I31: 1buc pe coborare x 2 =2 buc
A32: 27 | B32: ="W1P08A" | C32: ="Verificarea prizelor de pamant pentru lucrari de instalatii electrice la...constructii" | D32: ="buc" | E32: 2 | F32: =1*2*F1 | I32: 1buc pe coborare x 2 =2 buc
A33: 28 | B33: ="W1R12A [1]" | C33: ="Bentopriza pentru imbunatatirea instalatiei...de legare la pamant" | D33: ="kg" | E33: 1 | F33: =5*2*F1 | I33: 5 kg pe coborare x 2 = 10 kg
A34: 29 | B34: ="DC04B1 [1]" | C34: ="Taierea cu masina cu discuri diamantate a betonului sau asfaltului ptr lucrari de instalatii" | D34: ="m" | E34: 12 | F34: =2*3*2*F1 | I34: 2x3m pe coborare x 2 = 12 m
A35: 30 | B35: ="DG05A1" | C35: ="Decaparea de imbracaminti cu stratul pana la 3 cm grosime, formate din : covoare asfaltice permanente,betoane asfaltice " | D35: ="mp" | E35: 6 | F35: =3*1*2*F1 | I35: 3mx1m*2buc = 6m
A36: 31 | B36: ="DA06A1" | C36: ="Strat de agregate naturale cilindrate (balast), avand functia de rezidenta filtranta, izolatoare, antigeliva si anticapilara, cu asternere manuala;" | D36: ="mc" | E36: =E35*0.15 | F36: =F35*0.15 | I36: grosime 15cm
A37: 32 | B37: ="DB20C1" | C37: ="Asfalt turnat pe partea carosabila, in grosime de : 5 cm cu asternare manuala" | D37: ="mp" | E37: =E35 | F37: =3*1*2*F1 | I37: =I35
A38: ="33.L" | B38: =" 20018326" | C38: ="Mixtura asfaltica BA16" | D38: ="tona" | E38: 0.12
A39: 34 | B39: ="TRI1AA02C3" | C39: ="Incarcarea materialelor, grupa...a-grele in bulgari,prin aruncare rampa sau teren-auto categ.3 " | D39: ="tona" | E39: =E35*0.25*1.5 | F39: =F35*0.25*1.5*F1
A40: 35 | B40: ="TRA01A10P" | C40: ="Transportul rutier al...pamantului sau molozului cu autobasculanta dist.=10 km" | D40: ="tona" | E40: =E39 | F40: =F39*F1
A41: 36 | B41: ="TRA01A30" | C41: ="Transportul rutier al...materialelor,semifabricatelor cu autobasculanta pe dist.= 30 km. " | D41: ="tona" | E41: =E36*1.6 | F41: =F36*1.6*F1
A42: 37 | B42: ="TRA02A10" | C42: ="Transportul rutier al materialelor,semifabricatelor cu autocamionul pe dist.= ...10 km. " | D42: ="tona" | E42: 0.5 | F42: =0.5*F1
A43: 38 | B43: ="TRI1AC13E1" | C43: ="Descarcare...materiale gr.c-ambalate,10-50 kg deplas.prin purtare pina la 10m,asez..auto-rampa,teren ctg" | D43: ="tona" | E43: 0.5 | F43: =F42

Sheet D_030
B1: ='Structura Investitie'!D39 | C1: ='Structura Investitie'!C39
A3: ="NrCrt" | B3: ="Simbol" | C3: Denumire | D3: ="UM" | E3: ="Consum" | F3: ="Cantitate"
A4: 1 | B4: ="EG11E1 [1]" | C4: Montare paratrasnet tip PDA | D4: ="buc" | E4: 1.0 | F4: =E4
A5: 2 | B5: ="EG01C1 [2]" | C5: Tija de captare, pentru instalatii de paratrasnete, h= 4m | D5: ="buc" | E5: 1.0 | F5: =E5
A6: 3 | B6: EG14A% [6] | C6: Sistem de fixare pentru tija de captare paratrasnet - montare | D6: buc
A7: 4 | B7: ="0001808" | C7: Sistem de fixare pentru tija captare paratrasnet | D7: buc

Sheet D_031
B1: ='Structura Investitie'!D41 | C1: ='Structura Investitie'!C41
A3: ="NrCrt" | B3: ="Simbol" | C3: Denumire | D3: ="UM" | E3: ="Consum" | F3: ="Cantitate"
A4: 1 | B4: ="RPCXS03A" | C4: Imprejmuire din...cherestea rasinoase cu bulumaci lemn foioase | D4: ="m" | E4: 40.0 | F4: =E4
A5: 2 | B5: ="RPCXS05B" | C5: Desfaceri ...imprejmuire din lemn plasa sau combinate | D5: ="m" | E5: 40.0 | F5: =E5
A6: 3 | B6: ="RPCH27A1" | C6: Scheletul magaziilor si baracamentelor din lemn executat din lemn...de rasinoase, ecarisat | D6: ="mc" | E6: 2.5 | F6: =E6
A7: 4 | B7: ="RPCH28A1" | C7: Captuseli la pereti din lemn executate cu scânduri de rasinoase de 24 mm grosime...brute, batute caplama | D7: ="mp" | E7: 48.0 | F7: =E7
A8: 5 | B8: ="RPCH01C1" | C8: Sarpanta din lemn de ratinoase, rezemate direct pe ziduri, compusa din capriori si pane pentru învelitori de carton sau de tabla, cu una sau doua pante, din lemn...rotund la constructii provizorii | D8: ="mp" | E8: 20.0 | F8: =E8
A9: 6 | B9: ="RPCXI02B[ 1 ]" | C9: Invelitoare din placi ondoline pe ferme din lemn incl. dolii pazii sort racord cos | D9: ="mp" | E9: 23.0 | F9: =E9
A10: 7 | B10: ="RPCH31A1" | C10: Usi dulgheresti din lemn de rasinoase pentru completari în subsolurile cladirilor existente, inclusiv fieraria pentru fixare si închidere, din scânduri brute de 24 mm grosime, batute alaturat pe cadru de rigle de 38x58 mm, inclusiv tocul...din dulapi de 38 mm grosime si circa 12 cm latime | D10: ="mp" | E10: 3.0 | F10: =E10
A11: 8 | B11: ="+RPCA03A" | C11: Platforma din lemn pentru depozitare materiale in santier | D11: ="mp" | E11: 11.0 | F11: =E11
A12: 9 | B12: ="RPCT26C1" | C12: Desfacerea învelitorilor din...azbociment, eternit, material plastic colorat diferit, plane sau ondulate, asezate pe sipci batute pe astereala sau direct pe capriori, inclusiv desfacerea sipcilor, doliilor, paziilor, sorturilor si racordarilor din tabla zincata | D12: ="mp" | E12: 23.0 | F12: =E12
A13: 10 | B13: ="RPCXH13A" | C13: Desfacerea ...sarpantei acoperis cu toate elementele incl. sortarea si stivuirea materialelor. | D13: ="mp" | E13: 20.0 | F13: =E13
A14: 11 | B14: ="RPCT02E1[ 1 ]" | C14: Demolarea peretilor despartitori executati din materiale usoare, scandura rasinoase la constructii provizorii | D14: ="mp" | E14: 51.0 | F14: =E14
A15: 12 | B15: ="+SA02A1" | C15: Montare cabina wc monobloc ecologica pentru organizare de santier | D15: ="buc" | E15: 1.0 | F15: =E15
A16: 13 | B16: ="+SA03A1" | C16: Demontare cabina wc monobloc ecologica pentru organizare de santier | D16: ="buc" | E16: 1.0 | F16: =E16
A17: 14 | B17: ="+RPCA04A1 [3]" | C17: Panou pentru identificarea investitiei. | D17: ="buc" | E17: 1.0 | F17: =E17
A18: 15 | B18: ="+RPCA02A1" | C18: Demontarea panoului de indentificare a investitiei | D18: ="buc" | E18: 1.0 | F18: =E18
A19: 16 | B19: ="EF02A1 [1]" | C19: Asimilat - Montare si racordare tablou electric de organizare de santier | D19: ="buc" | E19: 1.0 | F19: =E19
A20: 17 | B20: ="RPEG19C1 [1]" | C20: Asimilat - Demontare tablou electric pentru organizare de santier | D20: ="buc" | E20: 1.0 | F20: =E20
A21: 18 | B21: ="RPAA10B1 [1]" | C21: Demontare contor apa D=30mm la organizare de santier | D21: ="buc" | E21: 1.0 | F21: =E21
A22: 19 | B22: ="ACE12C1 [8]" | C22: Montare contor de apa cu palete avand d 30 mm pentru organizare de santier | D22: ="buc" | E22: 1.0 | F22: =E22
A23: 20 | B23: ="TRI1AA01F1" | C23: Incarcarea materialelor, grupa a-grele si...marunte,prin tran.pina la 10m rampa sau teren-auto cate | D23: ="tona" | E23: 5.0 | F23: =E23
A24: 21 | B24: ="TRA02A10" | C24: Transportul rutier al materialelor,semifabricatelor cu autocamionul pe dist.= ...10 km. | D24: ="tona" | E24: 5.0 | F24: =E24

Sheet Antemasuratoare_BIM
A1: BUILDCODE STUDIO — ANTEMĂSURĂTOARE AUTOMATĂ DIN MODELUL CANONIC BIM & MOTORUL DE CANTITĂȚI AUTOMATE (R02..R89)
A3: Nivel | B3: Cotă Z nivel (m) | C3: Cotă Z podest (m) | D3: H liber (m) | E3: Perimetru ext. (m) | F3: Arie construită (mp) | G3: Arie utilă (mp) | H3: Arie netă pereți (mp)
A4: Subsol Tehnic | B4: -2.5 | C4: — | D4: 2.35 | E4: 88.62 | F4: 350.84 | G4: 283.35 | H4: 252.33
A5: Parter | B5: 0 | C5: 0.3 | D5: 2.83 | E5: 88.62 | F5: 350.84 | G5: 272.14 | H5: 252.33
A6: Etaj 1 | B6: 2.98 | C6: 3.11 | D6: 2.63 | E6: 88.62 | F6: 350.84 | G6: 283.96 | H6: 252.33
A7: Etaj 2 | B7: 5.76 | C7: 5.9 | D7: 2.66 | E7: 88.62 | F7: 350.84 | G7: 283.96 | H7: 252.33
A8: Etaj 3 | B8: 8.57 | C8: 8.72 | D8: 2.56 | E8: 88.62 | F8: 350.84 | G8: 283.96 | H8: 252.33
A9: Etaj 4 | B9: 11.28 | C9: 11.54 | D9: 2.87 | E9: 88.62 | F9: 350.84 | G9: 283.96 | H9: 252.33
A10: TOTAL CLĂDIRE | B10: — | C10: — | D10: 2.65 | E10: 88.62 | F10: 1754.2 | G10: 1691.33 | H10: 1261.67
A12: Cod | B12: Categorie element / articol antemăsurătoare | C12: U.M. | D12: Cantitate | E12: Formulă / trasabilitate BIM
A13: ARH-FAT-01 | B13: Termosistem fațadă opacă vată minerală bazaltică d=15 cm (clasa A1) | C13: m² | D13: 1261.67 | E13: A_brut(1578.32) - A_tâmplărie_ext(316.65)
A14: ARH-TAM-01 | B14: Tâmplărie exterioară PVC/Al cu geam tripan Low-E (inclusiv uși balcon U3) | C14: m² | D14: 316.65 | E14: A_ferestre_ext(211.41) + A_uși_ext_balcon(105.24) [136 goluri ext., 38 uși ext.]
A15: ARH-SOC-01 | B15: Termoizolație soclu polistiren extrudat ignifugat XPS d=10 cm | C15: m² | D15: 79.76 | E15: P_ext_poligonal(88.62) × 0.90 m
A16: ARH-TER-01 | B16: Termoizolație planșeu superior / terasă d=25 cm | C16: m² | D16: 322.77 | E16: A_termo_planșeu_superior(322.77 m²)

Sheet Sumar_Fatade_BIM
A1: SUMAR CANTITĂȚI FAȚADE & TERMOSISTEM — BUILDCODE STUDIO
A3: Fațadă | B3: Sup. Totală (m²) | C3: Tâmplărie (m²) | D3: Termosistem (m²) | E3: Soclu exclus (m²) | F3: Glaf exterior (m) | G3: Glaf interior (m) | H3: Picurător ferestre (m) | I3: Colțare ferestre (m) | J3: Picurător uși (m) | K3: Colțare uși (m) | L3: Colțar exterior (m) | M3: Picurător soclu (m) | N3: Perimetru ferestre (m) | O3: Perimetru uși (m)

Sheet Lista Cantitati
A1: LISTA CANTITĂȚI TERMOIZOLARE — BUILDCODE STUDIO
A2: Generat automat: | B2: 28.10.2026 11:24
A3: Descriere element / categorie | B3: Suprafață (mp) | C3: Lungime (ml)
A4: 1. SUPRAFEȚE PRINCIPALE
A5: Aria plan (Amprentă parter Ac) | B5: 350.84
A6: Perimetru plan exterior | C6: 88.62
A7: Pod / Terasă termoizolată | B7: 0
A8: Fațade total (arie brută) | B8: 0
A9: Fațade fără goluri (termosistem net) | B9: 0
A10: Soclu termoizolat cu XPS | B10: 0
A11: 2. FERESTRE & LOGII / BALCOANE
A12: Suprafață ferestre spații individuale (F SI) | B12: 0
A13: Suprafață ferestre & trafoare spații comune (F SC) | B13: 0
A14: Închidere balcoane cu tâmplărie PVC Tripan | B14: 0
A15: Glafuri exterioare aluminiu | C15: 0
A16: Glafuri interioare PVC | C16: 0
A17: Profil picurător + colțare ferestre | C17: 0
A18: Șpaleți ferestre (3 laturi) | C18: 0
A19: 3. UȘI EXTERIOARE ACCES
A20: Suprafață uși exterioare acces casă scară (U SC) | B20: 0
A21: Șpaleți uși exterioare (L + 2H) | C21: 0
A22: 4. ELEMENTE PERIMETRALE
A23: Profil picurător soclu | C23: 0
A24: Colțar exterior cu plasă fibră de sticlă | C24: 0
A25: Trotuar perimetral de protecție (l=1.00 m) | B25: 96.62
A26: 5. ELEMENTE PARAZITE FAȚADĂ (DEMONTARE / REMONTARE)
A27: Cabluri aparente pe fațadă (demontare + pozare în tub) | C27: 0
A28: Conducte gaze naturale aparente (distanțare + remontare) | C28: 0
A29: Unități exterioare AC & antene parazite (buc.) | B29: 0
